BEGIN:VCALENDAR
VERSION:2.0
PRODID:-//Carroll First Church - ECPv6.15.20//NONSGML v1.0//EN
CALSCALE:GREGORIAN
METHOD:PUBLISH
X-ORIGINAL-URL:http://carrollfirst.com
X-WR-CALDESC:Events for Carroll First Church
REFRESH-INTERVAL;VALUE=DURATION:PT1H
X-Robots-Tag:noindex
X-PUBLISHED-TTL:PT1H
BEGIN:VTIMEZONE
TZID:America/Chicago
BEGIN:DAYLIGHT
TZOFFSETFROM:-0600
TZOFFSETTO:-0500
TZNAME:CDT
DTSTART:20240310T080000
END:DAYLIGHT
BEGIN:STANDARD
TZOFFSETFROM:-0500
TZOFFSETTO:-0600
TZNAME:CST
DTSTART:20241103T070000
END:STANDARD
BEGIN:DAYLIGHT
TZOFFSETFROM:-0600
TZOFFSETTO:-0500
TZNAME:CDT
DTSTART:20250309T080000
END:DAYLIGHT
BEGIN:STANDARD
TZOFFSETFROM:-0500
TZOFFSETTO:-0600
TZNAME:CST
DTSTART:20251102T070000
END:STANDARD
BEGIN:DAYLIGHT
TZOFFSETFROM:-0600
TZOFFSETTO:-0500
TZNAME:CDT
DTSTART:20260308T080000
END:DAYLIGHT
BEGIN:STANDARD
TZOFFSETFROM:-0500
TZOFFSETTO:-0600
TZNAME:CST
DTSTART:20261101T070000
END:STANDARD
END:VTIMEZONE
BEGIN:VEVENT
DTSTART;TZID=America/Chicago:20250312T113000
DTEND;TZID=America/Chicago:20250312T123000
DTSTAMP:20260424T071043
CREATED:20250220T204409Z
LAST-MODIFIED:20250220T204409Z
UID:30607-1741779000-1741782600@carrollfirst.com
SUMMARY:Senior Lunch
DESCRIPTION:Join Pastor Dave\, Ashley\, and Craig for lunch!
URL:http://carrollfirst.com/event/senior-lunch-46/
LOCATION:Napoli’s\, 1205 Hwy 30\, Carroll\, IA\, 51401\, United States
END:VEVENT
BEGIN:VEVENT
DTSTART;TZID=America/Chicago:20250312T183000
DTEND;TZID=America/Chicago:20250312T200000
DTSTAMP:20260424T071043
CREATED:20250220T205822Z
LAST-MODIFIED:20250306T201107Z
UID:30620-1741804200-1741809600@carrollfirst.com
SUMMARY:Wednesday Night Activities
DESCRIPTION:Kids Connect( K-4) \n56’ers (5th & 6th grade) \nYouth Church (7-12) \nAdult Group – worship
URL:http://carrollfirst.com/event/wednesday-night-activities-52/
LOCATION:Discover Church\, 18632 U. S. Hwy 71\, Carroll\, IA\, 51401-8796\, United States
END:VEVENT
END:VCALENDAR