BEGIN:VCALENDAR
VERSION:2.0
PRODID:-//Carroll First Church - ECPv6.15.20//NONSGML v1.0//EN
CALSCALE:GREGORIAN
METHOD:PUBLISH
X-WR-CALNAME:Carroll First Church
X-ORIGINAL-URL:http://carrollfirst.com
X-WR-CALDESC:Events for Carroll First Church
REFRESH-INTERVAL;VALUE=DURATION:PT1H
X-Robots-Tag:noindex
X-PUBLISHED-TTL:PT1H
BEGIN:VTIMEZONE
TZID:America/Chicago
BEGIN:DAYLIGHT
TZOFFSETFROM:-0600
TZOFFSETTO:-0500
TZNAME:CDT
DTSTART:20220313T080000
END:DAYLIGHT
BEGIN:STANDARD
TZOFFSETFROM:-0500
TZOFFSETTO:-0600
TZNAME:CST
DTSTART:20221106T070000
END:STANDARD
BEGIN:DAYLIGHT
TZOFFSETFROM:-0600
TZOFFSETTO:-0500
TZNAME:CDT
DTSTART:20230312T080000
END:DAYLIGHT
BEGIN:STANDARD
TZOFFSETFROM:-0500
TZOFFSETTO:-0600
TZNAME:CST
DTSTART:20231105T070000
END:STANDARD
BEGIN:DAYLIGHT
TZOFFSETFROM:-0600
TZOFFSETTO:-0500
TZNAME:CDT
DTSTART:20240310T080000
END:DAYLIGHT
BEGIN:STANDARD
TZOFFSETFROM:-0500
TZOFFSETTO:-0600
TZNAME:CST
DTSTART:20241103T070000
END:STANDARD
END:VTIMEZONE
BEGIN:VEVENT
DTSTART;TZID=America/Chicago:20231115T183000
DTEND;TZID=America/Chicago:20231115T200000
DTSTAMP:20260425T080725
CREATED:20230922T171649Z
LAST-MODIFIED:20230922T171649Z
UID:30069-1700073000-1700078400@carrollfirst.com
SUMMARY:Wednesday Night Activities
DESCRIPTION:Kids Connect K-4 \n56’ers \nYouth Church 7-12
URL:http://carrollfirst.com/event/wednesday-night-activities-15/
LOCATION:Discover Church\, 18632 U. S. Hwy 71\, Carroll\, IA\, 51401-8796\, United States
END:VEVENT
BEGIN:VEVENT
DTSTART;TZID=America/Chicago:20231113T183000
DTEND;TZID=America/Chicago:20231113T200000
DTSTAMP:20260425T080725
CREATED:20231025T195249Z
LAST-MODIFIED:20231025T195249Z
UID:30228-1699900200-1699905600@carrollfirst.com
SUMMARY:Adult Bible Study
DESCRIPTION:In the Kid’s Study Room
URL:http://carrollfirst.com/event/adult-bible-study-7/
LOCATION:Discover Church\, 18632 U. S. Hwy 71\, Carroll\, IA\, 51401-8796\, United States
END:VEVENT
BEGIN:VEVENT
DTSTART;TZID=America/Chicago:20231108T183000
DTEND;TZID=America/Chicago:20231108T200000
DTSTAMP:20260425T080725
CREATED:20230922T171552Z
LAST-MODIFIED:20230922T171552Z
UID:30067-1699468200-1699473600@carrollfirst.com
SUMMARY:Wednesday Night Activities
DESCRIPTION:Kids Connect K-4 \n56’ers \nYouth Church 7-12
URL:http://carrollfirst.com/event/wednesday-night-activities-14/
LOCATION:Discover Church\, 18632 U. S. Hwy 71\, Carroll\, IA\, 51401-8796\, United States
END:VEVENT
BEGIN:VEVENT
DTSTART;TZID=America/Chicago:20231106T183000
DTEND;TZID=America/Chicago:20231106T200000
DTSTAMP:20260425T080725
CREATED:20231025T195219Z
LAST-MODIFIED:20231025T195219Z
UID:30226-1699295400-1699300800@carrollfirst.com
SUMMARY:Adult Bible Study
DESCRIPTION:In the Kid’s Study Room
URL:http://carrollfirst.com/event/adult-bible-study-6/
LOCATION:Discover Church\, 18632 U. S. Hwy 71\, Carroll\, IA\, 51401-8796\, United States
END:VEVENT
BEGIN:VEVENT
DTSTART;TZID=America/Chicago:20231105T180000
DTEND;TZID=America/Chicago:20231105T200000
DTSTAMP:20260425T080725
CREATED:20230928T183853Z
LAST-MODIFIED:20230928T183853Z
UID:30114-1699207200-1699214400@carrollfirst.com
SUMMARY:In-Home Small Groups
DESCRIPTION:The discussion and questions will be sermon based.  Join us for a time of encouragement\, prayer\, and fellowship.  
URL:http://carrollfirst.com/event/in-home-small-groups-2/
LOCATION:IA
END:VEVENT
BEGIN:VEVENT
DTSTART;TZID=America/Chicago:20231105T120000
DTEND;TZID=America/Chicago:20231105T123000
DTSTAMP:20260425T080725
CREATED:20231025T194830Z
LAST-MODIFIED:20231025T194830Z
UID:30218-1699185600-1699187400@carrollfirst.com
SUMMARY:Youth Bake Sale
DESCRIPTION:Fundraiser for Fall Youth Conference after the church service.
URL:http://carrollfirst.com/event/youth-bake-sale-2/
LOCATION:Discover Church\, 18632 U. S. Hwy 71\, Carroll\, IA\, 51401-8796\, United States
END:VEVENT
BEGIN:VEVENT
DTSTART;TZID=America/Chicago:20231101T183000
DTEND;TZID=America/Chicago:20231101T200000
DTSTAMP:20260425T080725
CREATED:20231025T172508Z
LAST-MODIFIED:20231025T172508Z
UID:30206-1698863400-1698868800@carrollfirst.com
SUMMARY:Family Bowling Night
DESCRIPTION:Family Bowling Night at Carroll Bowl
URL:http://carrollfirst.com/event/family-bowling-night-2/
LOCATION:Carroll Bowl\, 23688 Hwy 30\, Carroll\, 51401\, United States
END:VEVENT
BEGIN:VEVENT
DTSTART;TZID=America/Chicago:20231101T183000
DTEND;TZID=America/Chicago:20231101T200000
DTSTAMP:20260425T080725
CREATED:20230922T171517Z
LAST-MODIFIED:20230922T171517Z
UID:30065-1698863400-1698868800@carrollfirst.com
SUMMARY:Wednesday Night Activities
DESCRIPTION:Kids Connect K-4 \n56’ers \nYouth Church 7-12
URL:http://carrollfirst.com/event/wednesday-night-activities-13/
LOCATION:Discover Church\, 18632 U. S. Hwy 71\, Carroll\, IA\, 51401-8796\, United States
END:VEVENT
BEGIN:VEVENT
DTSTART;TZID=America/Chicago:20231030T183000
DTEND;TZID=America/Chicago:20231030T200000
DTSTAMP:20260425T080725
CREATED:20231025T195138Z
LAST-MODIFIED:20231025T195138Z
UID:30224-1698690600-1698696000@carrollfirst.com
SUMMARY:Adult Bible Study
DESCRIPTION:In the Kid’s Study Room
URL:http://carrollfirst.com/event/adult-bible-study-5/
LOCATION:Discover Church\, 18632 U. S. Hwy 71\, Carroll\, IA\, 51401-8796\, United States
END:VEVENT
BEGIN:VEVENT
DTSTART;TZID=America/Chicago:20231025T183000
DTEND;TZID=America/Chicago:20231025T200000
DTSTAMP:20260425T080725
CREATED:20230824T194623Z
LAST-MODIFIED:20230922T171244Z
UID:29947-1698258600-1698264000@carrollfirst.com
SUMMARY:Wednesday Night Activities
DESCRIPTION:Kids Connect K-4 \n56’ers \nYouth Church 7-12
URL:http://carrollfirst.com/event/wednesday-night-activities-11/
LOCATION:Discover Church\, 18632 U. S. Hwy 71\, Carroll\, IA\, 51401-8796\, United States
END:VEVENT
BEGIN:VEVENT
DTSTART;TZID=America/Chicago:20231023T183000
DTEND;TZID=America/Chicago:20231023T200000
DTSTAMP:20260425T080725
CREATED:20231025T195105Z
LAST-MODIFIED:20231025T195105Z
UID:30222-1698085800-1698091200@carrollfirst.com
SUMMARY:Adult Bible Study
DESCRIPTION:In the Kid’s Study Room
URL:http://carrollfirst.com/event/adult-bible-study-4/
LOCATION:Discover Church\, 18632 U. S. Hwy 71\, Carroll\, IA\, 51401-8796\, United States
END:VEVENT
BEGIN:VEVENT
DTSTART;TZID=America/Chicago:20231022T060000
DTEND;TZID=America/Chicago:20231022T200000
DTSTAMP:20260425T080725
CREATED:20230928T183730Z
LAST-MODIFIED:20230928T183730Z
UID:30111-1697954400-1698004800@carrollfirst.com
SUMMARY:In-Home Small Groups
DESCRIPTION:The discussion and questions will be sermon based.  Join us for a time of encouragement\, prayer\, and fellowship.  
URL:http://carrollfirst.com/event/in-home-small-groups/
LOCATION:IA
END:VEVENT
BEGIN:VEVENT
DTSTART;TZID=America/Chicago:20231018T183000
DTEND;TZID=America/Chicago:20231018T200000
DTSTAMP:20260425T080725
CREATED:20230907T204333Z
LAST-MODIFIED:20230922T171221Z
UID:29959-1697653800-1697659200@carrollfirst.com
SUMMARY:Wednesday Night Activities
DESCRIPTION:Kids Connect K-4 \n56’ers \nYouth Church 7-12
URL:http://carrollfirst.com/event/wednesday-night-activities-12/
LOCATION:Discover Church\, 18632 U. S. Hwy 71\, Carroll\, IA\, 51401-8796\, United States
END:VEVENT
BEGIN:VEVENT
DTSTART;TZID=America/Chicago:20231016T183000
DTEND;TZID=America/Chicago:20231016T200000
DTSTAMP:20260425T080725
CREATED:20231025T195023Z
LAST-MODIFIED:20231204T192105Z
UID:30220-1697481000-1697486400@carrollfirst.com
SUMMARY:Adult Bible Study
DESCRIPTION:In the Kid’s study room
URL:http://carrollfirst.com/event/adult-bible-study-3/
LOCATION:Discover Church\, 18632 U. S. Hwy 71\, Carroll\, IA\, 51401-8796\, United States
END:VEVENT
BEGIN:VEVENT
DTSTART;TZID=America/Chicago:20231015T103000
DTEND;TZID=America/Chicago:20231015T130000
DTSTAMP:20260425T080725
CREATED:20230824T193123Z
LAST-MODIFIED:20230824T193123Z
UID:29934-1697365800-1697374800@carrollfirst.com
SUMMARY:Church at the Park
DESCRIPTION:
URL:http://carrollfirst.com/event/church-at-the-park-3/
LOCATION:Swan Lake Eastside Shelter House\, Carroll\, IA\, 51401\, United States
END:VEVENT
BEGIN:VEVENT
DTSTART;TZID=America/Chicago:20231011T183000
DTEND;TZID=America/Chicago:20231011T200000
DTSTAMP:20260425T080725
CREATED:20230824T194417Z
LAST-MODIFIED:20230922T171201Z
UID:29943-1697049000-1697054400@carrollfirst.com
SUMMARY:Wednesday Night Activities
DESCRIPTION:Kids Connect K-4 \n56’ers \nYouth Church 7-12
URL:http://carrollfirst.com/event/wednesday-night-activities-10/
LOCATION:Discover Church\, 18632 U. S. Hwy 71\, Carroll\, IA\, 51401-8796\, United States
END:VEVENT
BEGIN:VEVENT
DTSTART;TZID=America/Chicago:20231009T183000
DTEND;TZID=America/Chicago:20231009T200000
DTSTAMP:20260425T080725
CREATED:20230928T184508Z
LAST-MODIFIED:20230928T184508Z
UID:30125-1696876200-1696881600@carrollfirst.com
SUMMARY:Adult Bible Study
DESCRIPTION:In the Kid’s study room
URL:http://carrollfirst.com/event/adult-bible-study-2/
LOCATION:Discover Church\, 18632 U. S. Hwy 71\, Carroll\, IA\, 51401-8796\, United States
END:VEVENT
BEGIN:VEVENT
DTSTART;TZID=America/Chicago:20231004T183000
DTEND;TZID=America/Chicago:20231004T200000
DTSTAMP:20260425T080725
CREATED:20230824T194301Z
LAST-MODIFIED:20230922T171140Z
UID:29941-1696444200-1696449600@carrollfirst.com
SUMMARY:Wednesday Night Activities
DESCRIPTION:Kids Connect K-4 \n56’ers \nYouth Church 7-12
URL:http://carrollfirst.com/event/wednesday-night-activities-9/
LOCATION:Discover Church\, 18632 U. S. Hwy 71\, Carroll\, IA\, 51401-8796\, United States
END:VEVENT
BEGIN:VEVENT
DTSTART;TZID=America/Chicago:20231002T183000
DTEND;TZID=America/Chicago:20231002T200000
DTSTAMP:20260425T080725
CREATED:20230928T184411Z
LAST-MODIFIED:20230928T184411Z
UID:30122-1696271400-1696276800@carrollfirst.com
SUMMARY:Adult Bible Study
DESCRIPTION:In the Kid’s study room
URL:http://carrollfirst.com/event/adult-bible-study/
LOCATION:Discover Church\, 18632 U. S. Hwy 71\, Carroll\, IA\, 51401-8796\, United States
END:VEVENT
BEGIN:VEVENT
DTSTART;TZID=America/Chicago:20230929T160000
DTEND;TZID=America/Chicago:20230930T160000
DTSTAMP:20260425T080725
CREATED:20230907T204137Z
LAST-MODIFIED:20230907T204137Z
UID:29956-1696003200-1696089600@carrollfirst.com
SUMMARY:Men's Retreat
DESCRIPTION:Men’s Retreat:  September 29th-30th at Sunstream Retreat Center \nFriday night starts at  4:00 PM and finishes Saturday afternoon at 2:00 PM. \nCost $50 and includes meals \nTalk to Pastor Dave about attending \n 
URL:http://carrollfirst.com/event/mens-retreat/
LOCATION:Sunstream Retreat Center
END:VEVENT
BEGIN:VEVENT
DTSTART;TZID=America/Chicago:20230927T190000
DTEND;TZID=America/Chicago:20230927T210000
DTSTAMP:20260425T080725
CREATED:20230922T170915Z
LAST-MODIFIED:20230922T170956Z
UID:30059-1695841200-1695848400@carrollfirst.com
SUMMARY:Youth Church - Bowling
DESCRIPTION:Youth church will meet at the Carroll Bowl  to bowl with other Youth Groups.  Drop off and pick up at the Carroll Bowl.
URL:http://carrollfirst.com/event/youth-church-bowling/
LOCATION:Carroll Bowl\, 23688 Hwy 30\, Carroll\, 51401\, United States
END:VEVENT
BEGIN:VEVENT
DTSTART;TZID=America/Chicago:20230927T183000
DTEND;TZID=America/Chicago:20230927T200000
DTSTAMP:20260425T080725
CREATED:20230824T194201Z
LAST-MODIFIED:20230922T170750Z
UID:29938-1695839400-1695844800@carrollfirst.com
SUMMARY:Wednesday Night Activities
DESCRIPTION:Kids Connect K-4 \n56’ers \nRegular time at the church
URL:http://carrollfirst.com/event/wednesday-night-activities-8/
LOCATION:Discover Church\, 18632 U. S. Hwy 71\, Carroll\, IA\, 51401-8796\, United States
END:VEVENT
BEGIN:VEVENT
DTSTART;TZID=America/Chicago:20230920T183000
DTEND;TZID=America/Chicago:20230920T200000
DTSTAMP:20260425T080725
CREATED:20230824T194055Z
LAST-MODIFIED:20230824T194221Z
UID:29936-1695234600-1695240000@carrollfirst.com
SUMMARY:Wednesday Night Activities
DESCRIPTION:Youth Church \nKids Connect
URL:http://carrollfirst.com/event/wednesday-night-activities-7/
LOCATION:Discover Church\, 18632 U. S. Hwy 71\, Carroll\, IA\, 51401-8796\, United States
END:VEVENT
BEGIN:VEVENT
DTSTART;TZID=America/Chicago:20230920T113000
DTEND;TZID=America/Chicago:20230920T123000
DTSTAMP:20260425T080725
CREATED:20230824T193043Z
LAST-MODIFIED:20230824T193043Z
UID:29932-1695209400-1695213000@carrollfirst.com
SUMMARY:Senior Lunch
DESCRIPTION:Join Pastor Dave for lunch!
URL:http://carrollfirst.com/event/senior-lunch-32/
LOCATION:Ski’s Sandwich Shop\, 127 5th St.\, Carroll\, IA\, 51401\, United States
END:VEVENT
BEGIN:VEVENT
DTSTART;TZID=America/Chicago:20230917T120000
DTEND;TZID=America/Chicago:20230917T130000
DTSTAMP:20260425T080725
CREATED:20230824T192951Z
LAST-MODIFIED:20230824T192951Z
UID:29930-1694952000-1694955600@carrollfirst.com
SUMMARY:Missions Support Lunch
DESCRIPTION:
URL:http://carrollfirst.com/event/missions-support-lunch/
LOCATION:Discover Church\, 18632 U. S. Hwy 71\, Carroll\, IA\, 51401-8796\, United States
END:VEVENT
BEGIN:VEVENT
DTSTART;TZID=America/Chicago:20230913T183000
DTEND;TZID=America/Chicago:20230913T200000
DTSTAMP:20260425T080725
CREATED:20230803T193844Z
LAST-MODIFIED:20230803T193844Z
UID:29914-1694629800-1694635200@carrollfirst.com
SUMMARY:Wednesday Night Activities
DESCRIPTION:Wednesday night activities start back up!
URL:http://carrollfirst.com/event/wednesday-night-activities-6/
LOCATION:Discover Church\, 18632 U. S. Hwy 71\, Carroll\, IA\, 51401-8796\, United States
END:VEVENT
BEGIN:VEVENT
DTSTART;TZID=America/Chicago:20230827T190000
DTEND;TZID=America/Chicago:20230827T200000
DTSTAMP:20260425T080725
CREATED:20230824T192858Z
LAST-MODIFIED:20230824T192858Z
UID:29927-1693162800-1693166400@carrollfirst.com
SUMMARY:Inspire Our Schools Prayer Event
DESCRIPTION:Inspire Our Schools Prayer Event – This is an annual event in which members of the community are invited to lift up Christian prayers of blessing & dedication over all of the schools in their district.  This event happens once a year\, on one night\, simultaneously at every participating school.  \n\n 
URL:http://carrollfirst.com/event/inspire-our-schools-prayer-event/
LOCATION:Discover Church\, 18632 U. S. Hwy 71\, Carroll\, IA\, 51401-8796\, United States
END:VEVENT
BEGIN:VEVENT
DTSTART;TZID=America/Chicago:20230820T103000
DTEND;TZID=America/Chicago:20230820T120000
DTSTAMP:20260425T080725
CREATED:20230809T184910Z
LAST-MODIFIED:20230809T184910Z
UID:29922-1692527400-1692532800@carrollfirst.com
SUMMARY:Special Guest Missionaries
DESCRIPTION:
URL:http://carrollfirst.com/event/special-guest-missionaries/
LOCATION:Discover Church\, 18632 U. S. Hwy 71\, Carroll\, IA\, 51401-8796\, United States
END:VEVENT
BEGIN:VEVENT
DTSTART;TZID=America/Chicago:20230809T113000
DTEND;TZID=America/Chicago:20230809T123000
DTSTAMP:20260425T080725
CREATED:20230803T193712Z
LAST-MODIFIED:20230803T193712Z
UID:29909-1691580600-1691584200@carrollfirst.com
SUMMARY:Senior Lunch
DESCRIPTION:Join Pastor Dave for lunch!
URL:http://carrollfirst.com/event/senior-lunch-31/
LOCATION:Napoli’s\, 1205 Hwy 30\, Carroll\, IA\, 51401\, United States
END:VEVENT
BEGIN:VEVENT
DTSTART;TZID=America/Chicago:20230806T113000
DTEND;TZID=America/Chicago:20230806T123000
DTSTAMP:20260425T080725
CREATED:20230803T193425Z
LAST-MODIFIED:20230803T193425Z
UID:29907-1691321400-1691325000@carrollfirst.com
SUMMARY:Farewell Reception
DESCRIPTION:for the Perkeys.
URL:http://carrollfirst.com/event/farewell-reception/
LOCATION:Discover Church\, 18632 U. S. Hwy 71\, Carroll\, IA\, 51401-8796\, United States
END:VEVENT
END:VCALENDAR