BEGIN:VCALENDAR
VERSION:2.0
PRODID:-//Carroll First Church - ECPv6.15.20//NONSGML v1.0//EN
CALSCALE:GREGORIAN
METHOD:PUBLISH
X-WR-CALNAME:Carroll First Church
X-ORIGINAL-URL:http://carrollfirst.com
X-WR-CALDESC:Events for Carroll First Church
REFRESH-INTERVAL;VALUE=DURATION:PT1H
X-Robots-Tag:noindex
X-PUBLISHED-TTL:PT1H
BEGIN:VTIMEZONE
TZID:America/Chicago
BEGIN:DAYLIGHT
TZOFFSETFROM:-0600
TZOFFSETTO:-0500
TZNAME:CDT
DTSTART:20200308T080000
END:DAYLIGHT
BEGIN:STANDARD
TZOFFSETFROM:-0500
TZOFFSETTO:-0600
TZNAME:CST
DTSTART:20201101T070000
END:STANDARD
BEGIN:DAYLIGHT
TZOFFSETFROM:-0600
TZOFFSETTO:-0500
TZNAME:CDT
DTSTART:20210314T080000
END:DAYLIGHT
BEGIN:STANDARD
TZOFFSETFROM:-0500
TZOFFSETTO:-0600
TZNAME:CST
DTSTART:20211107T070000
END:STANDARD
BEGIN:DAYLIGHT
TZOFFSETFROM:-0600
TZOFFSETTO:-0500
TZNAME:CDT
DTSTART:20220313T080000
END:DAYLIGHT
BEGIN:STANDARD
TZOFFSETFROM:-0500
TZOFFSETTO:-0600
TZNAME:CST
DTSTART:20221106T070000
END:STANDARD
BEGIN:DAYLIGHT
TZOFFSETFROM:-0600
TZOFFSETTO:-0500
TZNAME:CDT
DTSTART:20230312T080000
END:DAYLIGHT
BEGIN:STANDARD
TZOFFSETFROM:-0500
TZOFFSETTO:-0600
TZNAME:CST
DTSTART:20231105T070000
END:STANDARD
END:VTIMEZONE
BEGIN:VEVENT
DTSTART;TZID=America/Chicago:20220323T183000
DTEND;TZID=America/Chicago:20220323T194500
DTSTAMP:20260425T221228
CREATED:20220203T182741Z
LAST-MODIFIED:20220203T182741Z
UID:29456-1648060200-1648064700@carrollfirst.com
SUMMARY:Wednesday Night Kid Activities
DESCRIPTION:Kid Activities  (1- 5 grade) \nYouth Church  (6 –  12 grade)
URL:http://carrollfirst.com/event/wednesday-night-kid-activities-29/
LOCATION:Discover Church\, 18632 U. S. Hwy 71\, Carroll\, IA\, 51401-8796\, United States
END:VEVENT
BEGIN:VEVENT
DTSTART;TZID=America/Chicago:20220323T183000
DTEND;TZID=America/Chicago:20220323T194500
DTSTAMP:20260425T221228
CREATED:20220106T202258Z
LAST-MODIFIED:20220106T202258Z
UID:29431-1648060200-1648064700@carrollfirst.com
SUMMARY:Adult Wednesday Class
DESCRIPTION:“The Good Life” by Derwin Gray on the teaching of Beatitudes \n8 week series
URL:http://carrollfirst.com/event/adult-wednesday-class-7/
LOCATION:Discover Church\, 18632 U. S. Hwy 71\, Carroll\, IA\, 51401-8796\, United States
END:VEVENT
BEGIN:VEVENT
DTSTART;TZID=America/Chicago:20220320T120000
DTEND;TZID=America/Chicago:20220320T133000
DTSTAMP:20260425T221228
CREATED:20220217T184755Z
LAST-MODIFIED:20220217T184755Z
UID:29473-1647777600-1647783000@carrollfirst.com
SUMMARY:New Membership Class
DESCRIPTION:Lunch Provided \n 
URL:http://carrollfirst.com/event/new-membership-class/
LOCATION:Discover Church\, 18632 U. S. Hwy 71\, Carroll\, IA\, 51401-8796\, United States
END:VEVENT
BEGIN:VEVENT
DTSTART;TZID=America/Chicago:20220316T183000
DTEND;TZID=America/Chicago:20220316T194500
DTSTAMP:20260425T221228
CREATED:20220203T182604Z
LAST-MODIFIED:20220203T182604Z
UID:29454-1647455400-1647459900@carrollfirst.com
SUMMARY:Wednesday Night Kid Activities
DESCRIPTION:Kid Activities  (1- 5 grade) \nYouth Church  (6 –  12 grade)
URL:http://carrollfirst.com/event/wednesday-night-kid-activities-28/
LOCATION:Discover Church\, 18632 U. S. Hwy 71\, Carroll\, IA\, 51401-8796\, United States
END:VEVENT
BEGIN:VEVENT
DTSTART;TZID=America/Chicago:20220316T183000
DTEND;TZID=America/Chicago:20220316T194500
DTSTAMP:20260425T221228
CREATED:20220106T202210Z
LAST-MODIFIED:20220106T202210Z
UID:29429-1647455400-1647459900@carrollfirst.com
SUMMARY:Adult Wednesday Class
DESCRIPTION:“The Good Life” by Derwin Gray on the teaching of Beatitudes \n8 week series
URL:http://carrollfirst.com/event/adult-wednesday-class-6/
LOCATION:Discover Church\, 18632 U. S. Hwy 71\, Carroll\, IA\, 51401-8796\, United States
END:VEVENT
BEGIN:VEVENT
DTSTART;TZID=America/Chicago:20220309T183000
DTEND;TZID=America/Chicago:20220309T194500
DTSTAMP:20260425T221228
CREATED:20220203T182510Z
LAST-MODIFIED:20220223T200403Z
UID:29452-1646850600-1646855100@carrollfirst.com
SUMMARY:NO Wednesday Night Kid Activities
DESCRIPTION:Kid Activities  (1-5 grade) \nYouth Church  (6 – 12 grade)
URL:http://carrollfirst.com/event/wednesday-night-kid-activities-27/
LOCATION:Discover Church\, 18632 U. S. Hwy 71\, Carroll\, IA\, 51401-8796\, United States
END:VEVENT
BEGIN:VEVENT
DTSTART;TZID=America/Chicago:20220309T183000
DTEND;TZID=America/Chicago:20220309T194500
DTSTAMP:20260425T221228
CREATED:20220106T202117Z
LAST-MODIFIED:20220106T202117Z
UID:29427-1646850600-1646855100@carrollfirst.com
SUMMARY:Adult Wednesday Class
DESCRIPTION:“The Good Life” by Derwin Gray on the teaching of Beatitudes \n8 week series
URL:http://carrollfirst.com/event/adult-wednesday-class-5/
LOCATION:Discover Church\, 18632 U. S. Hwy 71\, Carroll\, IA\, 51401-8796\, United States
END:VEVENT
BEGIN:VEVENT
DTSTART;TZID=America/Chicago:20220302T183000
DTEND;TZID=America/Chicago:20220302T194500
DTSTAMP:20260425T221228
CREATED:20220203T182408Z
LAST-MODIFIED:20220203T182408Z
UID:29450-1646245800-1646250300@carrollfirst.com
SUMMARY:Wednesday Night Kid Activities
DESCRIPTION:Kid Activities  (1- 5 grade) \nYouth Church  (6 –  12 grade)
URL:http://carrollfirst.com/event/wednesday-night-kid-activities-26/
LOCATION:Discover Church\, 18632 U. S. Hwy 71\, Carroll\, IA\, 51401-8796\, United States
END:VEVENT
BEGIN:VEVENT
DTSTART;TZID=America/Chicago:20220302T183000
DTEND;TZID=America/Chicago:20220302T194500
DTSTAMP:20260425T221228
CREATED:20220106T201855Z
LAST-MODIFIED:20220106T202031Z
UID:29424-1646245800-1646250300@carrollfirst.com
SUMMARY:Adult Wednesday Class
DESCRIPTION:“The Good Life” by Derwin Gray on the teaching of Beatitudes \n8 week series
URL:http://carrollfirst.com/event/adult-wednesday-class-4/
LOCATION:Discover Church\, 18632 U. S. Hwy 71\, Carroll\, IA\, 51401-8796\, United States
END:VEVENT
BEGIN:VEVENT
DTSTART;TZID=America/Chicago:20220225T160000
DTEND;TZID=America/Chicago:20220227T120000
DTSTAMP:20260425T221228
CREATED:20220207T210147Z
LAST-MODIFIED:20220207T210147Z
UID:29468-1645804800-1645963200@carrollfirst.com
SUMMARY:Youth Winter Retreat
DESCRIPTION:
URL:http://carrollfirst.com/event/youth-winter-retreat/
LOCATION:IA
END:VEVENT
BEGIN:VEVENT
DTSTART;TZID=America/Chicago:20220223T183000
DTEND;TZID=America/Chicago:20220223T194500
DTSTAMP:20260425T221228
CREATED:20220203T182301Z
LAST-MODIFIED:20220203T182301Z
UID:29448-1645641000-1645645500@carrollfirst.com
SUMMARY:Wednesday Night Kid Activities
DESCRIPTION:Kid Activities  (1- 5 grade) \nYouth Church  (6 –  12 grade)
URL:http://carrollfirst.com/event/wednesday-night-kid-activities-25/
LOCATION:Discover Church\, 18632 U. S. Hwy 71\, Carroll\, IA\, 51401-8796\, United States
END:VEVENT
BEGIN:VEVENT
DTSTART;TZID=America/Chicago:20220223T183000
DTEND;TZID=America/Chicago:20220223T194500
DTSTAMP:20260425T221228
CREATED:20220106T201820Z
LAST-MODIFIED:20220106T201820Z
UID:29422-1645641000-1645645500@carrollfirst.com
SUMMARY:Adult Wednesday Class
DESCRIPTION:“The Good Life” by Derwin Gray on the teaching of Beatitudes \n8 week series
URL:http://carrollfirst.com/event/adult-wednesday-class-3/
LOCATION:Discover Church\, 18632 U. S. Hwy 71\, Carroll\, IA\, 51401-8796\, United States
END:VEVENT
BEGIN:VEVENT
DTSTART;TZID=America/Chicago:20220223T113000
DTEND;TZID=America/Chicago:20220223T123000
DTSTAMP:20260425T221228
CREATED:20220207T210326Z
LAST-MODIFIED:20220207T210326Z
UID:29470-1645615800-1645619400@carrollfirst.com
SUMMARY:Senior Lunch
DESCRIPTION:Join Pastor Dave for tacos at the church in the gym.
URL:http://carrollfirst.com/event/senior-lunch-18/
LOCATION:Discover Church\, 18632 U. S. Hwy 71\, Carroll\, IA\, 51401-8796\, United States
END:VEVENT
BEGIN:VEVENT
DTSTART;TZID=America/Chicago:20220220T120000
DTEND;TZID=America/Chicago:20220220T130000
DTSTAMP:20260425T221228
CREATED:20220126T174613Z
LAST-MODIFIED:20220126T174839Z
UID:29438-1645358400-1645362000@carrollfirst.com
SUMMARY:Church Annual Meeting
DESCRIPTION:The Church Annual Meeting will after the church service.
URL:http://carrollfirst.com/event/church-annual-meeting/
LOCATION:Discover Church\, 18632 U. S. Hwy 71\, Carroll\, IA\, 51401-8796\, United States
END:VEVENT
BEGIN:VEVENT
DTSTART;TZID=America/Chicago:20220216T183000
DTEND;TZID=America/Chicago:20220216T194500
DTSTAMP:20260425T221228
CREATED:20220203T172503Z
LAST-MODIFIED:20220203T181859Z
UID:29441-1645036200-1645040700@carrollfirst.com
SUMMARY:Wednesday Night Kid Activities
DESCRIPTION:Kid Activities  (1- grade) \nYouth Church  (6 –  12 grade)
URL:http://carrollfirst.com/event/wednesday-night-kid-activities-23/
LOCATION:Discover Church\, 18632 U. S. Hwy 71\, Carroll\, IA\, 51401-8796\, United States
END:VEVENT
BEGIN:VEVENT
DTSTART;TZID=America/Chicago:20220216T183000
DTEND;TZID=America/Chicago:20220216T194500
DTSTAMP:20260425T221228
CREATED:20220106T201559Z
LAST-MODIFIED:20220106T201559Z
UID:29408-1645036200-1645040700@carrollfirst.com
SUMMARY:Adult Wednesday Class
DESCRIPTION:“The Good Life” by Derwin Gray on the teaching of Beatitudes \n8 week series
URL:http://carrollfirst.com/event/adult-wednesday-class-2/
LOCATION:IA
END:VEVENT
BEGIN:VEVENT
DTSTART;TZID=America/Chicago:20220209T183000
DTEND;TZID=America/Chicago:20220209T194500
DTSTAMP:20260425T221228
CREATED:20220203T172708Z
LAST-MODIFIED:20220203T181717Z
UID:29443-1644431400-1644435900@carrollfirst.com
SUMMARY:Wednesday Night Kid Activities
DESCRIPTION:Kids Activities (1 – 5 grade) \nYouth Church  (6 –  12 grade)
URL:http://carrollfirst.com/event/wednesday-night-kid-activities-24/
LOCATION:Discover Church\, 18632 U. S. Hwy 71\, Carroll\, IA\, 51401-8796\, United States
END:VEVENT
BEGIN:VEVENT
DTSTART;TZID=America/Chicago:20220209T183000
DTEND;TZID=America/Chicago:20220209T194500
DTSTAMP:20260425T221228
CREATED:20220106T201258Z
LAST-MODIFIED:20220106T201258Z
UID:29399-1644431400-1644435900@carrollfirst.com
SUMMARY:Adult Wednesday Class
DESCRIPTION:“The Good Life” by Derwin Gray on the teaching of Beatitudes \n8 week series
URL:http://carrollfirst.com/event/adult-wednesday-class/
LOCATION:Discover Church\, 18632 U. S. Hwy 71\, Carroll\, IA\, 51401-8796\, United States
END:VEVENT
BEGIN:VEVENT
DTSTART;TZID=America/Chicago:20220206T120000
DTEND;TZID=America/Chicago:20220206T130000
DTSTAMP:20260425T221228
CREATED:20220126T174438Z
LAST-MODIFIED:20220126T174438Z
UID:29436-1644148800-1644152400@carrollfirst.com
SUMMARY:Kid's Volunteer Meeting
DESCRIPTION:All Kid’s volunteers will have a quick meeting after church on February 6th. Lunch will be provided while some important topics are discussed.  Please text or call Michaela if you can go (515-783-8550)\n\n 
URL:http://carrollfirst.com/event/kids-volunteer-meeting/
LOCATION:Discover Church\, 18632 U. S. Hwy 71\, Carroll\, IA\, 51401-8796\, United States
END:VEVENT
BEGIN:VEVENT
DTSTART;TZID=America/Chicago:20220202T183000
DTEND;TZID=America/Chicago:20220202T194500
DTSTAMP:20260425T221228
CREATED:20220106T201106Z
LAST-MODIFIED:20220106T201948Z
UID:29397-1643826600-1643831100@carrollfirst.com
SUMMARY:Adult Wednesday Class
DESCRIPTION:“The Good Life” by Derwin Gray on the teaching of Beatitudes \n8 week series
URL:http://carrollfirst.com/event/wednesday-adult-class/
LOCATION:IA
END:VEVENT
BEGIN:VEVENT
DTSTART;TZID=America/Chicago:20220202T113000
DTEND;TZID=America/Chicago:20220202T123000
DTSTAMP:20260425T221228
CREATED:20211230T194022Z
LAST-MODIFIED:20220126T163850Z
UID:29379-1643801400-1643805000@carrollfirst.com
SUMMARY:Senior Lunch
DESCRIPTION:Join Pastor Dave for lunch at The Family Table.
URL:http://carrollfirst.com/event/senior-lunch-17/
LOCATION:IA
END:VEVENT
BEGIN:VEVENT
DTSTART;TZID=America/Chicago:20220112T183000
DTEND;TZID=America/Chicago:20220112T194500
DTSTAMP:20260425T221228
CREATED:20211230T194417Z
LAST-MODIFIED:20211230T194417Z
UID:29385-1642012200-1642016700@carrollfirst.com
SUMMARY:Youth Whiteout Christmas Party
DESCRIPTION:White Elephant Gift Exchange and Dinner
URL:http://carrollfirst.com/event/youth-whiteout-christmas-party/
LOCATION:Discover Church\, 18632 U. S. Hwy 71\, Carroll\, IA\, 51401-8796\, United States
END:VEVENT
BEGIN:VEVENT
DTSTART;TZID=America/Chicago:20220112T183000
DTEND;TZID=America/Chicago:20220112T194500
DTSTAMP:20260425T221228
CREATED:20211230T194211Z
LAST-MODIFIED:20211230T194251Z
UID:29383-1642012200-1642016700@carrollfirst.com
SUMMARY:Wednesday Night Youth Kick Off!
DESCRIPTION:
URL:http://carrollfirst.com/event/wednesday-night-youth-kick-off/
LOCATION:IA
END:VEVENT
BEGIN:VEVENT
DTSTART;TZID=America/Chicago:20220109T120000
DTEND;TZID=America/Chicago:20220109T130000
DTSTAMP:20260425T221228
CREATED:20211230T194543Z
LAST-MODIFIED:20211230T194543Z
UID:29387-1641729600-1641733200@carrollfirst.com
SUMMARY:El Salvador Missions Trip Inquiry Meeting
DESCRIPTION:Meeting will be after the service in the Youth room.
URL:http://carrollfirst.com/event/el-salvador-missions-trip-inquiry-meeting/
LOCATION:IA
END:VEVENT
BEGIN:VEVENT
DTSTART;TZID=America/Chicago:20220105T080000
DTEND;TZID=America/Chicago:20220105T170000
DTSTAMP:20260425T221228
CREATED:20211230T194049Z
LAST-MODIFIED:20211230T194049Z
UID:29381-1641369600-1641402000@carrollfirst.com
SUMMARY:NO Activities
DESCRIPTION:
URL:http://carrollfirst.com/event/no-activities/
LOCATION:IA
END:VEVENT
BEGIN:VEVENT
DTSTART;TZID=America/Chicago:20211224T170000
DTEND;TZID=America/Chicago:20211224T180000
DTSTAMP:20260425T221228
CREATED:20211203T183307Z
LAST-MODIFIED:20211203T183307Z
UID:29366-1640365200-1640368800@carrollfirst.com
SUMMARY:Christmas Eve Service
DESCRIPTION:Join us for our Christmas Eve Candlelight Service at the church.
URL:http://carrollfirst.com/event/christmas-eve-service-4/
LOCATION:IA
END:VEVENT
BEGIN:VEVENT
DTSTART;TZID=America/Chicago:20211219T103000
DTEND;TZID=America/Chicago:20211219T120000
DTSTAMP:20260425T221228
CREATED:20211203T183816Z
LAST-MODIFIED:20211203T183929Z
UID:29368-1639909800-1639915200@carrollfirst.com
SUMMARY:Kid's Christmas Program
DESCRIPTION:Kid’s Christmas Program during the morning church service.
URL:http://carrollfirst.com/event/christmas-programs/
LOCATION:IA
END:VEVENT
BEGIN:VEVENT
DTSTART;TZID=America/Chicago:20211217T183000
DTEND;TZID=America/Chicago:20211217T203000
DTSTAMP:20260425T221228
CREATED:20211118T194726Z
LAST-MODIFIED:20211118T194726Z
UID:29358-1639765800-1639773000@carrollfirst.com
SUMMARY:Ladies Christmas Ornament Exchange
DESCRIPTION:
URL:http://carrollfirst.com/event/ladies-christmas-ornament-exchange-2/
LOCATION:IA
END:VEVENT
BEGIN:VEVENT
DTSTART;TZID=America/Chicago:20211215T183000
DTEND;TZID=America/Chicago:20211215T194500
DTSTAMP:20260425T221228
CREATED:20211118T194544Z
LAST-MODIFIED:20211118T194544Z
UID:29354-1639593000-1639597500@carrollfirst.com
SUMMARY:Adult Wednesday Night Bible Study
DESCRIPTION:Because of Bethlehem by Max Lucado
URL:http://carrollfirst.com/event/adult-wednesday-night-bible-study-3/
LOCATION:IA
END:VEVENT
BEGIN:VEVENT
DTSTART;TZID=America/Chicago:20211215T113000
DTEND;TZID=America/Chicago:20211215T123000
DTSTAMP:20260425T221228
CREATED:20211203T183108Z
LAST-MODIFIED:20211203T183108Z
UID:29364-1639567800-1639571400@carrollfirst.com
SUMMARY:Senior Lunch
DESCRIPTION:Join Pastor Dave for lunch in the gym at the church
URL:http://carrollfirst.com/event/senior-lunch-16/
LOCATION:IA
END:VEVENT
END:VCALENDAR