BEGIN:VCALENDAR
VERSION:2.0
PRODID:-//Carroll First Church - ECPv6.15.20//NONSGML v1.0//EN
CALSCALE:GREGORIAN
METHOD:PUBLISH
X-WR-CALNAME:Carroll First Church
X-ORIGINAL-URL:http://carrollfirst.com
X-WR-CALDESC:Events for Carroll First Church
REFRESH-INTERVAL;VALUE=DURATION:PT1H
X-Robots-Tag:noindex
X-PUBLISHED-TTL:PT1H
BEGIN:VTIMEZONE
TZID:America/Chicago
BEGIN:DAYLIGHT
TZOFFSETFROM:-0600
TZOFFSETTO:-0500
TZNAME:CDT
DTSTART:20200308T080000
END:DAYLIGHT
BEGIN:STANDARD
TZOFFSETFROM:-0500
TZOFFSETTO:-0600
TZNAME:CST
DTSTART:20201101T070000
END:STANDARD
BEGIN:DAYLIGHT
TZOFFSETFROM:-0600
TZOFFSETTO:-0500
TZNAME:CDT
DTSTART:20210314T080000
END:DAYLIGHT
BEGIN:STANDARD
TZOFFSETFROM:-0500
TZOFFSETTO:-0600
TZNAME:CST
DTSTART:20211107T070000
END:STANDARD
BEGIN:DAYLIGHT
TZOFFSETFROM:-0600
TZOFFSETTO:-0500
TZNAME:CDT
DTSTART:20220313T080000
END:DAYLIGHT
BEGIN:STANDARD
TZOFFSETFROM:-0500
TZOFFSETTO:-0600
TZNAME:CST
DTSTART:20221106T070000
END:STANDARD
BEGIN:DAYLIGHT
TZOFFSETFROM:-0600
TZOFFSETTO:-0500
TZNAME:CDT
DTSTART:20230312T080000
END:DAYLIGHT
BEGIN:STANDARD
TZOFFSETFROM:-0500
TZOFFSETTO:-0600
TZNAME:CST
DTSTART:20231105T070000
END:STANDARD
END:VTIMEZONE
BEGIN:VEVENT
DTSTART;TZID=America/Chicago:20220206T120000
DTEND;TZID=America/Chicago:20220206T130000
DTSTAMP:20260425T201901
CREATED:20220126T174438Z
LAST-MODIFIED:20220126T174438Z
UID:29436-1644148800-1644152400@carrollfirst.com
SUMMARY:Kid's Volunteer Meeting
DESCRIPTION:All Kid’s volunteers will have a quick meeting after church on February 6th. Lunch will be provided while some important topics are discussed.  Please text or call Michaela if you can go (515-783-8550)\n\n 
URL:http://carrollfirst.com/event/kids-volunteer-meeting/
LOCATION:Discover Church\, 18632 U. S. Hwy 71\, Carroll\, IA\, 51401-8796\, United States
END:VEVENT
BEGIN:VEVENT
DTSTART;TZID=America/Chicago:20220202T183000
DTEND;TZID=America/Chicago:20220202T194500
DTSTAMP:20260425T201901
CREATED:20220106T201106Z
LAST-MODIFIED:20220106T201948Z
UID:29397-1643826600-1643831100@carrollfirst.com
SUMMARY:Adult Wednesday Class
DESCRIPTION:“The Good Life” by Derwin Gray on the teaching of Beatitudes \n8 week series
URL:http://carrollfirst.com/event/wednesday-adult-class/
LOCATION:IA
END:VEVENT
BEGIN:VEVENT
DTSTART;TZID=America/Chicago:20220202T113000
DTEND;TZID=America/Chicago:20220202T123000
DTSTAMP:20260425T201901
CREATED:20211230T194022Z
LAST-MODIFIED:20220126T163850Z
UID:29379-1643801400-1643805000@carrollfirst.com
SUMMARY:Senior Lunch
DESCRIPTION:Join Pastor Dave for lunch at The Family Table.
URL:http://carrollfirst.com/event/senior-lunch-17/
LOCATION:IA
END:VEVENT
BEGIN:VEVENT
DTSTART;TZID=America/Chicago:20220112T183000
DTEND;TZID=America/Chicago:20220112T194500
DTSTAMP:20260425T201901
CREATED:20211230T194417Z
LAST-MODIFIED:20211230T194417Z
UID:29385-1642012200-1642016700@carrollfirst.com
SUMMARY:Youth Whiteout Christmas Party
DESCRIPTION:White Elephant Gift Exchange and Dinner
URL:http://carrollfirst.com/event/youth-whiteout-christmas-party/
LOCATION:Discover Church\, 18632 U. S. Hwy 71\, Carroll\, IA\, 51401-8796\, United States
END:VEVENT
BEGIN:VEVENT
DTSTART;TZID=America/Chicago:20220112T183000
DTEND;TZID=America/Chicago:20220112T194500
DTSTAMP:20260425T201901
CREATED:20211230T194211Z
LAST-MODIFIED:20211230T194251Z
UID:29383-1642012200-1642016700@carrollfirst.com
SUMMARY:Wednesday Night Youth Kick Off!
DESCRIPTION:
URL:http://carrollfirst.com/event/wednesday-night-youth-kick-off/
LOCATION:IA
END:VEVENT
BEGIN:VEVENT
DTSTART;TZID=America/Chicago:20220109T120000
DTEND;TZID=America/Chicago:20220109T130000
DTSTAMP:20260425T201901
CREATED:20211230T194543Z
LAST-MODIFIED:20211230T194543Z
UID:29387-1641729600-1641733200@carrollfirst.com
SUMMARY:El Salvador Missions Trip Inquiry Meeting
DESCRIPTION:Meeting will be after the service in the Youth room.
URL:http://carrollfirst.com/event/el-salvador-missions-trip-inquiry-meeting/
LOCATION:IA
END:VEVENT
BEGIN:VEVENT
DTSTART;TZID=America/Chicago:20220105T080000
DTEND;TZID=America/Chicago:20220105T170000
DTSTAMP:20260425T201901
CREATED:20211230T194049Z
LAST-MODIFIED:20211230T194049Z
UID:29381-1641369600-1641402000@carrollfirst.com
SUMMARY:NO Activities
DESCRIPTION:
URL:http://carrollfirst.com/event/no-activities/
LOCATION:IA
END:VEVENT
BEGIN:VEVENT
DTSTART;TZID=America/Chicago:20211224T170000
DTEND;TZID=America/Chicago:20211224T180000
DTSTAMP:20260425T201901
CREATED:20211203T183307Z
LAST-MODIFIED:20211203T183307Z
UID:29366-1640365200-1640368800@carrollfirst.com
SUMMARY:Christmas Eve Service
DESCRIPTION:Join us for our Christmas Eve Candlelight Service at the church.
URL:http://carrollfirst.com/event/christmas-eve-service-4/
LOCATION:IA
END:VEVENT
BEGIN:VEVENT
DTSTART;TZID=America/Chicago:20211219T103000
DTEND;TZID=America/Chicago:20211219T120000
DTSTAMP:20260425T201901
CREATED:20211203T183816Z
LAST-MODIFIED:20211203T183929Z
UID:29368-1639909800-1639915200@carrollfirst.com
SUMMARY:Kid's Christmas Program
DESCRIPTION:Kid’s Christmas Program during the morning church service.
URL:http://carrollfirst.com/event/christmas-programs/
LOCATION:IA
END:VEVENT
BEGIN:VEVENT
DTSTART;TZID=America/Chicago:20211217T183000
DTEND;TZID=America/Chicago:20211217T203000
DTSTAMP:20260425T201901
CREATED:20211118T194726Z
LAST-MODIFIED:20211118T194726Z
UID:29358-1639765800-1639773000@carrollfirst.com
SUMMARY:Ladies Christmas Ornament Exchange
DESCRIPTION:
URL:http://carrollfirst.com/event/ladies-christmas-ornament-exchange-2/
LOCATION:IA
END:VEVENT
BEGIN:VEVENT
DTSTART;TZID=America/Chicago:20211215T183000
DTEND;TZID=America/Chicago:20211215T194500
DTSTAMP:20260425T201901
CREATED:20211118T194544Z
LAST-MODIFIED:20211118T194544Z
UID:29354-1639593000-1639597500@carrollfirst.com
SUMMARY:Adult Wednesday Night Bible Study
DESCRIPTION:Because of Bethlehem by Max Lucado
URL:http://carrollfirst.com/event/adult-wednesday-night-bible-study-3/
LOCATION:IA
END:VEVENT
BEGIN:VEVENT
DTSTART;TZID=America/Chicago:20211215T113000
DTEND;TZID=America/Chicago:20211215T123000
DTSTAMP:20260425T201901
CREATED:20211203T183108Z
LAST-MODIFIED:20211203T183108Z
UID:29364-1639567800-1639571400@carrollfirst.com
SUMMARY:Senior Lunch
DESCRIPTION:Join Pastor Dave for lunch in the gym at the church
URL:http://carrollfirst.com/event/senior-lunch-16/
LOCATION:IA
END:VEVENT
BEGIN:VEVENT
DTSTART;TZID=America/Chicago:20211208T183000
DTEND;TZID=America/Chicago:20211208T194500
DTSTAMP:20260425T201901
CREATED:20211118T194454Z
LAST-MODIFIED:20211118T194454Z
UID:29352-1638988200-1638992700@carrollfirst.com
SUMMARY:Adult Wednesday Night Bible Study
DESCRIPTION:Because of Bethlehem by Max Lucado
URL:http://carrollfirst.com/event/adult-wednesday-night-bible-study-2/
LOCATION:IA
END:VEVENT
BEGIN:VEVENT
DTSTART;TZID=America/Chicago:20211201T063000
DTEND;TZID=America/Chicago:20211201T194500
DTSTAMP:20260425T201901
CREATED:20211118T194359Z
LAST-MODIFIED:20211118T194359Z
UID:29350-1638340200-1638387900@carrollfirst.com
SUMMARY:Adult Wednesday Night Bible Study
DESCRIPTION:Because of Bethlehem by Max Lucado \n 
URL:http://carrollfirst.com/event/adult-wednesday-night-bible-study/
LOCATION:Discover Church\, 18632 U. S. Hwy 71\, Carroll\, IA\, 51401-8796\, United States
END:VEVENT
BEGIN:VEVENT
DTSTART;TZID=America/Chicago:20211121T120000
DTEND;TZID=America/Chicago:20211121T130000
DTSTAMP:20260425T201901
CREATED:20211118T194204Z
LAST-MODIFIED:20211118T194204Z
UID:29348-1637496000-1637499600@carrollfirst.com
SUMMARY:Church Thanksgiving Dinner
DESCRIPTION:
URL:http://carrollfirst.com/event/church-thanksgiving-dinner/
LOCATION:IA
END:VEVENT
BEGIN:VEVENT
DTSTART;TZID=America/Chicago:20211117T183000
DTEND;TZID=America/Chicago:20211117T194500
DTSTAMP:20260425T201901
CREATED:20211118T194637Z
LAST-MODIFIED:20211118T194637Z
UID:29356-1637173800-1637178300@carrollfirst.com
SUMMARY:Adult Wednesday Night Bible Study
DESCRIPTION:Because of Bethlehem by Max Lucado
URL:http://carrollfirst.com/event/adult-wednesday-night-bible-study-4/
LOCATION:IA
END:VEVENT
BEGIN:VEVENT
DTSTART;TZID=America/Chicago:20211117T113000
DTEND;TZID=America/Chicago:20211117T123000
DTSTAMP:20260425T201901
CREATED:20211028T171652Z
LAST-MODIFIED:20211028T171652Z
UID:29339-1637148600-1637152200@carrollfirst.com
SUMMARY:Senior Lunch
DESCRIPTION:Join Pastor Dave for some soup at the church.
URL:http://carrollfirst.com/event/senior-lunch-14/
LOCATION:IA
END:VEVENT
BEGIN:VEVENT
DTSTART;VALUE=DATE:20211112
DTEND;VALUE=DATE:20211114
DTSTAMP:20260425T201901
CREATED:20211020T171606Z
LAST-MODIFIED:20211020T171606Z
UID:29336-1636675200-1636847999@carrollfirst.com
SUMMARY:Youth Fall Convention
DESCRIPTION:Grades 6-12 in Des Moines
URL:http://carrollfirst.com/event/youth-fall-convention/
LOCATION:IA
END:VEVENT
BEGIN:VEVENT
DTSTART;TZID=America/Chicago:20211110T183000
DTEND;TZID=America/Chicago:20211110T194500
DTSTAMP:20260425T201901
CREATED:20211020T171411Z
LAST-MODIFIED:20211020T171411Z
UID:29334-1636569000-1636573500@carrollfirst.com
SUMMARY:Wednesday Night
DESCRIPTION:Prayer in the sanctuary\n\n 
URL:http://carrollfirst.com/event/wednesday-night-2/
LOCATION:IA
END:VEVENT
BEGIN:VEVENT
DTSTART;TZID=America/Chicago:20211103T183000
DTEND;TZID=America/Chicago:20211103T194500
DTSTAMP:20260425T201901
CREATED:20211020T171325Z
LAST-MODIFIED:20211020T171325Z
UID:29332-1635964200-1635968700@carrollfirst.com
SUMMARY:Wednesday Night
DESCRIPTION:Prayer in the sanctuary\n\n 
URL:http://carrollfirst.com/event/wednesday-night/
LOCATION:Discover Church\, 18632 U. S. Hwy 71\, Carroll\, IA\, 51401-8796\, United States
END:VEVENT
BEGIN:VEVENT
DTSTART;TZID=America/Chicago:20211031T120000
DTEND;TZID=America/Chicago:20211031T123000
DTSTAMP:20260425T201901
CREATED:20211020T171122Z
LAST-MODIFIED:20211020T171122Z
UID:29330-1635681600-1635683400@carrollfirst.com
SUMMARY:Youth Fall Convention Bake Sale
DESCRIPTION:The kids will be selling their baked goods on October 31st right after the service.  All proceeds will go to help with Fall Convention and the hotel & transportation expenses.   \n 
URL:http://carrollfirst.com/event/youth-fall-convention-bake-sale/
LOCATION:IA
END:VEVENT
BEGIN:VEVENT
DTSTART;TZID=America/Chicago:20211027T180000
DTEND;TZID=America/Chicago:20211027T200000
DTSTAMP:20260425T201901
CREATED:20211007T174410Z
LAST-MODIFIED:20211007T174410Z
UID:29326-1635357600-1635364800@carrollfirst.com
SUMMARY:Family Bowling Night
DESCRIPTION:Family Bowling Night –   This will replace Wednesday Night groups.  Free for everyone. \n 
URL:http://carrollfirst.com/event/family-bowling-night/
LOCATION:Carroll Bowl\, 23688 Hwy 30\, Carroll\, 51401\, United States
END:VEVENT
BEGIN:VEVENT
DTSTART;TZID=America/Chicago:20211020T183000
DTEND;TZID=America/Chicago:20211020T194500
DTSTAMP:20260425T201901
CREATED:20210916T163610Z
LAST-MODIFIED:20210916T163610Z
UID:29309-1634754600-1634759100@carrollfirst.com
SUMMARY:Adult Wednesday Night Class
DESCRIPTION:Adult Wednesday Night Class – led by Bill Benson Jesus Revolution – How God Can Transform a Generation started September 15 and lasts 6 weeks.
URL:http://carrollfirst.com/event/adult-wednesday-night-class-3/
LOCATION:IA
END:VEVENT
BEGIN:VEVENT
DTSTART;TZID=America/Chicago:20211013T183000
DTEND;TZID=America/Chicago:20211013T194500
DTSTAMP:20260425T201901
CREATED:20210916T163522Z
LAST-MODIFIED:20210916T163522Z
UID:29307-1634149800-1634154300@carrollfirst.com
SUMMARY:Adult Wednesday Night Class
DESCRIPTION:Adult Wednesday Night Class – led by Bill Benson Jesus Revolution – How God Can Transform a Generation started September 15 and lasts 6 weeks.
URL:http://carrollfirst.com/event/adult-wednesday-night-class-2/
LOCATION:IA
END:VEVENT
BEGIN:VEVENT
DTSTART;TZID=America/Chicago:20211006T183000
DTEND;TZID=America/Chicago:20211006T194500
DTSTAMP:20260425T201901
CREATED:20210916T163359Z
LAST-MODIFIED:20210916T163709Z
UID:29305-1633545000-1633549500@carrollfirst.com
SUMMARY:Adult Wednesday Night Class
DESCRIPTION:Adult Wednesday Night Class – led by Bill Benson Jesus Revolution – How God Can Transform a Generation started September 15 and lasts 6 weeks.
URL:http://carrollfirst.com/event/wednesday-night-adult-class-12/
LOCATION:IA
END:VEVENT
BEGIN:VEVENT
DTSTART;TZID=America/Chicago:20210929T183000
DTEND;TZID=America/Chicago:20210929T194500
DTSTAMP:20260425T201901
CREATED:20210916T163309Z
LAST-MODIFIED:20210916T163733Z
UID:29300-1632940200-1632944700@carrollfirst.com
SUMMARY:Adult Wednesday Night Class
DESCRIPTION:Adult Wednesday Night Class – led by Bill Benson Jesus Revolution – How God Can Transform a Generation started September 15 and lasts 6 weeks.
URL:http://carrollfirst.com/event/wednesday-night-adult-class-11/
LOCATION:IA
END:VEVENT
BEGIN:VEVENT
DTSTART;TZID=America/Chicago:20210926T100000
DTEND;TZID=America/Chicago:20210926T120000
DTSTAMP:20260425T201901
CREATED:20210812T161020Z
LAST-MODIFIED:20210812T161020Z
UID:29269-1632650400-1632657600@carrollfirst.com
SUMMARY:BCMG Craft Fair
DESCRIPTION:Carroll FIrst kids will be selling their goodies with all profits going to BCMG.
URL:http://carrollfirst.com/event/bcmg-craft-fair/
LOCATION:IA
END:VEVENT
BEGIN:VEVENT
DTSTART;TZID=America/Chicago:20210922T183000
DTEND;TZID=America/Chicago:20210922T194500
DTSTAMP:20260425T201901
CREATED:20210916T163145Z
LAST-MODIFIED:20210916T163145Z
UID:29297-1632335400-1632339900@carrollfirst.com
SUMMARY:Adult Wednesday Night Class
DESCRIPTION:Adult Wednesday Night Class – led by Bill Benson Jesus Revolution – How God Can Transform a Generation started September 15 and lasts 6 weeks. \n 
URL:http://carrollfirst.com/event/adult-wednesday-night-class/
LOCATION:IA
END:VEVENT
BEGIN:VEVENT
DTSTART;TZID=America/Chicago:20210922T113000
DTEND;TZID=America/Chicago:20210922T123000
DTSTAMP:20260425T201901
CREATED:20210909T200140Z
LAST-MODIFIED:20210909T200140Z
UID:29294-1632310200-1632313800@carrollfirst.com
SUMMARY:Senior Lunch
DESCRIPTION:Join Pastor Dave for lunch!
URL:http://carrollfirst.com/event/senior-lunch-15/
LOCATION:Las Margaritas\, 127 E. 9th St.\, GLIDDEN\, IA\, 51443\, United States
END:VEVENT
BEGIN:VEVENT
DTSTART;TZID=America/Chicago:20210915T183000
DTEND;TZID=America/Chicago:20210915T194500
DTSTAMP:20260425T201901
CREATED:20210916T163838Z
LAST-MODIFIED:20210916T163930Z
UID:29313-1631730600-1631735100@carrollfirst.com
SUMMARY:Adult Wednesday Night Class
DESCRIPTION:Adult Wednesday Night Class – led by Bill Benson Jesus Revolution – How God Can Transform a Generation starts September 15th and lasts 6 weeks.
URL:http://carrollfirst.com/event/adult-wednesday-night-clas/
LOCATION:Discover Church\, 18632 U. S. Hwy 71\, Carroll\, IA\, 51401-8796\, United States
END:VEVENT
END:VCALENDAR