BEGIN:VCALENDAR
VERSION:2.0
PRODID:-//Carroll First Church - ECPv6.15.20//NONSGML v1.0//EN
CALSCALE:GREGORIAN
METHOD:PUBLISH
X-WR-CALNAME:Carroll First Church
X-ORIGINAL-URL:http://carrollfirst.com
X-WR-CALDESC:Events for Carroll First Church
REFRESH-INTERVAL;VALUE=DURATION:PT1H
X-Robots-Tag:noindex
X-PUBLISHED-TTL:PT1H
BEGIN:VTIMEZONE
TZID:America/Chicago
BEGIN:DAYLIGHT
TZOFFSETFROM:-0600
TZOFFSETTO:-0500
TZNAME:CDT
DTSTART:20230312T080000
END:DAYLIGHT
BEGIN:STANDARD
TZOFFSETFROM:-0500
TZOFFSETTO:-0600
TZNAME:CST
DTSTART:20231105T070000
END:STANDARD
BEGIN:DAYLIGHT
TZOFFSETFROM:-0600
TZOFFSETTO:-0500
TZNAME:CDT
DTSTART:20240310T080000
END:DAYLIGHT
BEGIN:STANDARD
TZOFFSETFROM:-0500
TZOFFSETTO:-0600
TZNAME:CST
DTSTART:20241103T070000
END:STANDARD
BEGIN:DAYLIGHT
TZOFFSETFROM:-0600
TZOFFSETTO:-0500
TZNAME:CDT
DTSTART:20250309T080000
END:DAYLIGHT
BEGIN:STANDARD
TZOFFSETFROM:-0500
TZOFFSETTO:-0600
TZNAME:CST
DTSTART:20251102T070000
END:STANDARD
END:VTIMEZONE
BEGIN:VEVENT
DTSTART;TZID=America/Chicago:20240327T190000
DTEND;TZID=America/Chicago:20240327T210000
DTSTAMP:20260425T075057
CREATED:20240321T193223Z
LAST-MODIFIED:20240321T193223Z
UID:30353-1711566000-1711573200@carrollfirst.com
SUMMARY:Wednesday Night Youth Church
DESCRIPTION:There will a combined worship service with youth groups in town at Renew from 7:00 -9:00 PM for 5th-12th grades.  \n 
URL:http://carrollfirst.com/event/wednesday-night-youth-church/
LOCATION:Renew Covenant Church
END:VEVENT
BEGIN:VEVENT
DTSTART;TZID=America/Chicago:20240327T183000
DTEND;TZID=America/Chicago:20240327T200000
DTSTAMP:20260425T075057
CREATED:20240307T224515Z
LAST-MODIFIED:20240321T193316Z
UID:30331-1711564200-1711569600@carrollfirst.com
SUMMARY:Wednesday Night Activities
DESCRIPTION:Kids Connect K-4 \n 
URL:http://carrollfirst.com/event/wednesday-night-activities-29/
LOCATION:Discover Church\, 18632 U. S. Hwy 71\, Carroll\, IA\, 51401-8796\, United States
END:VEVENT
BEGIN:VEVENT
DTSTART;TZID=America/Chicago:20240325T183000
DTEND;TZID=America/Chicago:20240325T200000
DTSTAMP:20260425T075057
CREATED:20240307T225112Z
LAST-MODIFIED:20240307T225112Z
UID:30343-1711391400-1711396800@carrollfirst.com
SUMMARY:Adult Bible Study
DESCRIPTION:In the Welcome Area
URL:http://carrollfirst.com/event/adult-bible-study-15/
LOCATION:Discover Church\, 18632 U. S. Hwy 71\, Carroll\, IA\, 51401-8796\, United States
END:VEVENT
BEGIN:VEVENT
DTSTART;TZID=America/Chicago:20240320T183000
DTEND;TZID=America/Chicago:20240320T200000
DTSTAMP:20260425T075057
CREATED:20240307T224556Z
LAST-MODIFIED:20240321T194343Z
UID:30333-1710959400-1710964800@carrollfirst.com
SUMMARY:Wednesday Night Youth Activities
DESCRIPTION:Kids Connect K-4 \n56’ers \nYouth Church 7-12
URL:http://carrollfirst.com/event/wednesday-night-activities-30/
LOCATION:Discover Church\, 18632 U. S. Hwy 71\, Carroll\, IA\, 51401-8796\, United States
END:VEVENT
BEGIN:VEVENT
DTSTART;TZID=America/Chicago:20240320T183000
DTEND;TZID=America/Chicago:20240320T193000
DTSTAMP:20260425T075057
CREATED:20240307T224707Z
LAST-MODIFIED:20240307T224726Z
UID:30335-1710959400-1710963000@carrollfirst.com
SUMMARY:Prayer Night at Carroll First
DESCRIPTION:Join Bill Benson for Prayer Night.
URL:http://carrollfirst.com/event/prayer-night-at-carroll-first/
LOCATION:Discover Church\, 18632 U. S. Hwy 71\, Carroll\, IA\, 51401-8796\, United States
END:VEVENT
BEGIN:VEVENT
DTSTART;TZID=America/Chicago:20240320T113000
DTEND;TZID=America/Chicago:20240320T123000
DTSTAMP:20260425T075057
CREATED:20240307T223742Z
LAST-MODIFIED:20240307T223742Z
UID:30321-1710934200-1710937800@carrollfirst.com
SUMMARY:Senior Lunch
DESCRIPTION:Join Pastor Dave for lunch!
URL:http://carrollfirst.com/event/senior-lunch-36/
LOCATION:Culvers\, 405 Lincoln Hwy\, Carroll\, Iowa\, 51401
END:VEVENT
BEGIN:VEVENT
DTSTART;TZID=America/Chicago:20240318T183000
DTEND;TZID=America/Chicago:20240318T200000
DTSTAMP:20260425T075057
CREATED:20240307T225035Z
LAST-MODIFIED:20240307T225035Z
UID:30341-1710786600-1710792000@carrollfirst.com
SUMMARY:Adult Bible Study
DESCRIPTION:In the Welcome Area
URL:http://carrollfirst.com/event/adult-bible-study-14/
LOCATION:Discover Church\, 18632 U. S. Hwy 71\, Carroll\, IA\, 51401-8796\, United States
END:VEVENT
BEGIN:VEVENT
DTSTART;TZID=America/Chicago:20240317T180000
DTEND;TZID=America/Chicago:20240317T200000
DTSTAMP:20260425T075057
CREATED:20231204T185039Z
LAST-MODIFIED:20231204T185039Z
UID:30255-1710698400-1710705600@carrollfirst.com
SUMMARY:In-Home Small Groups
DESCRIPTION:The discussion and questions will be sermon based.  Join us for a time of encouragement\, prayer\, and fellowship. 
URL:http://carrollfirst.com/event/in-home-small-groups-11/
LOCATION:IA
END:VEVENT
BEGIN:VEVENT
DTSTART;TZID=America/Chicago:20240313T183000
DTEND;TZID=America/Chicago:20240313T200000
DTSTAMP:20260425T075057
CREATED:20240307T224436Z
LAST-MODIFIED:20240313T201812Z
UID:30329-1710354600-1710360000@carrollfirst.com
SUMMARY:NO Wednesday Night Activities
DESCRIPTION:Spring Break
URL:http://carrollfirst.com/event/wednesday-night-activities-28/
LOCATION:Discover Church\, 18632 U. S. Hwy 71\, Carroll\, IA\, 51401-8796\, United States
END:VEVENT
BEGIN:VEVENT
DTSTART;TZID=America/Chicago:20240311T183000
DTEND;TZID=America/Chicago:20240311T200000
DTSTAMP:20260425T075057
CREATED:20240307T225003Z
LAST-MODIFIED:20240307T225003Z
UID:30339-1710181800-1710187200@carrollfirst.com
SUMMARY:Adult Bible Study
DESCRIPTION:In the Welcome Area
URL:http://carrollfirst.com/event/adult-bible-study-13/
LOCATION:Discover Church\, 18632 U. S. Hwy 71\, Carroll\, IA\, 51401-8796\, United States
END:VEVENT
BEGIN:VEVENT
DTSTART;TZID=America/Chicago:20240306T183000
DTEND;TZID=America/Chicago:20240306T200000
DTSTAMP:20260425T075057
CREATED:20240307T224340Z
LAST-MODIFIED:20240307T224340Z
UID:30327-1709749800-1709755200@carrollfirst.com
SUMMARY:Wednesday Night Youth Activities
DESCRIPTION:Kids Connect K-4 \n56’ers \nYouth Church 7-12
URL:http://carrollfirst.com/event/wednesday-night-youth-activities-4/
LOCATION:Discover Church\, 18632 U. S. Hwy 71\, Carroll\, IA\, 51401-8796\, United States
END:VEVENT
BEGIN:VEVENT
DTSTART;TZID=America/Chicago:20240304T183000
DTEND;TZID=America/Chicago:20240304T200000
DTSTAMP:20260425T075057
CREATED:20240307T224934Z
LAST-MODIFIED:20240307T224934Z
UID:30337-1709577000-1709582400@carrollfirst.com
SUMMARY:Adult Bible Study
DESCRIPTION:In the Welcome Area
URL:http://carrollfirst.com/event/adult-bible-study-12/
LOCATION:Discover Church\, 18632 U. S. Hwy 71\, Carroll\, IA\, 51401-8796\, United States
END:VEVENT
BEGIN:VEVENT
DTSTART;TZID=America/Chicago:20240303T180000
DTEND;TZID=America/Chicago:20240303T200000
DTSTAMP:20260425T075057
CREATED:20231204T185006Z
LAST-MODIFIED:20231204T185006Z
UID:30253-1709488800-1709496000@carrollfirst.com
SUMMARY:In-Home Small Groups
DESCRIPTION:The discussion and questions will be sermon based.  Join us for a time of encouragement\, prayer\, and fellowship. 
URL:http://carrollfirst.com/event/in-home-small-groups-10/
LOCATION:IA
END:VEVENT
BEGIN:VEVENT
DTSTART;TZID=America/Chicago:20240228T183000
DTEND;TZID=America/Chicago:20240228T200000
DTSTAMP:20260425T075057
CREATED:20231229T182420Z
LAST-MODIFIED:20240307T224251Z
UID:30307-1709145000-1709150400@carrollfirst.com
SUMMARY:Wednesday Night Activities
DESCRIPTION:Kids Connect K-4 \n56’ers \nYouth Church 7-12
URL:http://carrollfirst.com/event/wednesday-night-activities-27/
LOCATION:Discover Church\, 18632 U. S. Hwy 71\, Carroll\, IA\, 51401-8796\, United States
END:VEVENT
BEGIN:VEVENT
DTSTART;TZID=America/Chicago:20240223T190000
DTEND;TZID=America/Chicago:20240224T143000
DTSTAMP:20260425T075057
CREATED:20231025T173155Z
LAST-MODIFIED:20231025T173155Z
UID:30216-1708714800-1708785000@carrollfirst.com
SUMMARY:Carroll First Marriage Retreat
DESCRIPTION:
URL:http://carrollfirst.com/event/carroll-first-marriage-retreat/
LOCATION:Discover Church\, 18632 U. S. Hwy 71\, Carroll\, IA\, 51401-8796\, United States
END:VEVENT
BEGIN:VEVENT
DTSTART;TZID=America/Chicago:20240221T183000
DTEND;TZID=America/Chicago:20240221T200000
DTSTAMP:20260425T075057
CREATED:20231229T182342Z
LAST-MODIFIED:20231229T182342Z
UID:30305-1708540200-1708545600@carrollfirst.com
SUMMARY:Wednesday Night Activities
DESCRIPTION:Kids Connect K-4 \n56’ers \nYouth Church 7-12
URL:http://carrollfirst.com/event/wednesday-night-activities-26/
LOCATION:Discover Church\, 18632 U. S. Hwy 71\, Carroll\, IA\, 51401-8796\, United States
END:VEVENT
BEGIN:VEVENT
DTSTART;TZID=America/Chicago:20240221T183000
DTEND;TZID=America/Chicago:20240221T200000
DTSTAMP:20260425T075057
CREATED:20231229T182306Z
LAST-MODIFIED:20231229T182306Z
UID:30303-1708540200-1708545600@carrollfirst.com
SUMMARY:Wednesday Night Activities
DESCRIPTION:Kids Connect K-4 \n56’ers \nYouth Church 7-12
URL:http://carrollfirst.com/event/wednesday-night-activities-25/
LOCATION:Discover Church\, 18632 U. S. Hwy 71\, Carroll\, IA\, 51401-8796\, United States
END:VEVENT
BEGIN:VEVENT
DTSTART;TZID=America/Chicago:20240221T113000
DTEND;TZID=America/Chicago:20240221T123000
DTSTAMP:20260425T075057
CREATED:20240216T193046Z
LAST-MODIFIED:20240216T193046Z
UID:30316-1708515000-1708518600@carrollfirst.com
SUMMARY:Senior Lunch
DESCRIPTION:Join Pastor Dave for lunch at Hunan Restaurant!
URL:http://carrollfirst.com/event/senior-lunch-35/
LOCATION:Hunan Restaurant\, 708 Simon Ave.\, Carroll\, IA\, 51401
END:VEVENT
BEGIN:VEVENT
DTSTART;TZID=America/Chicago:20240218T180000
DTEND;TZID=America/Chicago:20240218T200000
DTSTAMP:20260425T075057
CREATED:20231204T184927Z
LAST-MODIFIED:20231204T184927Z
UID:30251-1708279200-1708286400@carrollfirst.com
SUMMARY:In-Home Small Groups
DESCRIPTION:The discussion and questions will be sermon based.  Join us for a time of encouragement\, prayer\, and fellowship. 
URL:http://carrollfirst.com/event/in-home-small-groups-9/
LOCATION:IA
END:VEVENT
BEGIN:VEVENT
DTSTART;TZID=America/Chicago:20240214T183000
DTEND;TZID=America/Chicago:20240214T200000
DTSTAMP:20260425T075057
CREATED:20231229T182227Z
LAST-MODIFIED:20231229T182227Z
UID:30301-1707935400-1707940800@carrollfirst.com
SUMMARY:Wednesday Night Activities
DESCRIPTION:Kids Connect K-4 \n56’ers \nYouth Church 7-12
URL:http://carrollfirst.com/event/wednesday-night-activities-24/
LOCATION:Discover Church\, 18632 U. S. Hwy 71\, Carroll\, IA\, 51401-8796\, United States
END:VEVENT
BEGIN:VEVENT
DTSTART;TZID=America/Chicago:20240207T183000
DTEND;TZID=America/Chicago:20240207T200000
DTSTAMP:20260425T075057
CREATED:20231229T182138Z
LAST-MODIFIED:20231229T182138Z
UID:30299-1707330600-1707336000@carrollfirst.com
SUMMARY:Wednesday Night Activities
DESCRIPTION:Kids Connect K-4 \n56’ers \nYouth Church 7-12
URL:http://carrollfirst.com/event/wednesday-night-activities-23/
LOCATION:Discover Church\, 18632 U. S. Hwy 71\, Carroll\, IA\, 51401-8796\, United States
END:VEVENT
BEGIN:VEVENT
DTSTART;TZID=America/Chicago:20240204T180000
DTEND;TZID=America/Chicago:20240204T200000
DTSTAMP:20260425T075057
CREATED:20231204T184857Z
LAST-MODIFIED:20231204T184857Z
UID:30249-1707069600-1707076800@carrollfirst.com
SUMMARY:In-Home Small Groups
DESCRIPTION:The discussion and questions will be sermon based.  Join us for a time of encouragement\, prayer\, and fellowship. 
URL:http://carrollfirst.com/event/in-home-small-groups-8/
LOCATION:IA
END:VEVENT
BEGIN:VEVENT
DTSTART;TZID=America/Chicago:20240131T183000
DTEND;TZID=America/Chicago:20240131T203000
DTSTAMP:20260425T075057
CREATED:20231229T175844Z
LAST-MODIFIED:20231229T175844Z
UID:30294-1706725800-1706733000@carrollfirst.com
SUMMARY:Youth Church Get Together
DESCRIPTION:Grades 7-12 \nWill be at the Carroll Middle School in the Gym \nGames & Pizza
URL:http://carrollfirst.com/event/youth-church-get-together/
LOCATION:Carroll Middle School\, 3203 N. Grant Rd.\, carroll\, IA\, 51401\, United States
END:VEVENT
BEGIN:VEVENT
DTSTART;TZID=America/Chicago:20240131T063000
DTEND;TZID=America/Chicago:20240131T200000
DTSTAMP:20260425T075057
CREATED:20231229T175420Z
LAST-MODIFIED:20231229T175420Z
UID:30292-1706682600-1706731200@carrollfirst.com
SUMMARY:Wednesday Night Activities
DESCRIPTION:Kids Connect K-4 \n56’ers \n 
URL:http://carrollfirst.com/event/wednesday-night-activities-22/
LOCATION:Discover Church\, 18632 U. S. Hwy 71\, Carroll\, IA\, 51401-8796\, United States
END:VEVENT
BEGIN:VEVENT
DTSTART;TZID=America/Chicago:20240124T183000
DTEND;TZID=America/Chicago:20240124T200000
DTSTAMP:20260425T075057
CREATED:20231229T175321Z
LAST-MODIFIED:20231229T175321Z
UID:30290-1706121000-1706126400@carrollfirst.com
SUMMARY:Wednesday Night Activities
DESCRIPTION:Kids Connect K-4 \n56’ers \nYouth Church 7-12
URL:http://carrollfirst.com/event/wednesday-night-activities-21/
LOCATION:Discover Church\, 18632 U. S. Hwy 71\, Carroll\, IA\, 51401-8796\, United States
END:VEVENT
BEGIN:VEVENT
DTSTART;TZID=America/Chicago:20240124T113000
DTEND;TZID=America/Chicago:20240124T123000
DTSTAMP:20260425T075057
CREATED:20240103T194010Z
LAST-MODIFIED:20240103T194010Z
UID:30309-1706095800-1706099400@carrollfirst.com
SUMMARY:Senior Lunch
DESCRIPTION:Join Pastor Dave for lunch!!
URL:http://carrollfirst.com/event/senior-lunch-34/
LOCATION:Napoli’s\, 1205 Hwy 30\, Carroll\, IA\, 51401\, United States
END:VEVENT
BEGIN:VEVENT
DTSTART;TZID=America/Chicago:20240121T180000
DTEND;TZID=America/Chicago:20240121T200000
DTSTAMP:20260425T075057
CREATED:20231204T184754Z
LAST-MODIFIED:20231204T185330Z
UID:30246-1705860000-1705867200@carrollfirst.com
SUMMARY:In-Home Small Groups
DESCRIPTION:The discussion and questions will be sermon based.  Join us for a time of encouragement\, prayer\, and fellowship. 
URL:http://carrollfirst.com/event/in-home-small-groups-7/
LOCATION:IA
END:VEVENT
BEGIN:VEVENT
DTSTART;TZID=America/Chicago:20240117T183000
DTEND;TZID=America/Chicago:20240117T200000
DTSTAMP:20260425T075057
CREATED:20231229T175241Z
LAST-MODIFIED:20231229T175241Z
UID:30288-1705516200-1705521600@carrollfirst.com
SUMMARY:Wednesday Night Activities
DESCRIPTION:Kids Connect K-4 \n56’ers \nYouth Church 7-12
URL:http://carrollfirst.com/event/wednesday-night-activities-20/
LOCATION:Discover Church\, 18632 U. S. Hwy 71\, Carroll\, IA\, 51401-8796\, United States
END:VEVENT
BEGIN:VEVENT
DTSTART;TZID=America/Chicago:20240110T183000
DTEND;TZID=America/Chicago:20240110T200000
DTSTAMP:20260425T075057
CREATED:20231229T175205Z
LAST-MODIFIED:20231229T175205Z
UID:30286-1704911400-1704916800@carrollfirst.com
SUMMARY:Wednesday Night Activities
DESCRIPTION:Kids Connect K-4 \n56’ers \nYouth Church 7-12
URL:http://carrollfirst.com/event/wednesday-night-activities-19/
LOCATION:Discover Church\, 18632 U. S. Hwy 71\, Carroll\, IA\, 51401-8796\, United States
END:VEVENT
BEGIN:VEVENT
DTSTART;TZID=America/Chicago:20240108T183000
DTEND;TZID=America/Chicago:20240108T203000
DTSTAMP:20260425T075057
CREATED:20231204T192420Z
LAST-MODIFIED:20231204T192420Z
UID:30273-1704738600-1704745800@carrollfirst.com
SUMMARY:Adult Bible Study
DESCRIPTION:In the Kid’s Study Room
URL:http://carrollfirst.com/event/adult-bible-study-11/
LOCATION:Discover Church\, 18632 U. S. Hwy 71\, Carroll\, IA\, 51401-8796\, United States
END:VEVENT
END:VCALENDAR