BEGIN:VCALENDAR
VERSION:2.0
PRODID:-//Carroll First Church - ECPv6.15.20//NONSGML v1.0//EN
CALSCALE:GREGORIAN
METHOD:PUBLISH
X-WR-CALNAME:Carroll First Church
X-ORIGINAL-URL:http://carrollfirst.com
X-WR-CALDESC:Events for Carroll First Church
REFRESH-INTERVAL;VALUE=DURATION:PT1H
X-Robots-Tag:noindex
X-PUBLISHED-TTL:PT1H
BEGIN:VTIMEZONE
TZID:America/Chicago
BEGIN:DAYLIGHT
TZOFFSETFROM:-0600
TZOFFSETTO:-0500
TZNAME:CDT
DTSTART:20200308T080000
END:DAYLIGHT
BEGIN:STANDARD
TZOFFSETFROM:-0500
TZOFFSETTO:-0600
TZNAME:CST
DTSTART:20201101T070000
END:STANDARD
BEGIN:DAYLIGHT
TZOFFSETFROM:-0600
TZOFFSETTO:-0500
TZNAME:CDT
DTSTART:20210314T080000
END:DAYLIGHT
BEGIN:STANDARD
TZOFFSETFROM:-0500
TZOFFSETTO:-0600
TZNAME:CST
DTSTART:20211107T070000
END:STANDARD
BEGIN:DAYLIGHT
TZOFFSETFROM:-0600
TZOFFSETTO:-0500
TZNAME:CDT
DTSTART:20220313T080000
END:DAYLIGHT
BEGIN:STANDARD
TZOFFSETFROM:-0500
TZOFFSETTO:-0600
TZNAME:CST
DTSTART:20221106T070000
END:STANDARD
END:VTIMEZONE
BEGIN:VEVENT
DTSTART;TZID=America/Chicago:20211006T183000
DTEND;TZID=America/Chicago:20211006T194500
DTSTAMP:20260425T232251
CREATED:20210916T163359Z
LAST-MODIFIED:20210916T163709Z
UID:29305-1633545000-1633549500@carrollfirst.com
SUMMARY:Adult Wednesday Night Class
DESCRIPTION:Adult Wednesday Night Class – led by Bill Benson Jesus Revolution – How God Can Transform a Generation started September 15 and lasts 6 weeks.
URL:http://carrollfirst.com/event/wednesday-night-adult-class-12/
END:VEVENT
BEGIN:VEVENT
DTSTART;TZID=America/Chicago:20210929T183000
DTEND;TZID=America/Chicago:20210929T194500
DTSTAMP:20260425T232251
CREATED:20210916T163309Z
LAST-MODIFIED:20210916T163733Z
UID:29300-1632940200-1632944700@carrollfirst.com
SUMMARY:Adult Wednesday Night Class
DESCRIPTION:Adult Wednesday Night Class – led by Bill Benson Jesus Revolution – How God Can Transform a Generation started September 15 and lasts 6 weeks.
URL:http://carrollfirst.com/event/wednesday-night-adult-class-11/
END:VEVENT
BEGIN:VEVENT
DTSTART;TZID=America/Chicago:20210926T100000
DTEND;TZID=America/Chicago:20210926T120000
DTSTAMP:20260425T232251
CREATED:20210812T161020Z
LAST-MODIFIED:20210812T161020Z
UID:29269-1632650400-1632657600@carrollfirst.com
SUMMARY:BCMG Craft Fair
DESCRIPTION:Carroll FIrst kids will be selling their goodies with all profits going to BCMG.
URL:http://carrollfirst.com/event/bcmg-craft-fair/
END:VEVENT
BEGIN:VEVENT
DTSTART;TZID=America/Chicago:20210922T183000
DTEND;TZID=America/Chicago:20210922T194500
DTSTAMP:20260425T232251
CREATED:20210916T163145Z
LAST-MODIFIED:20210916T163145Z
UID:29297-1632335400-1632339900@carrollfirst.com
SUMMARY:Adult Wednesday Night Class
DESCRIPTION:Adult Wednesday Night Class – led by Bill Benson Jesus Revolution – How God Can Transform a Generation started September 15 and lasts 6 weeks. \n 
URL:http://carrollfirst.com/event/adult-wednesday-night-class/
END:VEVENT
BEGIN:VEVENT
DTSTART;TZID=America/Chicago:20210922T113000
DTEND;TZID=America/Chicago:20210922T123000
DTSTAMP:20260425T232251
CREATED:20210909T200140Z
LAST-MODIFIED:20210909T200140Z
UID:29294-1632310200-1632313800@carrollfirst.com
SUMMARY:Senior Lunch
DESCRIPTION:Join Pastor Dave for lunch!
URL:http://carrollfirst.com/event/senior-lunch-15/
LOCATION:Las Margaritas\, 127 E. 9th St.\, GLIDDEN\, IA\, 51443\, United States
END:VEVENT
BEGIN:VEVENT
DTSTART;TZID=America/Chicago:20210915T183000
DTEND;TZID=America/Chicago:20210915T194500
DTSTAMP:20260425T232251
CREATED:20210916T163838Z
LAST-MODIFIED:20210916T163930Z
UID:29313-1631730600-1631735100@carrollfirst.com
SUMMARY:Adult Wednesday Night Class
DESCRIPTION:Adult Wednesday Night Class – led by Bill Benson Jesus Revolution – How God Can Transform a Generation starts September 15th and lasts 6 weeks.
URL:http://carrollfirst.com/event/adult-wednesday-night-clas/
LOCATION:Discover Church\, 18632 U. S. Hwy 71\, Carroll\, IA\, 51401-8796\, United States
END:VEVENT
BEGIN:VEVENT
DTSTART;TZID=America/Chicago:20210915T183000
DTEND;TZID=America/Chicago:20210915T194500
DTSTAMP:20260425T232251
CREATED:20210812T161141Z
LAST-MODIFIED:20210812T161141Z
UID:29274-1631730600-1631735100@carrollfirst.com
SUMMARY:Youth Church Kick Off
DESCRIPTION:
URL:http://carrollfirst.com/event/youth-church-kick-off/
END:VEVENT
BEGIN:VEVENT
DTSTART;TZID=America/Chicago:20210912T100000
DTEND;TZID=America/Chicago:20210912T130000
DTSTAMP:20260425T232251
CREATED:20210803T171715Z
LAST-MODIFIED:20210803T171715Z
UID:29254-1631440800-1631451600@carrollfirst.com
SUMMARY:Church at the Park
DESCRIPTION:Church at the Park – Join us for church service\, a potluck\, and baptisms at the Swan Lake East Shelter House on Sunday \, September 12th.\n\n 
URL:http://carrollfirst.com/event/church-at-the-park/
LOCATION:Swan Lake Eastside Shelter House\, Carroll\, IA\, 51401\, United States
END:VEVENT
BEGIN:VEVENT
DTSTART;VALUE=DATE:20210825
DTEND;VALUE=DATE:20210826
DTSTAMP:20260425T232251
CREATED:20210812T161505Z
LAST-MODIFIED:20210812T161505Z
UID:29276-1629849600-1629935999@carrollfirst.com
SUMMARY:School Starts
DESCRIPTION:
URL:http://carrollfirst.com/event/school-starts/
END:VEVENT
BEGIN:VEVENT
DTSTART;TZID=America/Chicago:20210818T183000
DTEND;TZID=America/Chicago:20210818T183000
DTSTAMP:20260425T232251
CREATED:20210803T171831Z
LAST-MODIFIED:20210803T171831Z
UID:29256-1629311400-1629311400@carrollfirst.com
SUMMARY:All Church Slip and Slide Night
DESCRIPTION:All Church Slip & Slide Night – August 18th @ Maple Park \n\n 
URL:http://carrollfirst.com/event/all-church-slip-and-slide-night/
LOCATION:Maple Park
END:VEVENT
BEGIN:VEVENT
DTSTART;TZID=America/Chicago:20210813T203000
DTEND;TZID=America/Chicago:20210813T220000
DTSTAMP:20260425T232251
CREATED:20210803T171414Z
LAST-MODIFIED:20210803T171414Z
UID:29250-1628886600-1628892000@carrollfirst.com
SUMMARY:Family Movie Night
DESCRIPTION:Family Movie Night @ Fairview Elementary. Join us for a family friendly movie starting 8:30 PM on Friday\, August 13th.   \n 
URL:http://carrollfirst.com/event/family-movie-night/
LOCATION:Fairview Elementary\, 525 E. 18th St.\, Carroll\, IA\, 51401\, United States
END:VEVENT
BEGIN:VEVENT
DTSTART;TZID=America/Chicago:20210728T113000
DTEND;TZID=America/Chicago:20210728T123000
DTSTAMP:20260425T232251
CREATED:20210715T165939Z
LAST-MODIFIED:20210715T165939Z
UID:29240-1627471800-1627475400@carrollfirst.com
SUMMARY:Senior Lunch
DESCRIPTION:Join Pastor Dave for lunch at Rancho Grande this month!
URL:http://carrollfirst.com/event/senior-lunch-13/
END:VEVENT
BEGIN:VEVENT
DTSTART;TZID=America/Chicago:20210725T113000
DTEND;TZID=America/Chicago:20210725T123000
DTSTAMP:20260425T232251
CREATED:20210715T170732Z
LAST-MODIFIED:20210715T170732Z
UID:29246-1627212600-1627216200@carrollfirst.com
SUMMARY:International Food Potluck
DESCRIPTION:Join us for a potluck after the church service.  Please bring an international dish to share!
URL:http://carrollfirst.com/event/international-food-potluck/
END:VEVENT
BEGIN:VEVENT
DTSTART;VALUE=DATE:20210723
DTEND;VALUE=DATE:20210727
DTSTAMP:20260425T232251
CREATED:20210429T165339Z
LAST-MODIFIED:20210429T165339Z
UID:29139-1626998400-1627343999@carrollfirst.com
SUMMARY:KIDS CAMP
DESCRIPTION:Grades 3-6
URL:http://carrollfirst.com/event/kids-camp/
END:VEVENT
BEGIN:VEVENT
DTSTART;VALUE=DATE:20210712
DTEND;VALUE=DATE:20210717
DTSTAMP:20260425T232251
CREATED:20210429T165041Z
LAST-MODIFIED:20210629T193023Z
UID:29135-1626048000-1626479999@carrollfirst.com
SUMMARY:Youth Camp
DESCRIPTION:Grades 6-12 \nJuly 12 – leave Carroll First at 9:00 AM \nJuly 16 – return to Carroll First at 1:00 PM \n  \n 
URL:http://carrollfirst.com/event/youth-camp/
END:VEVENT
BEGIN:VEVENT
DTSTART;TZID=America/Chicago:20210707T190000
DTEND;TZID=America/Chicago:20210707T203000
DTSTAMP:20260425T232251
CREATED:20210617T165529Z
LAST-MODIFIED:20210617T165529Z
UID:29189-1625684400-1625689800@carrollfirst.com
SUMMARY:Family Pool Night
DESCRIPTION:FAMILY POOL NIGHT – at the Carroll Aquatic Center.    Join us for a night of free family fun. \n 
URL:http://carrollfirst.com/event/family-pool-night/
LOCATION:Carroll Aquatic Center\, 600 E 11th St\, Carroll\, IA\, 51401
END:VEVENT
BEGIN:VEVENT
DTSTART;TZID=America/Chicago:20210630T180000
DTEND;TZID=America/Chicago:20210630T200000
DTSTAMP:20260425T232251
CREATED:20210527T192742Z
LAST-MODIFIED:20210527T192742Z
UID:29168-1625076000-1625083200@carrollfirst.com
SUMMARY:House Groups
DESCRIPTION:Grades 6 – 12
URL:http://carrollfirst.com/event/house-groups-9/
END:VEVENT
BEGIN:VEVENT
DTSTART;TZID=America/Chicago:20210630T113000
DTEND;TZID=America/Chicago:20210630T123000
DTSTAMP:20260425T232251
CREATED:20210610T183817Z
LAST-MODIFIED:20210610T183817Z
UID:29182-1625052600-1625056200@carrollfirst.com
SUMMARY:Senior Lunch
DESCRIPTION:Join Pastor Dave for lunch at Ski’s Sandwich Shop!
URL:http://carrollfirst.com/event/senior-lunch-12/
LOCATION:Ski’s Sandwich Shop\, 127 5th St.\, Carroll\, IA\, 51401\, United States
END:VEVENT
BEGIN:VEVENT
DTSTART;TZID=America/Chicago:20210623T180000
DTEND;TZID=America/Chicago:20210623T200000
DTSTAMP:20260425T232251
CREATED:20210527T192655Z
LAST-MODIFIED:20210527T192655Z
UID:29166-1624471200-1624478400@carrollfirst.com
SUMMARY:House Groups
DESCRIPTION:Grades 6 – 12
URL:http://carrollfirst.com/event/house-groups-8/
END:VEVENT
BEGIN:VEVENT
DTSTART;TZID=America/Chicago:20210616T180000
DTEND;TZID=America/Chicago:20210616T200000
DTSTAMP:20260425T232251
CREATED:20210527T192601Z
LAST-MODIFIED:20210527T192615Z
UID:29164-1623866400-1623873600@carrollfirst.com
SUMMARY:House Groups
DESCRIPTION:Grades 6 – 12
URL:http://carrollfirst.com/event/house-groups-7/
END:VEVENT
BEGIN:VEVENT
DTSTART;TZID=America/Chicago:20210609T180000
DTEND;TZID=America/Chicago:20210609T200000
DTSTAMP:20260425T232251
CREATED:20210527T192508Z
LAST-MODIFIED:20210527T192508Z
UID:29162-1623261600-1623268800@carrollfirst.com
SUMMARY:House Groups Kick Off
DESCRIPTION:Grades 6-12 \n 
URL:http://carrollfirst.com/event/house-groups-kick-off/
END:VEVENT
BEGIN:VEVENT
DTSTART;TZID=America/Chicago:20210603T180000
DTEND;TZID=America/Chicago:20210603T200000
DTSTAMP:20260425T232251
CREATED:20210506T170841Z
LAST-MODIFIED:20210506T170841Z
UID:29144-1622743200-1622750400@carrollfirst.com
SUMMARY:Special Missions Service
DESCRIPTION:Starting off Vacation Bible School with a Special Missions Service. \nAll Church Grill Out afterward \nChurch Youth will be leading the service \n 
URL:http://carrollfirst.com/event/special-missions-service/
END:VEVENT
BEGIN:VEVENT
DTSTART;VALUE=DATE:20210603
DTEND;VALUE=DATE:20210606
DTSTAMP:20260425T232251
CREATED:20210422T162547Z
LAST-MODIFIED:20210429T165158Z
UID:29131-1622678400-1622937599@carrollfirst.com
SUMMARY:VACATION BIBLE SCHOOL
DESCRIPTION:
URL:http://carrollfirst.com/event/camp/
END:VEVENT
BEGIN:VEVENT
DTSTART;TZID=America/Chicago:20210527T113000
DTEND;TZID=America/Chicago:20210527T123000
DTSTAMP:20260425T232251
CREATED:20210506T153550Z
LAST-MODIFIED:20210506T153550Z
UID:29142-1622115000-1622118600@carrollfirst.com
SUMMARY:Senior Lunch
DESCRIPTION:Join Pastor Dave for lunch at Veterans Park!
URL:http://carrollfirst.com/event/senior-lunch-11/
LOCATION:Veteran’s Memorial Park\, 2100 N. Grant Rd.\, Carroll\, IA\, 51401\, United States
END:VEVENT
BEGIN:VEVENT
DTSTART;TZID=America/Chicago:20210523T183000
DTEND;TZID=America/Chicago:20210523T193000
DTSTAMP:20260425T232251
CREATED:20210429T163524Z
LAST-MODIFIED:20210429T163524Z
UID:29133-1621794600-1621798200@carrollfirst.com
SUMMARY:Special Worship Service
DESCRIPTION:
URL:http://carrollfirst.com/event/special-worship-service/
END:VEVENT
BEGIN:VEVENT
DTSTART;VALUE=DATE:20210509
DTEND;VALUE=DATE:20210510
DTSTAMP:20260425T232251
CREATED:20210305T171704Z
LAST-MODIFIED:20210305T171704Z
UID:29101-1620518400-1620604799@carrollfirst.com
SUMMARY:Mother's Day
DESCRIPTION:
URL:http://carrollfirst.com/event/mothers-day/
END:VEVENT
BEGIN:VEVENT
DTSTART;TZID=America/Chicago:20210505T183000
DTEND;TZID=America/Chicago:20210505T194500
DTSTAMP:20260425T232251
CREATED:20210226T191008Z
LAST-MODIFIED:20210305T171617Z
UID:29072-1620239400-1620243900@carrollfirst.com
SUMMARY:Last Night of Kid Activities
DESCRIPTION:Wednesday Night Kid Activities\n\nSparks (Pre K – 2nd grade)\n\n\n\n  T & T (3rd – 5th grade) \n Youth Church (6th – 12th grade)
URL:http://carrollfirst.com/event/wednesday-night-kid-activities-22/
END:VEVENT
BEGIN:VEVENT
DTSTART;TZID=America/Chicago:20210428T183000
DTEND;TZID=America/Chicago:20210428T194500
DTSTAMP:20260425T232251
CREATED:20210305T170539Z
LAST-MODIFIED:20210305T170539Z
UID:29090-1619634600-1619639100@carrollfirst.com
SUMMARY:Adult Class - Heaven Invades
DESCRIPTION:Adult class taught by Alicia Perry and Pastor Dave.
URL:http://carrollfirst.com/event/adult-class-heaven-invades-7/
END:VEVENT
BEGIN:VEVENT
DTSTART;TZID=America/Chicago:20210428T183000
DTEND;TZID=America/Chicago:20210428T194500
DTSTAMP:20260425T232251
CREATED:20210226T190917Z
LAST-MODIFIED:20210226T190917Z
UID:29070-1619634600-1619639100@carrollfirst.com
SUMMARY:Wednesday Night Kid Activities
DESCRIPTION:Wednesday Night Kid Activities\n\nSparks (Pre K – 2nd grade)\n\n\n\n  T & T (3rd – 5th grade) \n Youth Church (6th – 12th grade)
URL:http://carrollfirst.com/event/wednesday-night-kid-activities-21/
END:VEVENT
BEGIN:VEVENT
DTSTART;TZID=America/Chicago:20210421T183000
DTEND;TZID=America/Chicago:20210421T194500
DTSTAMP:20260425T232251
CREATED:20210305T170456Z
LAST-MODIFIED:20210305T170456Z
UID:29088-1619029800-1619034300@carrollfirst.com
SUMMARY:Adult Class - Heaven Invades
DESCRIPTION:Adult class taught by Alicia Perry and Pastor Dave.
URL:http://carrollfirst.com/event/adult-class-heaven-invades-6/
END:VEVENT
END:VCALENDAR