BEGIN:VCALENDAR
VERSION:2.0
PRODID:-//Carroll First Church - ECPv6.15.20//NONSGML v1.0//EN
CALSCALE:GREGORIAN
METHOD:PUBLISH
X-ORIGINAL-URL:http://carrollfirst.com
X-WR-CALDESC:Events for Carroll First Church
REFRESH-INTERVAL;VALUE=DURATION:PT1H
X-Robots-Tag:noindex
X-PUBLISHED-TTL:PT1H
BEGIN:VTIMEZONE
TZID:America/Chicago
BEGIN:DAYLIGHT
TZOFFSETFROM:-0600
TZOFFSETTO:-0500
TZNAME:CDT
DTSTART:20210314T080000
END:DAYLIGHT
BEGIN:STANDARD
TZOFFSETFROM:-0500
TZOFFSETTO:-0600
TZNAME:CST
DTSTART:20211107T070000
END:STANDARD
BEGIN:DAYLIGHT
TZOFFSETFROM:-0600
TZOFFSETTO:-0500
TZNAME:CDT
DTSTART:20220313T080000
END:DAYLIGHT
BEGIN:STANDARD
TZOFFSETFROM:-0500
TZOFFSETTO:-0600
TZNAME:CST
DTSTART:20221106T070000
END:STANDARD
BEGIN:DAYLIGHT
TZOFFSETFROM:-0600
TZOFFSETTO:-0500
TZNAME:CDT
DTSTART:20230312T080000
END:DAYLIGHT
BEGIN:STANDARD
TZOFFSETFROM:-0500
TZOFFSETTO:-0600
TZNAME:CST
DTSTART:20231105T070000
END:STANDARD
END:VTIMEZONE
BEGIN:VEVENT
DTSTART;TZID=America/Chicago:20221102T183000
DTEND;TZID=America/Chicago:20221102T194500
DTSTAMP:20260425T224629
CREATED:20220914T180658Z
LAST-MODIFIED:20221003T180340Z
UID:29650-1667413800-1667418300@carrollfirst.com
SUMMARY:Adult Night Class
DESCRIPTION:“Inward\, Outward\, and Upward Spiritual Growth” with Pastor Dave & Alicia Perry
URL:http://carrollfirst.com/event/adult-night-class-5/
LOCATION:Discover Church\, 18632 U. S. Hwy 71\, Carroll\, IA\, 51401-8796\, United States
END:VEVENT
BEGIN:VEVENT
DTSTART;TZID=America/Chicago:20221102T183000
DTEND;TZID=America/Chicago:20221102T200000
DTSTAMP:20260425T224629
CREATED:20220922T192438Z
LAST-MODIFIED:20220922T192438Z
UID:29698-1667413800-1667419200@carrollfirst.com
SUMMARY:Wednesday Night Youth Groups
DESCRIPTION:Youth Church \nKids Connect
URL:http://carrollfirst.com/event/wednesday-night-youth-groups-5/
LOCATION:Discover Church\, 18632 U. S. Hwy 71\, Carroll\, IA\, 51401-8796\, United States
END:VEVENT
BEGIN:VEVENT
DTSTART;TZID=America/Chicago:20221109T183000
DTEND;TZID=America/Chicago:20221109T194500
DTSTAMP:20260425T224629
CREATED:20220914T180735Z
LAST-MODIFIED:20220914T180735Z
UID:29652-1668018600-1668023100@carrollfirst.com
SUMMARY:Adult Night Class
DESCRIPTION:“Inward\, Outward\, and Upward Spiritual Growth” with Pastor Dave & Alicia Perry
URL:http://carrollfirst.com/event/adult-night-class-9/
LOCATION:Discover Church\, 18632 U. S. Hwy 71\, Carroll\, IA\, 51401-8796\, United States
END:VEVENT
BEGIN:VEVENT
DTSTART;TZID=America/Chicago:20221109T183000
DTEND;TZID=America/Chicago:20221109T200000
DTSTAMP:20260425T224629
CREATED:20220922T194032Z
LAST-MODIFIED:20220922T194032Z
UID:29702-1668018600-1668024000@carrollfirst.com
SUMMARY:Wednesday Night Youth Groups
DESCRIPTION:Youth Church \nKids Connect
URL:http://carrollfirst.com/event/wednesday-night-youth-groups-6/
LOCATION:Discover Church\, 18632 U. S. Hwy 71\, Carroll\, IA\, 51401-8796\, United States
END:VEVENT
BEGIN:VEVENT
DTSTART;VALUE=DATE:20221111
DTEND;VALUE=DATE:20221113
DTSTAMP:20260425T224629
CREATED:20220922T190116Z
LAST-MODIFIED:20220922T190116Z
UID:29675-1668124800-1668297599@carrollfirst.com
SUMMARY:Youth Fall Conference
DESCRIPTION:
URL:http://carrollfirst.com/event/youth-fall-conference/
END:VEVENT
BEGIN:VEVENT
DTSTART;TZID=America/Chicago:20221116T183000
DTEND;TZID=America/Chicago:20221116T194500
DTSTAMP:20260425T224629
CREATED:20220914T180813Z
LAST-MODIFIED:20220914T180813Z
UID:29654-1668623400-1668627900@carrollfirst.com
SUMMARY:Adult Night Class
DESCRIPTION:“Inward\, Outward\, and Upward Spiritual Growth” with Pastor Dave & Alicia Perry
URL:http://carrollfirst.com/event/adult-night-class-10/
LOCATION:Discover Church\, 18632 U. S. Hwy 71\, Carroll\, IA\, 51401-8796\, United States
END:VEVENT
BEGIN:VEVENT
DTSTART;TZID=America/Chicago:20221116T183000
DTEND;TZID=America/Chicago:20221116T200000
DTSTAMP:20260425T224629
CREATED:20220922T194202Z
LAST-MODIFIED:20220922T194202Z
UID:29704-1668623400-1668628800@carrollfirst.com
SUMMARY:Wednesday Night Youth Groups
DESCRIPTION:Youth Small Groups \nKids Connect
URL:http://carrollfirst.com/event/wednesday-night-youth-groups-7/
LOCATION:Discover Church\, 18632 U. S. Hwy 71\, Carroll\, IA\, 51401-8796\, United States
END:VEVENT
BEGIN:VEVENT
DTSTART;VALUE=DATE:20221123
DTEND;VALUE=DATE:20221124
DTSTAMP:20260425T224629
CREATED:20220922T190649Z
LAST-MODIFIED:20220922T191030Z
UID:29683-1669161600-1669247999@carrollfirst.com
SUMMARY:No Wednesday Night Groups
DESCRIPTION:Thanksgiving Break
URL:http://carrollfirst.com/event/no-wednesday-night-groups/
LOCATION:Discover Church\, 18632 U. S. Hwy 71\, Carroll\, IA\, 51401-8796\, United States
END:VEVENT
BEGIN:VEVENT
DTSTART;TZID=America/Chicago:20221130T183000
DTEND;TZID=America/Chicago:20221130T194500
DTSTAMP:20260425T224629
CREATED:20220914T180849Z
LAST-MODIFIED:20220914T180849Z
UID:29656-1669833000-1669837500@carrollfirst.com
SUMMARY:Adult Night Class
DESCRIPTION:“Inward\, Outward\, and Upward Spiritual Growth” with Pastor Dave & Alicia Perry
URL:http://carrollfirst.com/event/adult-night-class-11/
LOCATION:Discover Church\, 18632 U. S. Hwy 71\, Carroll\, IA\, 51401-8796\, United States
END:VEVENT
BEGIN:VEVENT
DTSTART;TZID=America/Chicago:20221130T183000
DTEND;TZID=America/Chicago:20221130T200000
DTSTAMP:20260425T224629
CREATED:20220922T194511Z
LAST-MODIFIED:20220922T194511Z
UID:29706-1669833000-1669838400@carrollfirst.com
SUMMARY:Wednesday Night Youth Groups
DESCRIPTION:Youth Takeover \nKids Connect
URL:http://carrollfirst.com/event/wednesday-night-youth-groups-8/
LOCATION:Discover Church\, 18632 U. S. Hwy 71\, Carroll\, IA\, 51401-8796\, United States
END:VEVENT
END:VCALENDAR