BEGIN:VCALENDAR
VERSION:2.0
PRODID:-//Carroll First Church - ECPv6.15.20//NONSGML v1.0//EN
CALSCALE:GREGORIAN
METHOD:PUBLISH
X-ORIGINAL-URL:http://carrollfirst.com
X-WR-CALDESC:Events for Carroll First Church
REFRESH-INTERVAL;VALUE=DURATION:PT1H
X-Robots-Tag:noindex
X-PUBLISHED-TTL:PT1H
BEGIN:VTIMEZONE
TZID:America/Chicago
BEGIN:DAYLIGHT
TZOFFSETFROM:-0600
TZOFFSETTO:-0500
TZNAME:CDT
DTSTART:20210314T080000
END:DAYLIGHT
BEGIN:STANDARD
TZOFFSETFROM:-0500
TZOFFSETTO:-0600
TZNAME:CST
DTSTART:20211107T070000
END:STANDARD
BEGIN:DAYLIGHT
TZOFFSETFROM:-0600
TZOFFSETTO:-0500
TZNAME:CDT
DTSTART:20220313T080000
END:DAYLIGHT
BEGIN:STANDARD
TZOFFSETFROM:-0500
TZOFFSETTO:-0600
TZNAME:CST
DTSTART:20221106T070000
END:STANDARD
BEGIN:DAYLIGHT
TZOFFSETFROM:-0600
TZOFFSETTO:-0500
TZNAME:CDT
DTSTART:20230312T080000
END:DAYLIGHT
BEGIN:STANDARD
TZOFFSETFROM:-0500
TZOFFSETTO:-0600
TZNAME:CST
DTSTART:20231105T070000
END:STANDARD
END:VTIMEZONE
BEGIN:VEVENT
DTSTART;TZID=America/Chicago:20221207T183000
DTEND;TZID=America/Chicago:20221207T200000
DTSTAMP:20260425T212046
CREATED:20220922T194611Z
LAST-MODIFIED:20220922T194611Z
UID:29708-1670437800-1670443200@carrollfirst.com
SUMMARY:Wednesday Night Youth Groups
DESCRIPTION:Youth Church \nKids Connect
URL:http://carrollfirst.com/event/wednesday-night-youth-groups-9/
LOCATION:Discover Church\, 18632 U. S. Hwy 71\, Carroll\, IA\, 51401-8796\, United States
END:VEVENT
BEGIN:VEVENT
DTSTART;TZID=America/Chicago:20221214T113000
DTEND;TZID=America/Chicago:20221214T130000
DTSTAMP:20260425T212046
CREATED:20221208T222732Z
LAST-MODIFIED:20221208T222732Z
UID:29732-1671017400-1671022800@carrollfirst.com
SUMMARY:Senior Lunch
DESCRIPTION:Join Pastor Dave for lunch at The Family Table
URL:http://carrollfirst.com/event/senior-lunch-25/
LOCATION:Family Table\, 1525 Radiant Rd.\, Carroll\, IA\, 51401\, United States
END:VEVENT
BEGIN:VEVENT
DTSTART;TZID=America/Chicago:20221214T180000
DTEND;TZID=America/Chicago:20221214T200000
DTSTAMP:20260425T212046
CREATED:20221003T180658Z
LAST-MODIFIED:20221208T223812Z
UID:29718-1671040800-1671048000@carrollfirst.com
SUMMARY:Kids Connect and Youth Christmas Party
DESCRIPTION:Christmas party for Kids Connect \nChristmas Chaos for Youth
URL:http://carrollfirst.com/event/wednesday-night-youth-groups-11/
LOCATION:Discover Church\, 18632 U. S. Hwy 71\, Carroll\, IA\, 51401-8796\, United States
END:VEVENT
BEGIN:VEVENT
DTSTART;TZID=America/Chicago:20221218T103000
DTEND;TZID=America/Chicago:20221218T120000
DTSTAMP:20260425T212046
CREATED:20221208T222630Z
LAST-MODIFIED:20221208T223540Z
UID:29730-1671359400-1671364800@carrollfirst.com
SUMMARY:Kids Christmas Program
DESCRIPTION:Parents – please have your kids to church by 10:10 AM.
URL:http://carrollfirst.com/event/kids-christmas-program/
LOCATION:Discover Church\, 18632 U. S. Hwy 71\, Carroll\, IA\, 51401-8796\, United States
END:VEVENT
BEGIN:VEVENT
DTSTART;VALUE=DATE:20221221
DTEND;VALUE=DATE:20221222
DTSTAMP:20260425T212046
CREATED:20220922T194758Z
LAST-MODIFIED:20220922T195053Z
UID:29712-1671580800-1671667199@carrollfirst.com
SUMMARY:No Wednesday Night Activities
DESCRIPTION:Christmas Break
URL:http://carrollfirst.com/event/no-wednesday-night-activities-5/
END:VEVENT
BEGIN:VEVENT
DTSTART;TZID=America/Chicago:20221224T170000
DTEND;TZID=America/Chicago:20221224T180000
DTSTAMP:20260425T212046
CREATED:20221208T223645Z
LAST-MODIFIED:20221214T220647Z
UID:29735-1671901200-1671904800@carrollfirst.com
SUMMARY:Christmas Eve Service
DESCRIPTION:Join us for a special candlelight service!
URL:http://carrollfirst.com/event/christmas-eve-service-5/
LOCATION:Discover Church\, 18632 U. S. Hwy 71\, Carroll\, IA\, 51401-8796\, United States
END:VEVENT
BEGIN:VEVENT
DTSTART;TZID=America/Chicago:20221225T100000
DTEND;TZID=America/Chicago:20221225T113000
DTSTAMP:20260425T212046
CREATED:20221214T220747Z
LAST-MODIFIED:20221214T220747Z
UID:29744-1671962400-1671967800@carrollfirst.com
SUMMARY:Christmas Day Service
DESCRIPTION:Join us for Coffee & Bagels!
URL:http://carrollfirst.com/event/christmas-day-service/
LOCATION:Discover Church\, 18632 U. S. Hwy 71\, Carroll\, IA\, 51401-8796\, United States
END:VEVENT
BEGIN:VEVENT
DTSTART;VALUE=DATE:20221228
DTEND;VALUE=DATE:20221229
DTSTAMP:20260425T212046
CREATED:20220922T194837Z
LAST-MODIFIED:20220922T195112Z
UID:29714-1672185600-1672271999@carrollfirst.com
SUMMARY:No Wednesday Night Activities
DESCRIPTION:Christmas Break
URL:http://carrollfirst.com/event/no-wednesday-night-activities-6/
END:VEVENT
END:VCALENDAR