BEGIN:VCALENDAR
VERSION:2.0
PRODID:-//Carroll First Church - ECPv6.15.20//NONSGML v1.0//EN
CALSCALE:GREGORIAN
METHOD:PUBLISH
X-ORIGINAL-URL:http://carrollfirst.com
X-WR-CALDESC:Events for Carroll First Church
REFRESH-INTERVAL;VALUE=DURATION:PT1H
X-Robots-Tag:noindex
X-PUBLISHED-TTL:PT1H
BEGIN:VTIMEZONE
TZID:America/Chicago
BEGIN:DAYLIGHT
TZOFFSETFROM:-0600
TZOFFSETTO:-0500
TZNAME:CDT
DTSTART:20220313T080000
END:DAYLIGHT
BEGIN:STANDARD
TZOFFSETFROM:-0500
TZOFFSETTO:-0600
TZNAME:CST
DTSTART:20221106T070000
END:STANDARD
BEGIN:DAYLIGHT
TZOFFSETFROM:-0600
TZOFFSETTO:-0500
TZNAME:CDT
DTSTART:20230312T080000
END:DAYLIGHT
BEGIN:STANDARD
TZOFFSETFROM:-0500
TZOFFSETTO:-0600
TZNAME:CST
DTSTART:20231105T070000
END:STANDARD
BEGIN:DAYLIGHT
TZOFFSETFROM:-0600
TZOFFSETTO:-0500
TZNAME:CDT
DTSTART:20240310T080000
END:DAYLIGHT
BEGIN:STANDARD
TZOFFSETFROM:-0500
TZOFFSETTO:-0600
TZNAME:CST
DTSTART:20241103T070000
END:STANDARD
END:VTIMEZONE
BEGIN:VEVENT
DTSTART;TZID=America/Chicago:20230405T183000
DTEND;TZID=America/Chicago:20230405T200000
DTSTAMP:20260425T153212
CREATED:20230309T214740Z
LAST-MODIFIED:20230309T214740Z
UID:29808-1680719400-1680724800@carrollfirst.com
SUMMARY:Wednesday Night Youth Groups
DESCRIPTION:Youth Church \nKids Connect
URL:http://carrollfirst.com/event/wednesday-night-youth-groups-22/
LOCATION:Discover Church\, 18632 U. S. Hwy 71\, Carroll\, IA\, 51401-8796\, United States
END:VEVENT
BEGIN:VEVENT
DTSTART;TZID=America/Chicago:20230407T190000
DTEND;TZID=America/Chicago:20230407T200000
DTSTAMP:20260425T153212
CREATED:20230406T141441Z
LAST-MODIFIED:20230406T141441Z
UID:29831-1680894000-1680897600@carrollfirst.com
SUMMARY:Good Friday Service
DESCRIPTION:Combined service with Renew Church
URL:http://carrollfirst.com/event/good-friday-service/
LOCATION:Discover Church\, 18632 U. S. Hwy 71\, Carroll\, IA\, 51401-8796\, United States
END:VEVENT
BEGIN:VEVENT
DTSTART;VALUE=DATE:20230409
DTEND;VALUE=DATE:20230410
DTSTAMP:20260425T153212
CREATED:20230406T141529Z
LAST-MODIFIED:20230406T141529Z
UID:29833-1680998400-1681084799@carrollfirst.com
SUMMARY:EASTER
DESCRIPTION:
URL:http://carrollfirst.com/event/easter-4/
END:VEVENT
BEGIN:VEVENT
DTSTART;TZID=America/Chicago:20230412T183000
DTEND;TZID=America/Chicago:20230412T200000
DTSTAMP:20260425T153212
CREATED:20230309T215244Z
LAST-MODIFIED:20230309T215244Z
UID:29814-1681324200-1681329600@carrollfirst.com
SUMMARY:Wednesday Night Youth Activities
DESCRIPTION:Youth Church \nKids Connect
URL:http://carrollfirst.com/event/wednesday-night-youth-activities-3/
LOCATION:Discover Church\, 18632 U. S. Hwy 71\, Carroll\, IA\, 51401-8796\, United States
END:VEVENT
BEGIN:VEVENT
DTSTART;VALUE=DATE:20230415
DTEND;VALUE=DATE:20230416
DTSTAMP:20260425T153212
CREATED:20230309T215357Z
LAST-MODIFIED:20230309T215357Z
UID:29816-1681516800-1681603199@carrollfirst.com
SUMMARY:Fine Arts
DESCRIPTION:
URL:http://carrollfirst.com/event/fine-arts/
END:VEVENT
BEGIN:VEVENT
DTSTART;TZID=America/Chicago:20230419T183000
DTEND;TZID=America/Chicago:20230419T200000
DTSTAMP:20260425T153212
CREATED:20230309T214936Z
LAST-MODIFIED:20230309T214936Z
UID:29810-1681929000-1681934400@carrollfirst.com
SUMMARY:Wednesday Night Youth Activities
DESCRIPTION:Youth Church \nKids Connect
URL:http://carrollfirst.com/event/wednesday-night-youth-activities/
LOCATION:Discover Church\, 18632 U. S. Hwy 71\, Carroll\, IA\, 51401-8796\, United States
END:VEVENT
BEGIN:VEVENT
DTSTART;TZID=America/Chicago:20230422T090000
DTEND;TZID=America/Chicago:20230422T110000
DTSTAMP:20260425T153212
CREATED:20230406T141300Z
LAST-MODIFIED:20230406T141300Z
UID:29829-1682154000-1682161200@carrollfirst.com
SUMMARY:Spring Clean Up
DESCRIPTION:Clean up around the outside of the church
URL:http://carrollfirst.com/event/spring-clean-up/
LOCATION:Discover Church\, 18632 U. S. Hwy 71\, Carroll\, IA\, 51401-8796\, United States
END:VEVENT
BEGIN:VEVENT
DTSTART;TZID=America/Chicago:20230426T113000
DTEND;TZID=America/Chicago:20230426T123000
DTSTAMP:20260425T153212
CREATED:20230411T211344Z
LAST-MODIFIED:20230411T211344Z
UID:29842-1682508600-1682512200@carrollfirst.com
SUMMARY:Senior Lunch
DESCRIPTION:Join Pastor Dave for lunch!
URL:http://carrollfirst.com/event/senior-lunch-28/
LOCATION:Family Table\, 1525 Radiant Rd.\, Carroll\, IA\, 51401\, United States
END:VEVENT
BEGIN:VEVENT
DTSTART;TZID=America/Chicago:20230426T183000
DTEND;TZID=America/Chicago:20230426T200000
DTSTAMP:20260425T153212
CREATED:20230309T215043Z
LAST-MODIFIED:20230309T215043Z
UID:29812-1682533800-1682539200@carrollfirst.com
SUMMARY:Wednesday Night Youth Activities
DESCRIPTION:Youth Church Small Groups \nKids Connect
URL:http://carrollfirst.com/event/wednesday-night-youth-activities-2/
LOCATION:Discover Church\, 18632 U. S. Hwy 71\, Carroll\, IA\, 51401-8796\, United States
END:VEVENT
BEGIN:VEVENT
DTSTART;TZID=America/Chicago:20230430T103000
DTEND;TZID=America/Chicago:20230430T113000
DTSTAMP:20260425T153212
CREATED:20230411T211445Z
LAST-MODIFIED:20230411T211445Z
UID:29844-1682850600-1682854200@carrollfirst.com
SUMMARY:Youth Take Over
DESCRIPTION:
URL:http://carrollfirst.com/event/youth-take-over/
LOCATION:Discover Church\, 18632 U. S. Hwy 71\, Carroll\, IA\, 51401-8796\, United States
END:VEVENT
END:VCALENDAR