BEGIN:VCALENDAR
VERSION:2.0
PRODID:-//Carroll First Church - ECPv6.15.20//NONSGML v1.0//EN
CALSCALE:GREGORIAN
METHOD:PUBLISH
X-ORIGINAL-URL:http://carrollfirst.com
X-WR-CALDESC:Events for Carroll First Church
REFRESH-INTERVAL;VALUE=DURATION:PT1H
X-Robots-Tag:noindex
X-PUBLISHED-TTL:PT1H
BEGIN:VTIMEZONE
TZID:America/Chicago
BEGIN:DAYLIGHT
TZOFFSETFROM:-0600
TZOFFSETTO:-0500
TZNAME:CDT
DTSTART:20220313T080000
END:DAYLIGHT
BEGIN:STANDARD
TZOFFSETFROM:-0500
TZOFFSETTO:-0600
TZNAME:CST
DTSTART:20221106T070000
END:STANDARD
BEGIN:DAYLIGHT
TZOFFSETFROM:-0600
TZOFFSETTO:-0500
TZNAME:CDT
DTSTART:20230312T080000
END:DAYLIGHT
BEGIN:STANDARD
TZOFFSETFROM:-0500
TZOFFSETTO:-0600
TZNAME:CST
DTSTART:20231105T070000
END:STANDARD
BEGIN:DAYLIGHT
TZOFFSETFROM:-0600
TZOFFSETTO:-0500
TZNAME:CDT
DTSTART:20240310T080000
END:DAYLIGHT
BEGIN:STANDARD
TZOFFSETFROM:-0500
TZOFFSETTO:-0600
TZNAME:CST
DTSTART:20241103T070000
END:STANDARD
END:VTIMEZONE
BEGIN:VEVENT
DTSTART;TZID=America/Chicago:20230503T183000
DTEND;TZID=America/Chicago:20230503T200000
DTSTAMP:20260425T142206
CREATED:20230309T215523Z
LAST-MODIFIED:20230309T215523Z
UID:29818-1683138600-1683144000@carrollfirst.com
SUMMARY:Wednesday Night Youth Groups
DESCRIPTION:Youth Church \nKids Connect
URL:http://carrollfirst.com/event/wednesday-night-youth-groups-23/
LOCATION:Discover Church\, 18632 U. S. Hwy 71\, Carroll\, IA\, 51401-8796\, United States
END:VEVENT
BEGIN:VEVENT
DTSTART;TZID=America/Chicago:20230507T113000
DTEND;TZID=America/Chicago:20230507T120000
DTSTAMP:20260425T142206
CREATED:20230411T211623Z
LAST-MODIFIED:20230411T211623Z
UID:29846-1683459000-1683460800@carrollfirst.com
SUMMARY:Spring BGMC Fundraiser
DESCRIPTION:right after the church service
URL:http://carrollfirst.com/event/spring-bgmc-fundraiser/
LOCATION:Discover Church\, 18632 U. S. Hwy 71\, Carroll\, IA\, 51401-8796\, United States
END:VEVENT
BEGIN:VEVENT
DTSTART;TZID=America/Chicago:20230510T183000
DTEND;TZID=America/Chicago:20230510T200000
DTSTAMP:20260425T142206
CREATED:20230309T215629Z
LAST-MODIFIED:20230427T211058Z
UID:29820-1683743400-1683748800@carrollfirst.com
SUMMARY:Wednesday Night Youth Groups
DESCRIPTION:Last Wednesday Night
URL:http://carrollfirst.com/event/wednesday-night-youth-groups-24/
LOCATION:Discover Church\, 18632 U. S. Hwy 71\, Carroll\, IA\, 51401-8796\, United States
END:VEVENT
BEGIN:VEVENT
DTSTART;TZID=America/Chicago:20230524T113000
DTEND;TZID=America/Chicago:20230524T123000
DTSTAMP:20260425T142206
CREATED:20230504T200157Z
LAST-MODIFIED:20230504T200157Z
UID:29853-1684927800-1684931400@carrollfirst.com
SUMMARY:Senior Lunch
DESCRIPTION:Join Pastor Dave for lunch!
URL:http://carrollfirst.com/event/senior-lunch-29/
LOCATION:Rancho Grande\, 323 N. Main St.\, Carroll\, IA\, 51401\, United States
END:VEVENT
END:VCALENDAR