BEGIN:VCALENDAR
VERSION:2.0
PRODID:-//Carroll First Church - ECPv6.15.20//NONSGML v1.0//EN
CALSCALE:GREGORIAN
METHOD:PUBLISH
X-ORIGINAL-URL:http://carrollfirst.com
X-WR-CALDESC:Events for Carroll First Church
REFRESH-INTERVAL;VALUE=DURATION:PT1H
X-Robots-Tag:noindex
X-PUBLISHED-TTL:PT1H
BEGIN:VTIMEZONE
TZID:America/Chicago
BEGIN:DAYLIGHT
TZOFFSETFROM:-0600
TZOFFSETTO:-0500
TZNAME:CDT
DTSTART:20230312T080000
END:DAYLIGHT
BEGIN:STANDARD
TZOFFSETFROM:-0500
TZOFFSETTO:-0600
TZNAME:CST
DTSTART:20231105T070000
END:STANDARD
BEGIN:DAYLIGHT
TZOFFSETFROM:-0600
TZOFFSETTO:-0500
TZNAME:CDT
DTSTART:20240310T080000
END:DAYLIGHT
BEGIN:STANDARD
TZOFFSETFROM:-0500
TZOFFSETTO:-0600
TZNAME:CST
DTSTART:20241103T070000
END:STANDARD
BEGIN:DAYLIGHT
TZOFFSETFROM:-0600
TZOFFSETTO:-0500
TZNAME:CDT
DTSTART:20250309T080000
END:DAYLIGHT
BEGIN:STANDARD
TZOFFSETFROM:-0500
TZOFFSETTO:-0600
TZNAME:CST
DTSTART:20251102T070000
END:STANDARD
END:VTIMEZONE
BEGIN:VEVENT
DTSTART;TZID=America/Chicago:20240403T183000
DTEND;TZID=America/Chicago:20240403T193000
DTSTAMP:20260424T222228
CREATED:20240325T194114Z
LAST-MODIFIED:20240325T194114Z
UID:30386-1712169000-1712172600@carrollfirst.com
SUMMARY:Prayer Night at Carroll First
DESCRIPTION:Join Bill Benson for Prayer Night.
URL:http://carrollfirst.com/event/prayer-night-at-carroll-first-2/
LOCATION:Discover Church\, 18632 U. S. Hwy 71\, Carroll\, IA\, 51401-8796\, United States
END:VEVENT
BEGIN:VEVENT
DTSTART;TZID=America/Chicago:20240403T183000
DTEND;TZID=America/Chicago:20240403T200000
DTSTAMP:20260424T222228
CREATED:20240321T193947Z
LAST-MODIFIED:20240321T194031Z
UID:30356-1712169000-1712174400@carrollfirst.com
SUMMARY:Wednesday Night Youth Activities
DESCRIPTION:Kids Connect K-4 \n56’ers \nYouth Church 7-12
URL:http://carrollfirst.com/event/wednesday-night-groups/
LOCATION:Discover Church\, 18632 U. S. Hwy 71\, Carroll\, IA\, 51401-8796\, United States
END:VEVENT
BEGIN:VEVENT
DTSTART;TZID=America/Chicago:20240403T183000
DTEND;TZID=America/Chicago:20240403T200000
DTSTAMP:20260424T222228
CREATED:20240321T201054Z
LAST-MODIFIED:20240321T201054Z
UID:30368-1712169000-1712174400@carrollfirst.com
SUMMARY:Prayer Night
DESCRIPTION:with Bill Benson
URL:http://carrollfirst.com/event/prayer-night/
LOCATION:Discover Church\, 18632 U. S. Hwy 71\, Carroll\, IA\, 51401-8796\, United States
END:VEVENT
BEGIN:VEVENT
DTSTART;VALUE=DATE:20240407
DTEND;VALUE=DATE:20240408
DTSTAMP:20260424T222228
CREATED:20240321T194514Z
LAST-MODIFIED:20240321T194514Z
UID:30366-1712448000-1712534399@carrollfirst.com
SUMMARY:Last Day for BGMC donations
DESCRIPTION:
URL:http://carrollfirst.com/event/last-day-for-bgmc-donations/
LOCATION:Discover Church\, 18632 U. S. Hwy 71\, Carroll\, IA\, 51401-8796\, United States
END:VEVENT
BEGIN:VEVENT
DTSTART;TZID=America/Chicago:20240407T180000
DTEND;TZID=America/Chicago:20240407T200000
DTSTAMP:20260424T222228
CREATED:20231204T185114Z
LAST-MODIFIED:20231204T185114Z
UID:30257-1712512800-1712520000@carrollfirst.com
SUMMARY:In-Home Small Groups
DESCRIPTION:The discussion and questions will be sermon based.  Join us for a time of encouragement\, prayer\, and fellowship. 
URL:http://carrollfirst.com/event/in-home-small-groups-12/
END:VEVENT
BEGIN:VEVENT
DTSTART;TZID=America/Chicago:20240410T183000
DTEND;TZID=America/Chicago:20240410T200000
DTSTAMP:20260424T222228
CREATED:20240321T194105Z
LAST-MODIFIED:20240321T194105Z
UID:30359-1712773800-1712779200@carrollfirst.com
SUMMARY:Wednesday Night Youth Activities
DESCRIPTION:Kids Connect K-4 \n56’ers \nYouth Church 7-12
URL:http://carrollfirst.com/event/wednesday-night-youth-activities-5/
LOCATION:Discover Church\, 18632 U. S. Hwy 71\, Carroll\, IA\, 51401-8796\, United States
END:VEVENT
BEGIN:VEVENT
DTSTART;TZID=America/Chicago:20240417T113000
DTEND;TZID=America/Chicago:20240417T123000
DTSTAMP:20260424T222228
CREATED:20240404T193410Z
LAST-MODIFIED:20240404T193410Z
UID:30396-1713353400-1713357000@carrollfirst.com
SUMMARY:Senior Lunch
DESCRIPTION:Join Pastor Dave for lunch!
URL:http://carrollfirst.com/event/senior-lunch-37/
LOCATION:Family Table\, 1525 Radiant Rd.\, Carroll\, IA\, 51401\, United States
END:VEVENT
BEGIN:VEVENT
DTSTART;TZID=America/Chicago:20240417T180000
DTEND;TZID=America/Chicago:20240417T200000
DTSTAMP:20260424T222228
CREATED:20240321T194138Z
LAST-MODIFIED:20240321T194138Z
UID:30361-1713376800-1713384000@carrollfirst.com
SUMMARY:Wednesday Night Youth Activities
DESCRIPTION:Kids Connect K-4 \n56’ers \nYouth Church 7-12
URL:http://carrollfirst.com/event/wednesday-night-youth-activities-6/
LOCATION:Discover Church\, 18632 U. S. Hwy 71\, Carroll\, IA\, 51401-8796\, United States
END:VEVENT
BEGIN:VEVENT
DTSTART;TZID=America/Chicago:20240417T183000
DTEND;TZID=America/Chicago:20240417T193000
DTSTAMP:20260424T222228
CREATED:20240325T194149Z
LAST-MODIFIED:20240325T194149Z
UID:30388-1713378600-1713382200@carrollfirst.com
SUMMARY:Prayer Night at Carroll First
DESCRIPTION:Join Bill Benson for Prayer Night.
URL:http://carrollfirst.com/event/prayer-night-at-carroll-first-3/
LOCATION:Discover Church\, 18632 U. S. Hwy 71\, Carroll\, IA\, 51401-8796\, United States
END:VEVENT
BEGIN:VEVENT
DTSTART;TZID=America/Chicago:20240421T180000
DTEND;TZID=America/Chicago:20240421T200000
DTSTAMP:20260424T222228
CREATED:20231204T185151Z
LAST-MODIFIED:20231204T185151Z
UID:30259-1713722400-1713729600@carrollfirst.com
SUMMARY:In-Home Small Groups
DESCRIPTION:The discussion and questions will be sermon based.  Join us for a time of encouragement\, prayer\, and fellowship. 
URL:http://carrollfirst.com/event/in-home-small-groups-13/
END:VEVENT
BEGIN:VEVENT
DTSTART;TZID=America/Chicago:20240424T183000
DTEND;TZID=America/Chicago:20240424T200000
DTSTAMP:20260424T222228
CREATED:20240321T194215Z
LAST-MODIFIED:20240321T194215Z
UID:30363-1713983400-1713988800@carrollfirst.com
SUMMARY:Wednesday Night Youth Activities
DESCRIPTION:Kids Connect K-4 \n56’ers \nYouth Church 7-12
URL:http://carrollfirst.com/event/wednesday-night-youth-activities-7/
LOCATION:Discover Church\, 18632 U. S. Hwy 71\, Carroll\, IA\, 51401-8796\, United States
END:VEVENT
END:VCALENDAR