BEGIN:VCALENDAR
VERSION:2.0
PRODID:-//Carroll First Church - ECPv6.15.20//NONSGML v1.0//EN
CALSCALE:GREGORIAN
METHOD:PUBLISH
X-ORIGINAL-URL:http://carrollfirst.com
X-WR-CALDESC:Events for Carroll First Church
REFRESH-INTERVAL;VALUE=DURATION:PT1H
X-Robots-Tag:noindex
X-PUBLISHED-TTL:PT1H
BEGIN:VTIMEZONE
TZID:America/Chicago
BEGIN:DAYLIGHT
TZOFFSETFROM:-0600
TZOFFSETTO:-0500
TZNAME:CDT
DTSTART:20230312T080000
END:DAYLIGHT
BEGIN:STANDARD
TZOFFSETFROM:-0500
TZOFFSETTO:-0600
TZNAME:CST
DTSTART:20231105T070000
END:STANDARD
BEGIN:DAYLIGHT
TZOFFSETFROM:-0600
TZOFFSETTO:-0500
TZNAME:CDT
DTSTART:20240310T080000
END:DAYLIGHT
BEGIN:STANDARD
TZOFFSETFROM:-0500
TZOFFSETTO:-0600
TZNAME:CST
DTSTART:20241103T070000
END:STANDARD
BEGIN:DAYLIGHT
TZOFFSETFROM:-0600
TZOFFSETTO:-0500
TZNAME:CDT
DTSTART:20250309T080000
END:DAYLIGHT
BEGIN:STANDARD
TZOFFSETFROM:-0500
TZOFFSETTO:-0600
TZNAME:CST
DTSTART:20251102T070000
END:STANDARD
END:VTIMEZONE
BEGIN:VEVENT
DTSTART;TZID=America/Chicago:20240501T183000
DTEND;TZID=America/Chicago:20240501T200000
DTSTAMP:20260424T210145
CREATED:20240325T193644Z
LAST-MODIFIED:20240325T193644Z
UID:30380-1714588200-1714593600@carrollfirst.com
SUMMARY:Wednesday Night Youth Activities
DESCRIPTION:Kids Connect K-4 \n56’ers \nYouth Church 7-12
URL:http://carrollfirst.com/event/wednesday-night-youth-activities-8/
LOCATION:Discover Church\, 18632 U. S. Hwy 71\, Carroll\, IA\, 51401-8796\, United States
END:VEVENT
BEGIN:VEVENT
DTSTART;TZID=America/Chicago:20240501T183000
DTEND;TZID=America/Chicago:20240501T200000
DTSTAMP:20260424T210145
CREATED:20240325T194232Z
LAST-MODIFIED:20240325T194232Z
UID:30390-1714588200-1714593600@carrollfirst.com
SUMMARY:Prayer Night at Carroll First
DESCRIPTION:Join Bill Benson for Prayer Night.
URL:http://carrollfirst.com/event/prayer-night-at-carroll-first-4/
LOCATION:Discover Church\, 18632 U. S. Hwy 71\, Carroll\, IA\, 51401-8796\, United States
END:VEVENT
BEGIN:VEVENT
DTSTART;TZID=America/Chicago:20240505T120000
DTEND;TZID=America/Chicago:20240505T130000
DTSTAMP:20260424T210145
CREATED:20240404T193528Z
LAST-MODIFIED:20240404T193528Z
UID:30398-1714910400-1714914000@carrollfirst.com
SUMMARY:Youth Take Over Sunday
DESCRIPTION:There will be a fundraiser lunch following the service for the kids going to the National Fine Arts.
URL:http://carrollfirst.com/event/youth-take-over-sunday/
LOCATION:Discover Church\, 18632 U. S. Hwy 71\, Carroll\, IA\, 51401-8796\, United States
END:VEVENT
BEGIN:VEVENT
DTSTART;TZID=America/Chicago:20240505T180000
DTEND;TZID=America/Chicago:20240505T200000
DTSTAMP:20260424T210145
CREATED:20231204T185229Z
LAST-MODIFIED:20231204T185229Z
UID:30261-1714932000-1714939200@carrollfirst.com
SUMMARY:In-Home Small Groups
DESCRIPTION:The discussion and questions will be sermon based.  Join us for a time of encouragement\, prayer\, and fellowship. 
URL:http://carrollfirst.com/event/in-home-small-groups-14/
END:VEVENT
BEGIN:VEVENT
DTSTART;TZID=America/Chicago:20240508T183000
DTEND;TZID=America/Chicago:20240508T200000
DTSTAMP:20260424T210145
CREATED:20240325T193724Z
LAST-MODIFIED:20240325T193724Z
UID:30382-1715193000-1715198400@carrollfirst.com
SUMMARY:Wednesday Night Youth Activities
DESCRIPTION:Kids Connect K-4 \n56’ers \nYouth Church 7-12
URL:http://carrollfirst.com/event/wednesday-night-youth-activities-9/
LOCATION:Discover Church\, 18632 U. S. Hwy 71\, Carroll\, IA\, 51401-8796\, United States
END:VEVENT
BEGIN:VEVENT
DTSTART;TZID=America/Chicago:20240515T183000
DTEND;TZID=America/Chicago:20240515T193000
DTSTAMP:20260424T210145
CREATED:20240325T194305Z
LAST-MODIFIED:20240325T194332Z
UID:30392-1715797800-1715801400@carrollfirst.com
SUMMARY:Prayer Night at Carroll First
DESCRIPTION:Join Bill Benson for Prayer Night.
URL:http://carrollfirst.com/event/prayer-night-at-carroll-first-5/
LOCATION:Discover Church\, 18632 U. S. Hwy 71\, Carroll\, IA\, 51401-8796\, United States
END:VEVENT
BEGIN:VEVENT
DTSTART;TZID=America/Chicago:20240515T183000
DTEND;TZID=America/Chicago:20240515T200000
DTSTAMP:20260424T210145
CREATED:20240325T193827Z
LAST-MODIFIED:20240513T155158Z
UID:30384-1715797800-1715803200@carrollfirst.com
SUMMARY:Wednesday Night Youth Activities
DESCRIPTION:Last one!! \nKids Connect K-4 at the church \n56’ers & Youth Church 7-12 are meeting at Pastor Dave and Ashley’s house for an end of the year party.  Pizza and other food will be provided.
URL:http://carrollfirst.com/event/wednesday-night-youth-activities-10/
LOCATION:Discover Church\, 18632 U. S. Hwy 71\, Carroll\, IA\, 51401-8796\, United States
END:VEVENT
BEGIN:VEVENT
DTSTART;TZID=America/Chicago:20240519T180000
DTEND;TZID=America/Chicago:20240519T200000
DTSTAMP:20260424T210145
CREATED:20231204T185303Z
LAST-MODIFIED:20240513T155254Z
UID:30263-1716141600-1716148800@carrollfirst.com
SUMMARY:In-Home Small Groups
DESCRIPTION:The last In-Home Small Groups!   The discussion and questions will be sermon based.  Join us for a time of encouragement\, prayer\, and fellowship. 
URL:http://carrollfirst.com/event/in-home-small-groups-15/
END:VEVENT
BEGIN:VEVENT
DTSTART;VALUE=DATE:20240529
DTEND;VALUE=DATE:20240530
DTSTAMP:20260424T210145
CREATED:20240513T155836Z
LAST-MODIFIED:20240513T155836Z
UID:30404-1716940800-1717027199@carrollfirst.com
SUMMARY:Last day of school
DESCRIPTION:
URL:http://carrollfirst.com/event/last-day-of-school/
END:VEVENT
END:VCALENDAR