BEGIN:VCALENDAR
VERSION:2.0
PRODID:-//Carroll First Church - ECPv6.15.20//NONSGML v1.0//EN
CALSCALE:GREGORIAN
METHOD:PUBLISH
X-ORIGINAL-URL:http://carrollfirst.com
X-WR-CALDESC:Events for Carroll First Church
REFRESH-INTERVAL;VALUE=DURATION:PT1H
X-Robots-Tag:noindex
X-PUBLISHED-TTL:PT1H
BEGIN:VTIMEZONE
TZID:America/Chicago
BEGIN:DAYLIGHT
TZOFFSETFROM:-0600
TZOFFSETTO:-0500
TZNAME:CDT
DTSTART:20230312T080000
END:DAYLIGHT
BEGIN:STANDARD
TZOFFSETFROM:-0500
TZOFFSETTO:-0600
TZNAME:CST
DTSTART:20231105T070000
END:STANDARD
BEGIN:DAYLIGHT
TZOFFSETFROM:-0600
TZOFFSETTO:-0500
TZNAME:CDT
DTSTART:20240310T080000
END:DAYLIGHT
BEGIN:STANDARD
TZOFFSETFROM:-0500
TZOFFSETTO:-0600
TZNAME:CST
DTSTART:20241103T070000
END:STANDARD
BEGIN:DAYLIGHT
TZOFFSETFROM:-0600
TZOFFSETTO:-0500
TZNAME:CDT
DTSTART:20250309T080000
END:DAYLIGHT
BEGIN:STANDARD
TZOFFSETFROM:-0500
TZOFFSETTO:-0600
TZNAME:CST
DTSTART:20251102T070000
END:STANDARD
END:VTIMEZONE
BEGIN:VEVENT
DTSTART;VALUE=DATE:20240610
DTEND;VALUE=DATE:20240615
DTSTAMP:20260424T192409
CREATED:20240321T201332Z
LAST-MODIFIED:20240321T201332Z
UID:30372-1717977600-1718409599@carrollfirst.com
SUMMARY:Teen Camp
DESCRIPTION:
URL:http://carrollfirst.com/event/teen-camp/
END:VEVENT
BEGIN:VEVENT
DTSTART;VALUE=DATE:20240617
DTEND;VALUE=DATE:20240621
DTSTAMP:20260424T192409
CREATED:20240321T201405Z
LAST-MODIFIED:20240321T201405Z
UID:30374-1718582400-1718927999@carrollfirst.com
SUMMARY:Vacation Bible School
DESCRIPTION:
URL:http://carrollfirst.com/event/vacation-bible-school-4/
LOCATION:Discover Church\, 18632 U. S. Hwy 71\, Carroll\, IA\, 51401-8796\, United States
END:VEVENT
BEGIN:VEVENT
DTSTART;VALUE=DATE:20240624
DTEND;VALUE=DATE:20240625
DTSTAMP:20260424T192409
CREATED:20240513T155924Z
LAST-MODIFIED:20240513T155924Z
UID:30406-1719187200-1719273599@carrollfirst.com
SUMMARY:Swing for Freedom Golf Event
DESCRIPTION:
URL:http://carrollfirst.com/event/swing-for-freedom-golf-event/
END:VEVENT
BEGIN:VEVENT
DTSTART;TZID=America/Chicago:20240626T113000
DTEND;TZID=America/Chicago:20240626T123000
DTSTAMP:20260424T192409
CREATED:20240612T163846Z
LAST-MODIFIED:20240612T163846Z
UID:30435-1719401400-1719405000@carrollfirst.com
SUMMARY:Senior Lunch
DESCRIPTION:Join Pastor Dave for lunch!!
URL:http://carrollfirst.com/event/senior-lunch-38/
LOCATION:Queen Beans\, 522 N. Clark St.\, Carroll\, IA\, 51401
END:VEVENT
END:VCALENDAR