BEGIN:VCALENDAR
VERSION:2.0
PRODID:-//Carroll First Church - ECPv6.15.20//NONSGML v1.0//EN
CALSCALE:GREGORIAN
METHOD:PUBLISH
X-WR-CALNAME:Carroll First Church
X-ORIGINAL-URL:http://carrollfirst.com
X-WR-CALDESC:Events for Carroll First Church
REFRESH-INTERVAL;VALUE=DURATION:PT1H
X-Robots-Tag:noindex
X-PUBLISHED-TTL:PT1H
BEGIN:VTIMEZONE
TZID:America/Chicago
BEGIN:DAYLIGHT
TZOFFSETFROM:-0600
TZOFFSETTO:-0500
TZNAME:CDT
DTSTART:20230312T080000
END:DAYLIGHT
BEGIN:STANDARD
TZOFFSETFROM:-0500
TZOFFSETTO:-0600
TZNAME:CST
DTSTART:20231105T070000
END:STANDARD
BEGIN:DAYLIGHT
TZOFFSETFROM:-0600
TZOFFSETTO:-0500
TZNAME:CDT
DTSTART:20240310T080000
END:DAYLIGHT
BEGIN:STANDARD
TZOFFSETFROM:-0500
TZOFFSETTO:-0600
TZNAME:CST
DTSTART:20241103T070000
END:STANDARD
BEGIN:DAYLIGHT
TZOFFSETFROM:-0600
TZOFFSETTO:-0500
TZNAME:CDT
DTSTART:20250309T080000
END:DAYLIGHT
BEGIN:STANDARD
TZOFFSETFROM:-0500
TZOFFSETTO:-0600
TZNAME:CST
DTSTART:20251102T070000
END:STANDARD
END:VTIMEZONE
BEGIN:VEVENT
DTSTART;TZID=America/Chicago:20240812T180000
DTEND;TZID=America/Chicago:20240812T200000
DTSTAMP:20260424T162841
CREATED:20240730T195916Z
LAST-MODIFIED:20240730T195916Z
UID:30439-1723485600-1723492800@carrollfirst.com
SUMMARY:Fellas Meat & Greet
DESCRIPTION:A time for grilling and games!
URL:http://carrollfirst.com/event/fellas-meat-greet/
LOCATION:Discover Church\, 18632 U. S. Hwy 71\, Carroll\, IA\, 51401-8796\, United States
END:VEVENT
BEGIN:VEVENT
DTSTART;VALUE=DATE:20240823
DTEND;VALUE=DATE:20240824
DTSTAMP:20260424T162841
CREATED:20240730T200450Z
LAST-MODIFIED:20240730T200533Z
UID:30444-1724371200-1724457599@carrollfirst.com
SUMMARY:First Day of School
DESCRIPTION:
URL:http://carrollfirst.com/event/first-day-of-school-2/
END:VEVENT
BEGIN:VEVENT
DTSTART;TZID=America/Chicago:20240825T190000
DTEND;TZID=America/Chicago:20240825T193000
DTSTAMP:20260424T162841
CREATED:20240822T195738Z
LAST-MODIFIED:20240822T195738Z
UID:30450-1724612400-1724614200@carrollfirst.com
SUMMARY:Inspire Our Schools Prayer Event
DESCRIPTION:Pick a school and pray with others gathered there.
URL:http://carrollfirst.com/event/inspire-our-schools-prayer-event-2/
END:VEVENT
BEGIN:VEVENT
DTSTART;TZID=America/Chicago:20240828T113000
DTEND;TZID=America/Chicago:20240828T123000
DTSTAMP:20260424T162841
CREATED:20240813T171654Z
LAST-MODIFIED:20240813T171654Z
UID:30447-1724844600-1724848200@carrollfirst.com
SUMMARY:Senior Lunch
DESCRIPTION:Join Pastor Dave for lunch!
URL:http://carrollfirst.com/event/senior-lunch-39/
LOCATION:Culvers\, 405 Lincoln Hwy\, Carroll\, Iowa\, 51401
END:VEVENT
END:VCALENDAR