BEGIN:VCALENDAR
VERSION:2.0
PRODID:-//Carroll First Church - ECPv6.15.20//NONSGML v1.0//EN
CALSCALE:GREGORIAN
METHOD:PUBLISH
X-ORIGINAL-URL:http://carrollfirst.com
X-WR-CALDESC:Events for Carroll First Church
REFRESH-INTERVAL;VALUE=DURATION:PT1H
X-Robots-Tag:noindex
X-PUBLISHED-TTL:PT1H
BEGIN:VTIMEZONE
TZID:America/Chicago
BEGIN:DAYLIGHT
TZOFFSETFROM:-0600
TZOFFSETTO:-0500
TZNAME:CDT
DTSTART:20230312T080000
END:DAYLIGHT
BEGIN:STANDARD
TZOFFSETFROM:-0500
TZOFFSETTO:-0600
TZNAME:CST
DTSTART:20231105T070000
END:STANDARD
BEGIN:DAYLIGHT
TZOFFSETFROM:-0600
TZOFFSETTO:-0500
TZNAME:CDT
DTSTART:20240310T080000
END:DAYLIGHT
BEGIN:STANDARD
TZOFFSETFROM:-0500
TZOFFSETTO:-0600
TZNAME:CST
DTSTART:20241103T070000
END:STANDARD
BEGIN:DAYLIGHT
TZOFFSETFROM:-0600
TZOFFSETTO:-0500
TZNAME:CDT
DTSTART:20250309T080000
END:DAYLIGHT
BEGIN:STANDARD
TZOFFSETFROM:-0500
TZOFFSETTO:-0600
TZNAME:CST
DTSTART:20251102T070000
END:STANDARD
END:VTIMEZONE
BEGIN:VEVENT
DTSTART;TZID=America/Chicago:20240911T183000
DTEND;TZID=America/Chicago:20240911T200000
DTSTAMP:20260424T145821
CREATED:20240822T200106Z
LAST-MODIFIED:20240822T200106Z
UID:30454-1726079400-1726084800@carrollfirst.com
SUMMARY:Wednesday Night Kick Off
DESCRIPTION:start of Wednesday night activities
URL:http://carrollfirst.com/event/wednesday-night-kick-off/
LOCATION:Discover Church\, 18632 U. S. Hwy 71\, Carroll\, IA\, 51401-8796\, United States
END:VEVENT
BEGIN:VEVENT
DTSTART;TZID=America/Chicago:20240915T103000
DTEND;TZID=America/Chicago:20240915T130000
DTSTAMP:20260424T145821
CREATED:20240822T200329Z
LAST-MODIFIED:20240822T200329Z
UID:30456-1726396200-1726405200@carrollfirst.com
SUMMARY:Church at the Park
DESCRIPTION:We will have baby and family dedications\, water baptisms\, and then lunch will be a potluck of soup or chili. \nEastside Shelter House
URL:http://carrollfirst.com/event/church-at-the-park-4/
LOCATION:Swan Lake Eastside Shelter House\, Carroll\, IA\, 51401\, United States
END:VEVENT
BEGIN:VEVENT
DTSTART;TZID=America/Chicago:20240918T183000
DTEND;TZID=America/Chicago:20240918T200000
DTSTAMP:20260424T145821
CREATED:20240822T200729Z
LAST-MODIFIED:20240822T200823Z
UID:30460-1726684200-1726689600@carrollfirst.com
SUMMARY:Wednesday Night Activities
DESCRIPTION:Kids Connect( K-4) \n56’ers (5th & 6th grade) \nYouth Church (7-12)
URL:http://carrollfirst.com/event/wednesday-night-activities-31/
LOCATION:Discover Church\, 18632 U. S. Hwy 71\, Carroll\, IA\, 51401-8796\, United States
END:VEVENT
BEGIN:VEVENT
DTSTART;VALUE=DATE:20240921
DTEND;VALUE=DATE:20240923
DTSTAMP:20260424T145821
CREATED:20240822T195922Z
LAST-MODIFIED:20240822T195922Z
UID:30452-1726876800-1727049599@carrollfirst.com
SUMMARY:Women's "Enough" Conference
DESCRIPTION:$100 if paid by August 31st \nSioux Falls\, South Dakota \nincludes conference\, after party\, & comedy show
URL:http://carrollfirst.com/event/womens-enough-conference/
END:VEVENT
BEGIN:VEVENT
DTSTART;TZID=America/Chicago:20240922T103000
DTEND;TZID=America/Chicago:20240922T120000
DTSTAMP:20260424T145821
CREATED:20240822T200416Z
LAST-MODIFIED:20240822T200416Z
UID:30458-1727001000-1727006400@carrollfirst.com
SUMMARY:Friends & Family Sunday
DESCRIPTION:
URL:http://carrollfirst.com/event/friends-family-sunday/
LOCATION:Discover Church\, 18632 U. S. Hwy 71\, Carroll\, IA\, 51401-8796\, United States
END:VEVENT
BEGIN:VEVENT
DTSTART;TZID=America/Chicago:20240925T113000
DTEND;TZID=America/Chicago:20240925T123000
DTSTAMP:20260424T145821
CREATED:20240903T185611Z
LAST-MODIFIED:20240903T185611Z
UID:30465-1727263800-1727267400@carrollfirst.com
SUMMARY:Senior Lunch
DESCRIPTION:Join Pastor Dave for lunch!
URL:http://carrollfirst.com/event/senior-lunch-40/
LOCATION:Jalisco\, 425 Hwy 30\, Carroll\, IA\, 51401
END:VEVENT
BEGIN:VEVENT
DTSTART;TZID=America/Chicago:20240925T183000
DTEND;TZID=America/Chicago:20240925T200000
DTSTAMP:20260424T145821
CREATED:20240822T201541Z
LAST-MODIFIED:20240919T192458Z
UID:30462-1727289000-1727294400@carrollfirst.com
SUMMARY:Wednesday Night Activities
DESCRIPTION:Kids Connect( K-4) \n56’ers (5th & 6th grade) \nYouth Church (7-12) \nAdult Group – Worship
URL:http://carrollfirst.com/event/wednesday-night-activities-32/
LOCATION:Discover Church\, 18632 U. S. Hwy 71\, Carroll\, IA\, 51401-8796\, United States
END:VEVENT
END:VCALENDAR