BEGIN:VCALENDAR
VERSION:2.0
PRODID:-//Carroll First Church - ECPv6.15.20//NONSGML v1.0//EN
CALSCALE:GREGORIAN
METHOD:PUBLISH
X-ORIGINAL-URL:http://carrollfirst.com
X-WR-CALDESC:Events for Carroll First Church
REFRESH-INTERVAL;VALUE=DURATION:PT1H
X-Robots-Tag:noindex
X-PUBLISHED-TTL:PT1H
BEGIN:VTIMEZONE
TZID:America/Chicago
BEGIN:DAYLIGHT
TZOFFSETFROM:-0600
TZOFFSETTO:-0500
TZNAME:CDT
DTSTART:20240310T080000
END:DAYLIGHT
BEGIN:STANDARD
TZOFFSETFROM:-0500
TZOFFSETTO:-0600
TZNAME:CST
DTSTART:20241103T070000
END:STANDARD
BEGIN:DAYLIGHT
TZOFFSETFROM:-0600
TZOFFSETTO:-0500
TZNAME:CDT
DTSTART:20250309T080000
END:DAYLIGHT
BEGIN:STANDARD
TZOFFSETFROM:-0500
TZOFFSETTO:-0600
TZNAME:CST
DTSTART:20251102T070000
END:STANDARD
BEGIN:DAYLIGHT
TZOFFSETFROM:-0600
TZOFFSETTO:-0500
TZNAME:CDT
DTSTART:20260308T080000
END:DAYLIGHT
BEGIN:STANDARD
TZOFFSETFROM:-0500
TZOFFSETTO:-0600
TZNAME:CST
DTSTART:20261101T070000
END:STANDARD
END:VTIMEZONE
BEGIN:VEVENT
DTSTART;VALUE=DATE:20250101
DTEND;VALUE=DATE:20250102
DTSTAMP:20260424T083731
CREATED:20241028T165931Z
LAST-MODIFIED:20241028T165931Z
UID:30532-1735689600-1735775999@carrollfirst.com
SUMMARY:No Wednesday Night Activities
DESCRIPTION:Holiday Break
URL:http://carrollfirst.com/event/no-wednesday-night-activities-14/
END:VEVENT
BEGIN:VEVENT
DTSTART;TZID=America/Chicago:20250101T180000
DTEND;TZID=America/Chicago:20250101T190000
DTSTAMP:20260424T083731
CREATED:20241212T205057Z
LAST-MODIFIED:20241212T205057Z
UID:30568-1735754400-1735758000@carrollfirst.com
SUMMARY:Worship Night
DESCRIPTION:
URL:http://carrollfirst.com/event/worship-night/
LOCATION:Discover Church\, 18632 U. S. Hwy 71\, Carroll\, IA\, 51401-8796\, United States
END:VEVENT
BEGIN:VEVENT
DTSTART;VALUE=DATE:20250105
DTEND;VALUE=DATE:20250112
DTSTAMP:20260424T083731
CREATED:20241220T183435Z
LAST-MODIFIED:20241220T183435Z
UID:30573-1736035200-1736639999@carrollfirst.com
SUMMARY:Week of Prayer
DESCRIPTION:
URL:http://carrollfirst.com/event/week-of-prayer-2/
LOCATION:Discover Church\, 18632 U. S. Hwy 71\, Carroll\, IA\, 51401-8796\, United States
END:VEVENT
BEGIN:VEVENT
DTSTART;VALUE=DATE:20250108
DTEND;VALUE=DATE:20250109
DTSTAMP:20260424T083731
CREATED:20241028T170002Z
LAST-MODIFIED:20241028T170002Z
UID:30534-1736294400-1736380799@carrollfirst.com
SUMMARY:No Wednesday Night Activities
DESCRIPTION:Holiday Break
URL:http://carrollfirst.com/event/no-wednesday-night-activities-15/
END:VEVENT
BEGIN:VEVENT
DTSTART;TZID=America/Chicago:20250115T183000
DTEND;TZID=America/Chicago:20250115T200000
DTSTAMP:20260424T083731
CREATED:20250109T220011Z
LAST-MODIFIED:20250109T220011Z
UID:30577-1736965800-1736971200@carrollfirst.com
SUMMARY:Wednesday Night Activities
DESCRIPTION:Kids Connect( K-4) \n56’ers (5th & 6th grade) \nYouth Church (7-12) \nAdult Group – Prayer Night
URL:http://carrollfirst.com/event/wednesday-night-activities-43/
LOCATION:Discover Church\, 18632 U. S. Hwy 71\, Carroll\, IA\, 51401-8796\, United States
END:VEVENT
BEGIN:VEVENT
DTSTART;TZID=America/Chicago:20250122T113000
DTEND;TZID=America/Chicago:20250122T123000
DTSTAMP:20260424T083731
CREATED:20250109T220705Z
LAST-MODIFIED:20250109T220705Z
UID:30591-1737545400-1737549000@carrollfirst.com
SUMMARY:Senior Lunch
DESCRIPTION:Join Pastor Dave\, Ashley\, and Craig for lunch!
URL:http://carrollfirst.com/event/senior-lunch-44/
LOCATION:Culvers\, 405 Lincoln Hwy\, Carroll\, Iowa\, 51401
END:VEVENT
BEGIN:VEVENT
DTSTART;TZID=America/Chicago:20250122T183000
DTEND;TZID=America/Chicago:20250122T200000
DTSTAMP:20260424T083731
CREATED:20250109T220104Z
LAST-MODIFIED:20250109T220104Z
UID:30579-1737570600-1737576000@carrollfirst.com
SUMMARY:Wednesday Night Activities
DESCRIPTION:Kids Connect( K-4) \n56’ers (5th & 6th grade) \nYouth Church (7-12) \nAdult Group – Sermon
URL:http://carrollfirst.com/event/wednesday-night-activities-45/
LOCATION:Discover Church\, 18632 U. S. Hwy 71\, Carroll\, IA\, 51401-8796\, United States
END:VEVENT
BEGIN:VEVENT
DTSTART;TZID=America/Chicago:20250129T183000
DTEND;TZID=America/Chicago:20250129T200000
DTSTAMP:20260424T083731
CREATED:20250109T220222Z
LAST-MODIFIED:20250125T175706Z
UID:30581-1738175400-1738180800@carrollfirst.com
SUMMARY:Wednesday Night Activities
DESCRIPTION:Kids Connect( K-4) \n56’ers (5th & 6th grade) & Youth Church (7-12)  will be with CYC at St. John’s Church from 6:00 – 8:00 PM. \nAdult Group – no group
URL:http://carrollfirst.com/event/wednesday-night-activities-46/
LOCATION:Discover Church\, 18632 U. S. Hwy 71\, Carroll\, IA\, 51401-8796\, United States
END:VEVENT
END:VCALENDAR