BEGIN:VCALENDAR
VERSION:2.0
PRODID:-//Carroll First Church - ECPv6.15.20//NONSGML v1.0//EN
CALSCALE:GREGORIAN
METHOD:PUBLISH
X-ORIGINAL-URL:http://carrollfirst.com
X-WR-CALDESC:Events for Carroll First Church
REFRESH-INTERVAL;VALUE=DURATION:PT1H
X-Robots-Tag:noindex
X-PUBLISHED-TTL:PT1H
BEGIN:VTIMEZONE
TZID:America/Chicago
BEGIN:DAYLIGHT
TZOFFSETFROM:-0600
TZOFFSETTO:-0500
TZNAME:CDT
DTSTART:20240310T080000
END:DAYLIGHT
BEGIN:STANDARD
TZOFFSETFROM:-0500
TZOFFSETTO:-0600
TZNAME:CST
DTSTART:20241103T070000
END:STANDARD
BEGIN:DAYLIGHT
TZOFFSETFROM:-0600
TZOFFSETTO:-0500
TZNAME:CDT
DTSTART:20250309T080000
END:DAYLIGHT
BEGIN:STANDARD
TZOFFSETFROM:-0500
TZOFFSETTO:-0600
TZNAME:CST
DTSTART:20251102T070000
END:STANDARD
BEGIN:DAYLIGHT
TZOFFSETFROM:-0600
TZOFFSETTO:-0500
TZNAME:CDT
DTSTART:20260308T080000
END:DAYLIGHT
BEGIN:STANDARD
TZOFFSETFROM:-0500
TZOFFSETTO:-0600
TZNAME:CST
DTSTART:20261101T070000
END:STANDARD
END:VTIMEZONE
BEGIN:VEVENT
DTSTART;TZID=America/Chicago:20250205T183000
DTEND;TZID=America/Chicago:20250205T200000
DTSTAMP:20260424T071043
CREATED:20250109T220338Z
LAST-MODIFIED:20250109T220338Z
UID:30583-1738780200-1738785600@carrollfirst.com
SUMMARY:Wednesday Night Activities
DESCRIPTION:Kids Connect( K-4) \n56’ers (5th & 6th grade) \nYouth Church (7-12) \nAdult Group – Worship
URL:http://carrollfirst.com/event/wednesday-night-activities-47/
LOCATION:Discover Church\, 18632 U. S. Hwy 71\, Carroll\, IA\, 51401-8796\, United States
END:VEVENT
BEGIN:VEVENT
DTSTART;TZID=America/Chicago:20250212T113000
DTEND;TZID=America/Chicago:20250212T123000
DTSTAMP:20260424T071043
CREATED:20250131T200026Z
LAST-MODIFIED:20250131T200026Z
UID:30599-1739359800-1739363400@carrollfirst.com
SUMMARY:Senior Lunch
DESCRIPTION:Join Pastor Dave\, Ashley\, and Craig for lunch!
URL:http://carrollfirst.com/event/senior-lunch-45/
LOCATION:Napoli’s\, 1205 Hwy 30\, Carroll\, IA\, 51401\, United States
END:VEVENT
BEGIN:VEVENT
DTSTART;TZID=America/Chicago:20250212T183000
DTEND;TZID=America/Chicago:20250212T200000
DTSTAMP:20260424T071043
CREATED:20250109T220426Z
LAST-MODIFIED:20250207T172344Z
UID:30585-1739385000-1739390400@carrollfirst.com
SUMMARY:Wednesday Night Activities
DESCRIPTION:Kids Connect( K-4) \n56’ers (5th & 6th grade) \nYouth Church (7-12) \nAdult Group – worship
URL:http://carrollfirst.com/event/wednesday-night-activities-48/
LOCATION:Discover Church\, 18632 U. S. Hwy 71\, Carroll\, IA\, 51401-8796\, United States
END:VEVENT
BEGIN:VEVENT
DTSTART;TZID=America/Chicago:20250216T123000
DTEND;TZID=America/Chicago:20250216T133000
DTSTAMP:20260424T071043
CREATED:20250131T200147Z
LAST-MODIFIED:20250131T200147Z
UID:30601-1739709000-1739712600@carrollfirst.com
SUMMARY:Annual Business Meeting
DESCRIPTION:immediately after the church service
URL:http://carrollfirst.com/event/annual-business-meeting/
LOCATION:Discover Church\, 18632 U. S. Hwy 71\, Carroll\, IA\, 51401-8796\, United States
END:VEVENT
BEGIN:VEVENT
DTSTART;TZID=America/Chicago:20250219T183000
DTEND;TZID=America/Chicago:20250219T200000
DTSTAMP:20260424T071043
CREATED:20250109T220514Z
LAST-MODIFIED:20250220T204559Z
UID:30587-1739989800-1739995200@carrollfirst.com
SUMMARY:Wednesday Night Activities
DESCRIPTION:Kids Connect( K-4) \n56’ers (5th & 6th grade) \nYouth Church (7-12) \nAdult Group – Sermon on the Mount study
URL:http://carrollfirst.com/event/wednesday-night-activities-49/
LOCATION:Discover Church\, 18632 U. S. Hwy 71\, Carroll\, IA\, 51401-8796\, United States
END:VEVENT
BEGIN:VEVENT
DTSTART;TZID=America/Chicago:20250226T183000
DTEND;TZID=America/Chicago:20250226T200000
DTSTAMP:20260424T071043
CREATED:20250109T220559Z
LAST-MODIFIED:20250214T194437Z
UID:30589-1740594600-1740600000@carrollfirst.com
SUMMARY:Wednesday Night Activities
DESCRIPTION:Kids Connect( K-4) \n56’ers (5th & 6th grade) \nYouth Church (7-12) \nAdult Group – Bible Study
URL:http://carrollfirst.com/event/wednesday-night-activities-50/
LOCATION:Discover Church\, 18632 U. S. Hwy 71\, Carroll\, IA\, 51401-8796\, United States
END:VEVENT
BEGIN:VEVENT
DTSTART;VALUE=DATE:20250228
DTEND;VALUE=DATE:20250302
DTSTAMP:20260424T071043
CREATED:20241212T205213Z
LAST-MODIFIED:20241212T205213Z
UID:30570-1740700800-1740873599@carrollfirst.com
SUMMARY:Marriage Retreat
DESCRIPTION:
URL:http://carrollfirst.com/event/marriage-retreat/
END:VEVENT
END:VCALENDAR