BEGIN:VCALENDAR
VERSION:2.0
PRODID:-//Carroll First Church - ECPv6.15.20//NONSGML v1.0//EN
CALSCALE:GREGORIAN
METHOD:PUBLISH
X-WR-CALNAME:Carroll First Church
X-ORIGINAL-URL:http://carrollfirst.com
X-WR-CALDESC:Events for Carroll First Church
REFRESH-INTERVAL;VALUE=DURATION:PT1H
X-Robots-Tag:noindex
X-PUBLISHED-TTL:PT1H
BEGIN:VTIMEZONE
TZID:America/Chicago
BEGIN:DAYLIGHT
TZOFFSETFROM:-0600
TZOFFSETTO:-0500
TZNAME:CDT
DTSTART:20240310T080000
END:DAYLIGHT
BEGIN:STANDARD
TZOFFSETFROM:-0500
TZOFFSETTO:-0600
TZNAME:CST
DTSTART:20241103T070000
END:STANDARD
BEGIN:DAYLIGHT
TZOFFSETFROM:-0600
TZOFFSETTO:-0500
TZNAME:CDT
DTSTART:20250309T080000
END:DAYLIGHT
BEGIN:STANDARD
TZOFFSETFROM:-0500
TZOFFSETTO:-0600
TZNAME:CST
DTSTART:20251102T070000
END:STANDARD
BEGIN:DAYLIGHT
TZOFFSETFROM:-0600
TZOFFSETTO:-0500
TZNAME:CDT
DTSTART:20260308T080000
END:DAYLIGHT
BEGIN:STANDARD
TZOFFSETFROM:-0500
TZOFFSETTO:-0600
TZNAME:CST
DTSTART:20261101T070000
END:STANDARD
END:VTIMEZONE
BEGIN:VEVENT
DTSTART;VALUE=DATE:20250228
DTEND;VALUE=DATE:20250302
DTSTAMP:20260424T054951
CREATED:20241212T205213Z
LAST-MODIFIED:20241212T205213Z
UID:30570-1740700800-1740873599@carrollfirst.com
SUMMARY:Marriage Retreat
DESCRIPTION:
URL:http://carrollfirst.com/event/marriage-retreat/
END:VEVENT
BEGIN:VEVENT
DTSTART;TZID=America/Chicago:20250305T183000
DTEND;TZID=America/Chicago:20250305T200000
DTSTAMP:20260424T054951
CREATED:20250220T205738Z
LAST-MODIFIED:20250220T205738Z
UID:30618-1741199400-1741204800@carrollfirst.com
SUMMARY:Wednesday Night Activities
DESCRIPTION:Kids Connect( K-4) \n56’ers (5th & 6th grade) \nYouth Church (7-12) \nAdult Group
URL:http://carrollfirst.com/event/wednesday-night-activities-51/
LOCATION:Discover Church\, 18632 U. S. Hwy 71\, Carroll\, IA\, 51401-8796\, United States
END:VEVENT
BEGIN:VEVENT
DTSTART;TZID=America/Chicago:20250312T113000
DTEND;TZID=America/Chicago:20250312T123000
DTSTAMP:20260424T054951
CREATED:20250220T204409Z
LAST-MODIFIED:20250220T204409Z
UID:30607-1741779000-1741782600@carrollfirst.com
SUMMARY:Senior Lunch
DESCRIPTION:Join Pastor Dave\, Ashley\, and Craig for lunch!
URL:http://carrollfirst.com/event/senior-lunch-46/
LOCATION:Napoli’s\, 1205 Hwy 30\, Carroll\, IA\, 51401\, United States
END:VEVENT
BEGIN:VEVENT
DTSTART;TZID=America/Chicago:20250312T183000
DTEND;TZID=America/Chicago:20250312T200000
DTSTAMP:20260424T054951
CREATED:20250220T205822Z
LAST-MODIFIED:20250306T201107Z
UID:30620-1741804200-1741809600@carrollfirst.com
SUMMARY:Wednesday Night Activities
DESCRIPTION:Kids Connect( K-4) \n56’ers (5th & 6th grade) \nYouth Church (7-12) \nAdult Group – worship
URL:http://carrollfirst.com/event/wednesday-night-activities-52/
LOCATION:Discover Church\, 18632 U. S. Hwy 71\, Carroll\, IA\, 51401-8796\, United States
END:VEVENT
BEGIN:VEVENT
DTSTART;TZID=America/Chicago:20250319T183000
DTEND;TZID=America/Chicago:20250319T200000
DTSTAMP:20260424T054951
CREATED:20250220T205908Z
LAST-MODIFIED:20250306T202047Z
UID:30622-1742409000-1742414400@carrollfirst.com
SUMMARY:Wednesday Night Activities
DESCRIPTION:No Activities this week – Spring Break
URL:http://carrollfirst.com/event/wednesday-night-activities-53/
LOCATION:Discover Church\, 18632 U. S. Hwy 71\, Carroll\, IA\, 51401-8796\, United States
END:VEVENT
BEGIN:VEVENT
DTSTART;VALUE=DATE:20250323
DTEND;VALUE=DATE:20250324
DTSTAMP:20260424T054951
CREATED:20250220T204441Z
LAST-MODIFIED:20250220T204450Z
UID:30609-1742688000-1742774399@carrollfirst.com
SUMMARY:New Member Class
DESCRIPTION:
URL:http://carrollfirst.com/event/new-member-classes/
LOCATION:Discover Church\, 18632 U. S. Hwy 71\, Carroll\, IA\, 51401-8796\, United States
END:VEVENT
BEGIN:VEVENT
DTSTART;TZID=America/Chicago:20250326T173000
DTEND;TZID=America/Chicago:20250326T210000
DTSTAMP:20260424T054951
CREATED:20250220T204853Z
LAST-MODIFIED:20250306T202534Z
UID:30616-1743010200-1743022800@carrollfirst.com
SUMMARY:CYC Night
DESCRIPTION:CYC meeting at Carroll High School Gym for games and pizza.   \nGrades 5-12 \n  \n 
URL:http://carrollfirst.com/event/cyc-bowling-night/
LOCATION:Carroll High School\, 2809 N. Grant Rd.\, Carroll\, IA\, 51401\, United States
END:VEVENT
BEGIN:VEVENT
DTSTART;TZID=America/Chicago:20250326T183000
DTEND;TZID=America/Chicago:20250326T200000
DTSTAMP:20260424T054951
CREATED:20250220T210033Z
LAST-MODIFIED:20250306T202611Z
UID:30624-1743013800-1743019200@carrollfirst.com
SUMMARY:Wednesday Night Activities
DESCRIPTION:Kids Connect( K-4) \nAdult Group – Bible Study
URL:http://carrollfirst.com/event/wednesday-night-activities-54/
LOCATION:Discover Church\, 18632 U. S. Hwy 71\, Carroll\, IA\, 51401-8796\, United States
END:VEVENT
BEGIN:VEVENT
DTSTART;VALUE=DATE:20250330
DTEND;VALUE=DATE:20250331
DTSTAMP:20260424T054951
CREATED:20250220T204513Z
LAST-MODIFIED:20250220T204513Z
UID:30612-1743292800-1743379199@carrollfirst.com
SUMMARY:New Member Class
DESCRIPTION:
URL:http://carrollfirst.com/event/new-member-class/
LOCATION:Discover Church\, 18632 U. S. Hwy 71\, Carroll\, IA\, 51401-8796\, United States
END:VEVENT
END:VCALENDAR