BEGIN:VCALENDAR
VERSION:2.0
PRODID:-//Carroll First Church - ECPv6.15.20//NONSGML v1.0//EN
CALSCALE:GREGORIAN
METHOD:PUBLISH
X-ORIGINAL-URL:http://carrollfirst.com
X-WR-CALDESC:Events for Carroll First Church
REFRESH-INTERVAL;VALUE=DURATION:PT1H
X-Robots-Tag:noindex
X-PUBLISHED-TTL:PT1H
BEGIN:VTIMEZONE
TZID:America/Chicago
BEGIN:DAYLIGHT
TZOFFSETFROM:-0600
TZOFFSETTO:-0500
TZNAME:CDT
DTSTART:20240310T080000
END:DAYLIGHT
BEGIN:STANDARD
TZOFFSETFROM:-0500
TZOFFSETTO:-0600
TZNAME:CST
DTSTART:20241103T070000
END:STANDARD
BEGIN:DAYLIGHT
TZOFFSETFROM:-0600
TZOFFSETTO:-0500
TZNAME:CDT
DTSTART:20250309T080000
END:DAYLIGHT
BEGIN:STANDARD
TZOFFSETFROM:-0500
TZOFFSETTO:-0600
TZNAME:CST
DTSTART:20251102T070000
END:STANDARD
BEGIN:DAYLIGHT
TZOFFSETFROM:-0600
TZOFFSETTO:-0500
TZNAME:CDT
DTSTART:20260308T080000
END:DAYLIGHT
BEGIN:STANDARD
TZOFFSETFROM:-0500
TZOFFSETTO:-0600
TZNAME:CST
DTSTART:20261101T070000
END:STANDARD
END:VTIMEZONE
BEGIN:VEVENT
DTSTART;TZID=America/Chicago:20250402T183000
DTEND;TZID=America/Chicago:20250402T200000
DTSTAMP:20260424T041531
CREATED:20250403T210657Z
LAST-MODIFIED:20250403T210657Z
UID:30654-1743618600-1743624000@carrollfirst.com
SUMMARY:Wednesday Night Activities
DESCRIPTION:Kids Connect( K-4)\n\n\n\n56’ers (5th & 6th grade) \nYouth Church (7-12) \nAdult Group – worship
URL:http://carrollfirst.com/event/wednesday-night-activities-55/
LOCATION:Discover Church\, 18632 U. S. Hwy 71\, Carroll\, IA\, 51401-8796\, United States
END:VEVENT
BEGIN:VEVENT
DTSTART;TZID=America/Chicago:20250409T183000
DTEND;TZID=America/Chicago:20250409T200000
DTSTAMP:20260424T041531
CREATED:20250403T210738Z
LAST-MODIFIED:20250403T211118Z
UID:30656-1744223400-1744228800@carrollfirst.com
SUMMARY:Wednesday Night Activities
DESCRIPTION:Kids Connect( K-4)\n\n\n\n56’ers (5th & 6th grade) \nYouth Church (7-12) \nAdult Group – Bible Study
URL:http://carrollfirst.com/event/wednesday-night-activities-56/
LOCATION:Discover Church\, 18632 U. S. Hwy 71\, Carroll\, IA\, 51401-8796\, United States
END:VEVENT
BEGIN:VEVENT
DTSTART;VALUE=DATE:20250413
DTEND;VALUE=DATE:20250414
DTSTAMP:20260424T041531
CREATED:20250403T210333Z
LAST-MODIFIED:20250403T210438Z
UID:30651-1744502400-1744588799@carrollfirst.com
SUMMARY:Palm Sunday
DESCRIPTION:
URL:http://carrollfirst.com/event/palm-sunday-4/
END:VEVENT
BEGIN:VEVENT
DTSTART;TZID=America/Chicago:20250416T113000
DTEND;TZID=America/Chicago:20250416T120000
DTSTAMP:20260424T041531
CREATED:20250403T210232Z
LAST-MODIFIED:20250403T210232Z
UID:30646-1744803000-1744804800@carrollfirst.com
SUMMARY:Senior Lunch
DESCRIPTION:Join Pastor Dave\, Ashley\, and Craig for lunch at 1730 Tap House.
URL:http://carrollfirst.com/event/senior-lunch-47/
LOCATION:1730 Tap House\, 1730 HWY 71\, Carroll\, IA\, 51401\, United States
END:VEVENT
BEGIN:VEVENT
DTSTART;TZID=America/Chicago:20250416T180000
DTEND;TZID=America/Chicago:20250416T200000
DTSTAMP:20260424T041531
CREATED:20250403T205934Z
LAST-MODIFIED:20250403T211145Z
UID:30642-1744826400-1744833600@carrollfirst.com
SUMMARY:CYC Worship Night
DESCRIPTION:CYC Worship Night will be April 16th at Renew Church from 6:00 – 8:00 PM. \n56’ers and Youth Church \n 
URL:http://carrollfirst.com/event/cyc-worship-night/
LOCATION:Renew Covenant Church
END:VEVENT
BEGIN:VEVENT
DTSTART;TZID=America/Chicago:20250416T183000
DTEND;TZID=America/Chicago:20250416T200000
DTSTAMP:20260424T041531
CREATED:20250403T210842Z
LAST-MODIFIED:20250403T210842Z
UID:30658-1744828200-1744833600@carrollfirst.com
SUMMARY:Wednesday Night Activities
DESCRIPTION:Kids Connect( K-4)\n\n\n\nAdult Group – Prayer
URL:http://carrollfirst.com/event/wednesday-night-activities-57/
LOCATION:Discover Church\, 18632 U. S. Hwy 71\, Carroll\, IA\, 51401-8796\, United States
END:VEVENT
BEGIN:VEVENT
DTSTART;TZID=America/Chicago:20250418T183000
DTEND;TZID=America/Chicago:20250418T193000
DTSTAMP:20260424T041531
CREATED:20250403T210037Z
LAST-MODIFIED:20250403T210037Z
UID:30644-1745001000-1745004600@carrollfirst.com
SUMMARY:Good Friday Service
DESCRIPTION:Good Friday will be a combined service with Renew Church at Carroll First at 6:30 PM. \n\n 
URL:http://carrollfirst.com/event/good-friday-service-3/
LOCATION:Discover Church\, 18632 U. S. Hwy 71\, Carroll\, IA\, 51401-8796\, United States
END:VEVENT
BEGIN:VEVENT
DTSTART;VALUE=DATE:20250420
DTEND;VALUE=DATE:20250421
DTSTAMP:20260424T041531
CREATED:20250403T210318Z
LAST-MODIFIED:20250403T210418Z
UID:30649-1745107200-1745193599@carrollfirst.com
SUMMARY:Easter
DESCRIPTION:
URL:http://carrollfirst.com/event/easter-5/
END:VEVENT
BEGIN:VEVENT
DTSTART;TZID=America/Chicago:20250423T183000
DTEND;TZID=America/Chicago:20250423T200000
DTSTAMP:20260424T041531
CREATED:20250403T210929Z
LAST-MODIFIED:20250403T210929Z
UID:30660-1745433000-1745438400@carrollfirst.com
SUMMARY:Wednesday Night Activities
DESCRIPTION:Kids Connect( K-4)\n\n\n\n56’ers (5th & 6th grade) \nYouth Church (7-12) \nAdult Group – sermon
URL:http://carrollfirst.com/event/wednesday-night-activities-58/
LOCATION:Discover Church\, 18632 U. S. Hwy 71\, Carroll\, IA\, 51401-8796\, United States
END:VEVENT
BEGIN:VEVENT
DTSTART;TZID=America/Chicago:20250430T183000
DTEND;TZID=America/Chicago:20250430T200000
DTSTAMP:20260424T041531
CREATED:20250403T211020Z
LAST-MODIFIED:20250403T211020Z
UID:30662-1746037800-1746043200@carrollfirst.com
SUMMARY:Wednesday Night Activities
DESCRIPTION:Kids Connect( K-4)\n\n\n\n56’ers (5th & 6th grade) \nYouth Church (7-12)
URL:http://carrollfirst.com/event/wednesday-night-activities-59/
LOCATION:Discover Church\, 18632 U. S. Hwy 71\, Carroll\, IA\, 51401-8796\, United States
END:VEVENT
END:VCALENDAR