BEGIN:VCALENDAR
VERSION:2.0
PRODID:-//Carroll First Church - ECPv6.15.20//NONSGML v1.0//EN
CALSCALE:GREGORIAN
METHOD:PUBLISH
X-WR-CALNAME:Carroll First Church
X-ORIGINAL-URL:http://carrollfirst.com
X-WR-CALDESC:Events for Carroll First Church
REFRESH-INTERVAL;VALUE=DURATION:PT1H
X-Robots-Tag:noindex
X-PUBLISHED-TTL:PT1H
BEGIN:VTIMEZONE
TZID:America/Chicago
BEGIN:DAYLIGHT
TZOFFSETFROM:-0600
TZOFFSETTO:-0500
TZNAME:CDT
DTSTART:20240310T080000
END:DAYLIGHT
BEGIN:STANDARD
TZOFFSETFROM:-0500
TZOFFSETTO:-0600
TZNAME:CST
DTSTART:20241103T070000
END:STANDARD
BEGIN:DAYLIGHT
TZOFFSETFROM:-0600
TZOFFSETTO:-0500
TZNAME:CDT
DTSTART:20250309T080000
END:DAYLIGHT
BEGIN:STANDARD
TZOFFSETFROM:-0500
TZOFFSETTO:-0600
TZNAME:CST
DTSTART:20251102T070000
END:STANDARD
BEGIN:DAYLIGHT
TZOFFSETFROM:-0600
TZOFFSETTO:-0500
TZNAME:CDT
DTSTART:20260308T080000
END:DAYLIGHT
BEGIN:STANDARD
TZOFFSETFROM:-0500
TZOFFSETTO:-0600
TZNAME:CST
DTSTART:20261101T070000
END:STANDARD
END:VTIMEZONE
BEGIN:VEVENT
DTSTART;TZID=America/Chicago:20250711T190000
DTEND;TZID=America/Chicago:20250711T210000
DTSTAMP:20260423T235950
CREATED:20250701T172743Z
LAST-MODIFIED:20250701T172918Z
UID:30697-1752260400-1752267600@carrollfirst.com
SUMMARY:Family Movie Night
DESCRIPTION:Friday\, July 11th at 7:00 PM Join us for a free and fun evening!  We’ll be showing a recently released animated Christian film that the whole family will enjoy!  Youth group will running a concession stand  with proceeds going to the mission trip. \n\n 
URL:http://carrollfirst.com/event/family-movie-night-2/
LOCATION:Discover Church\, 18632 U. S. Hwy 71\, Carroll\, IA\, 51401-8796\, United States
END:VEVENT
BEGIN:VEVENT
DTSTART;VALUE=DATE:20250718
DTEND;VALUE=DATE:20250722
DTSTAMP:20260423T235950
CREATED:20250701T173010Z
LAST-MODIFIED:20250701T173010Z
UID:30699-1752796800-1753142399@carrollfirst.com
SUMMARY:Kids Camp
DESCRIPTION:
URL:http://carrollfirst.com/event/kids-camp-4/
END:VEVENT
BEGIN:VEVENT
DTSTART;TZID=America/Chicago:20250723T113000
DTEND;TZID=America/Chicago:20250723T133000
DTSTAMP:20260423T235950
CREATED:20250701T182116Z
LAST-MODIFIED:20250701T182116Z
UID:30704-1753270200-1753277400@carrollfirst.com
SUMMARY:Senior Lunch
DESCRIPTION:Join Pastor Dave\, Ashley\, and Craig for lunch!!
URL:http://carrollfirst.com/event/senior-lunch-50/
LOCATION:Jalisco\, 425 Hwy 30\, Carroll\, IA\, 51401
END:VEVENT
END:VCALENDAR