BEGIN:VCALENDAR
VERSION:2.0
PRODID:-//Carroll First Church - ECPv6.15.20//NONSGML v1.0//EN
CALSCALE:GREGORIAN
METHOD:PUBLISH
X-WR-CALNAME:Carroll First Church
X-ORIGINAL-URL:http://carrollfirst.com
X-WR-CALDESC:Events for Carroll First Church
REFRESH-INTERVAL;VALUE=DURATION:PT1H
X-Robots-Tag:noindex
X-PUBLISHED-TTL:PT1H
BEGIN:VTIMEZONE
TZID:America/Chicago
BEGIN:DAYLIGHT
TZOFFSETFROM:-0600
TZOFFSETTO:-0500
TZNAME:CDT
DTSTART:20240310T080000
END:DAYLIGHT
BEGIN:STANDARD
TZOFFSETFROM:-0500
TZOFFSETTO:-0600
TZNAME:CST
DTSTART:20241103T070000
END:STANDARD
BEGIN:DAYLIGHT
TZOFFSETFROM:-0600
TZOFFSETTO:-0500
TZNAME:CDT
DTSTART:20250309T080000
END:DAYLIGHT
BEGIN:STANDARD
TZOFFSETFROM:-0500
TZOFFSETTO:-0600
TZNAME:CST
DTSTART:20251102T070000
END:STANDARD
BEGIN:DAYLIGHT
TZOFFSETFROM:-0600
TZOFFSETTO:-0500
TZNAME:CDT
DTSTART:20260308T080000
END:DAYLIGHT
BEGIN:STANDARD
TZOFFSETFROM:-0500
TZOFFSETTO:-0600
TZNAME:CST
DTSTART:20261101T070000
END:STANDARD
END:VTIMEZONE
BEGIN:VEVENT
DTSTART;VALUE=DATE:20250823
DTEND;VALUE=DATE:20250824
DTSTAMP:20260423T222112
CREATED:20250814T205406Z
LAST-MODIFIED:20250814T205406Z
UID:30710-1755907200-1755993599@carrollfirst.com
SUMMARY:Help with Foster Night Out
DESCRIPTION:Foster Night Out at Des Moines Emmaus Church
URL:http://carrollfirst.com/event/help-with-foster-night-out/
END:VEVENT
BEGIN:VEVENT
DTSTART;TZID=America/Chicago:20250824T140000
DTEND;TZID=America/Chicago:20250824T160000
DTSTAMP:20260423T222112
CREATED:20250814T205458Z
LAST-MODIFIED:20250814T205458Z
UID:30712-1756044000-1756051200@carrollfirst.com
SUMMARY:Diaper Raffle
DESCRIPTION:Tim & Michaela will be hosting a diaper raffle in the church gym for anyone that wants to join! It will be August 24th at 2 pm. Can bring diapers and/or wipes to enter into the prize raffles. \n\n 
URL:http://carrollfirst.com/event/diaper-raffle/
LOCATION:Discover Church\, 18632 U. S. Hwy 71\, Carroll\, IA\, 51401-8796\, United States
END:VEVENT
BEGIN:VEVENT
DTSTART;TZID=America/Chicago:20250827T113000
DTEND;TZID=America/Chicago:20250827T123000
DTSTAMP:20260423T222112
CREATED:20250814T205234Z
LAST-MODIFIED:20250814T205234Z
UID:30707-1756294200-1756297800@carrollfirst.com
SUMMARY:Senior Lunch
DESCRIPTION:Join Craig for lunch at Pizza Ranch!!
URL:http://carrollfirst.com/event/senior-lunch-51/
LOCATION:Pizza Ranch\, 425 US 30 #130\, Carroll\, IA\, 51401\, United States
END:VEVENT
END:VCALENDAR