BEGIN:VCALENDAR
VERSION:2.0
PRODID:-//Carroll First Church - ECPv6.15.20//NONSGML v1.0//EN
CALSCALE:GREGORIAN
METHOD:PUBLISH
X-ORIGINAL-URL:http://carrollfirst.com
X-WR-CALDESC:Events for Carroll First Church
REFRESH-INTERVAL;VALUE=DURATION:PT1H
X-Robots-Tag:noindex
X-PUBLISHED-TTL:PT1H
BEGIN:VTIMEZONE
TZID:America/Chicago
BEGIN:DAYLIGHT
TZOFFSETFROM:-0600
TZOFFSETTO:-0500
TZNAME:CDT
DTSTART:20240310T080000
END:DAYLIGHT
BEGIN:STANDARD
TZOFFSETFROM:-0500
TZOFFSETTO:-0600
TZNAME:CST
DTSTART:20241103T070000
END:STANDARD
BEGIN:DAYLIGHT
TZOFFSETFROM:-0600
TZOFFSETTO:-0500
TZNAME:CDT
DTSTART:20250309T080000
END:DAYLIGHT
BEGIN:STANDARD
TZOFFSETFROM:-0500
TZOFFSETTO:-0600
TZNAME:CST
DTSTART:20251102T070000
END:STANDARD
BEGIN:DAYLIGHT
TZOFFSETFROM:-0600
TZOFFSETTO:-0500
TZNAME:CDT
DTSTART:20260308T080000
END:DAYLIGHT
BEGIN:STANDARD
TZOFFSETFROM:-0500
TZOFFSETTO:-0600
TZNAME:CST
DTSTART:20261101T070000
END:STANDARD
END:VTIMEZONE
BEGIN:VEVENT
DTSTART;TZID=America/Chicago:20250910T183000
DTEND;TZID=America/Chicago:20250910T200000
DTSTAMP:20260423T204316
CREATED:20250814T205539Z
LAST-MODIFIED:20250814T205539Z
UID:30714-1757529000-1757534400@carrollfirst.com
SUMMARY:Wednesday Night Activities
DESCRIPTION:Start Back Up!
URL:http://carrollfirst.com/event/wednesday-night-activities-62/
LOCATION:Discover Church\, 18632 U. S. Hwy 71\, Carroll\, IA\, 51401-8796\, United States
END:VEVENT
BEGIN:VEVENT
DTSTART;TZID=America/Chicago:20250915T080000
DTEND;TZID=America/Chicago:20250915T170000
DTSTAMP:20260423T204316
CREATED:20250701T173124Z
LAST-MODIFIED:20250701T173124Z
UID:30701-1757923200-1757955600@carrollfirst.com
SUMMARY:Swing for Freedom Golf Event
DESCRIPTION:Swing for Freedom Golf Outing to support Wings of Refuge is Monday\, September 15th at Cedar Pointe Golf Course in Boone\, IA. Cost is $125 per golfer.  Please talk with Pastor Dave if you are interested in golfing or volunteering for the event. \n\n 
URL:http://carrollfirst.com/event/swing-for-freedom-golf-event-3/
END:VEVENT
BEGIN:VEVENT
DTSTART;TZID=America/Chicago:20250915T080000
DTEND;TZID=America/Chicago:20250915T170000
DTSTAMP:20260423T204316
CREATED:20250915T203552Z
LAST-MODIFIED:20250915T203552Z
UID:30736-1757923200-1757955600@carrollfirst.com
SUMMARY:NO Wednesday Night Activities
DESCRIPTION:Thanksgiving Break
URL:http://carrollfirst.com/event/no-wednesday-night-activities-16/
END:VEVENT
BEGIN:VEVENT
DTSTART;TZID=America/Chicago:20250917T183000
DTEND;TZID=America/Chicago:20250917T200000
DTSTAMP:20260423T204316
CREATED:20250915T202841Z
LAST-MODIFIED:20250915T202841Z
UID:30722-1758133800-1758139200@carrollfirst.com
SUMMARY:Wednesday Night Activities
DESCRIPTION:Kids Connect( K-4)\n\n\n\n56’ers (5th & 6th grade)\nYouth Church (7-12)\nAdult Group –  discussion and prayer
URL:http://carrollfirst.com/event/wednesday-night-activities-64/
LOCATION:Discover Church\, 18632 U. S. Hwy 71\, Carroll\, IA\, 51401-8796\, United States
END:VEVENT
BEGIN:VEVENT
DTSTART;TZID=America/Chicago:20250924T113000
DTEND;TZID=America/Chicago:20250924T123000
DTSTAMP:20260423T204316
CREATED:20250904T205556Z
LAST-MODIFIED:20250904T205556Z
UID:30717-1758713400-1758717000@carrollfirst.com
SUMMARY:Senior Lunch
DESCRIPTION:Join Pastor Dave\, Ashley\, and Craig for lunch!!!
URL:http://carrollfirst.com/event/senior-lunch-52/
LOCATION:Family Table\, 1525 Radiant Rd.\, Carroll\, IA\, 51401\, United States
END:VEVENT
BEGIN:VEVENT
DTSTART;TZID=America/Chicago:20250924T183000
DTEND;TZID=America/Chicago:20250924T200000
DTSTAMP:20260423T204316
CREATED:20250915T202920Z
LAST-MODIFIED:20250915T202920Z
UID:30724-1758738600-1758744000@carrollfirst.com
SUMMARY:Wednesday Night Activities
DESCRIPTION:Kids Connect( K-4)\n\n\n\n56’ers (5th & 6th grade)\nYouth Church (7-12)\nAdult Group –  discussion and prayer
URL:http://carrollfirst.com/event/wednesday-night-activities-65/
LOCATION:Discover Church\, 18632 U. S. Hwy 71\, Carroll\, IA\, 51401-8796\, United States
END:VEVENT
END:VCALENDAR