BEGIN:VCALENDAR
VERSION:2.0
PRODID:-//Carroll First Church - ECPv6.15.20//NONSGML v1.0//EN
CALSCALE:GREGORIAN
METHOD:PUBLISH
X-ORIGINAL-URL:http://carrollfirst.com
X-WR-CALDESC:Events for Carroll First Church
REFRESH-INTERVAL;VALUE=DURATION:PT1H
X-Robots-Tag:noindex
X-PUBLISHED-TTL:PT1H
BEGIN:VTIMEZONE
TZID:America/Chicago
BEGIN:DAYLIGHT
TZOFFSETFROM:-0600
TZOFFSETTO:-0500
TZNAME:CDT
DTSTART:20240310T080000
END:DAYLIGHT
BEGIN:STANDARD
TZOFFSETFROM:-0500
TZOFFSETTO:-0600
TZNAME:CST
DTSTART:20241103T070000
END:STANDARD
BEGIN:DAYLIGHT
TZOFFSETFROM:-0600
TZOFFSETTO:-0500
TZNAME:CDT
DTSTART:20250309T080000
END:DAYLIGHT
BEGIN:STANDARD
TZOFFSETFROM:-0500
TZOFFSETTO:-0600
TZNAME:CST
DTSTART:20251102T070000
END:STANDARD
BEGIN:DAYLIGHT
TZOFFSETFROM:-0600
TZOFFSETTO:-0500
TZNAME:CDT
DTSTART:20260308T080000
END:DAYLIGHT
BEGIN:STANDARD
TZOFFSETFROM:-0500
TZOFFSETTO:-0600
TZNAME:CST
DTSTART:20261101T070000
END:STANDARD
END:VTIMEZONE
BEGIN:VEVENT
DTSTART;TZID=America/Chicago:20251001T183000
DTEND;TZID=America/Chicago:20251001T200000
DTSTAMP:20260423T191033
CREATED:20250915T202959Z
LAST-MODIFIED:20250915T202959Z
UID:30726-1759343400-1759348800@carrollfirst.com
SUMMARY:Wednesday Night Activities
DESCRIPTION:Kids Connect( K-4)\n\n\n\n56’ers (5th & 6th grade)\nYouth Church (7-12)\nAdult Group –  discussion and prayer
URL:http://carrollfirst.com/event/wednesday-night-activities-66/
LOCATION:Discover Church\, 18632 U. S. Hwy 71\, Carroll\, IA\, 51401-8796\, United States
END:VEVENT
BEGIN:VEVENT
DTSTART;VALUE=DATE:20251005
DTEND;VALUE=DATE:20251006
DTSTAMP:20260423T191033
CREATED:20251002T192912Z
LAST-MODIFIED:20251002T192912Z
UID:30744-1759622400-1759708799@carrollfirst.com
SUMMARY:Church Vote
DESCRIPTION:
URL:http://carrollfirst.com/event/church-vote/
END:VEVENT
BEGIN:VEVENT
DTSTART;TZID=America/Chicago:20251008T183000
DTEND;TZID=America/Chicago:20251008T200000
DTSTAMP:20260423T191033
CREATED:20250915T203035Z
LAST-MODIFIED:20251002T192713Z
UID:30728-1759948200-1759953600@carrollfirst.com
SUMMARY:Wednesday Night Activities
DESCRIPTION:* Kids Connect & 56’ers –  6:30 – 8:00 PM at the church \n* Youth Church – Field of Faith Youth Event                   \nOctober 8th at 7:00 PM – Carroll Athletic Stadium Gates open at 6:15 PM                                                \nThis is a free event that features student led  worship and guest speakers  \n* Adult Group – discussion and prayer \n 
URL:http://carrollfirst.com/event/wednesday-night-activities-67/
LOCATION:Discover Church\, 18632 U. S. Hwy 71\, Carroll\, IA\, 51401-8796\, United States
END:VEVENT
BEGIN:VEVENT
DTSTART;TZID=America/Chicago:20251015T183000
DTEND;TZID=America/Chicago:20251015T200000
DTSTAMP:20260423T191033
CREATED:20250915T203212Z
LAST-MODIFIED:20250915T203212Z
UID:30730-1760553000-1760558400@carrollfirst.com
SUMMARY:Wednesday Night Activities
DESCRIPTION:Kids Connect( K-4)\n\n\n\n56’ers (5th & 6th grade)\nYouth Church (7-12)\nAdult Group –  discussion and prayer
URL:http://carrollfirst.com/event/wednesday-night-activities-63/
LOCATION:Discover Church\, 18632 U. S. Hwy 71\, Carroll\, IA\, 51401-8796\, United States
END:VEVENT
BEGIN:VEVENT
DTSTART;TZID=America/Chicago:20251022T113000
DTEND;TZID=America/Chicago:20251022T123000
DTSTAMP:20260423T191033
CREATED:20251002T192827Z
LAST-MODIFIED:20251002T192827Z
UID:30742-1761132600-1761136200@carrollfirst.com
SUMMARY:Senior Lunch
DESCRIPTION:Join Pastor Dave\, Ashley and Craig for lunch at the church.   Pastor Dave will be making soup!
URL:http://carrollfirst.com/event/senior-lunch-53/
LOCATION:Discover Church\, 18632 U. S. Hwy 71\, Carroll\, IA\, 51401-8796\, United States
END:VEVENT
BEGIN:VEVENT
DTSTART;TZID=America/Chicago:20251022T183000
DTEND;TZID=America/Chicago:20251022T200000
DTSTAMP:20260423T191033
CREATED:20250915T203342Z
LAST-MODIFIED:20250915T203342Z
UID:30734-1761157800-1761163200@carrollfirst.com
SUMMARY:Wednesday Night Activities
DESCRIPTION:Kids Connect( K-4)\n\n\n\n56’ers (5th & 6th grade)\nYouth Church (7-12)\nAdult Group –  discussion and prayer
URL:http://carrollfirst.com/event/wednesday-night-activities-69/
LOCATION:Discover Church\, 18632 U. S. Hwy 71\, Carroll\, IA\, 51401-8796\, United States
END:VEVENT
BEGIN:VEVENT
DTSTART;TZID=America/Chicago:20251026T103000
DTEND;TZID=America/Chicago:20251026T120000
DTSTAMP:20260423T191033
CREATED:20251009T210355Z
LAST-MODIFIED:20251009T210355Z
UID:30758-1761474600-1761480000@carrollfirst.com
SUMMARY:Guest Missionaries
DESCRIPTION:
URL:http://carrollfirst.com/event/guest-missionaries/
LOCATION:Discover Church\, 18632 U. S. Hwy 71\, Carroll\, IA\, 51401-8796\, United States
END:VEVENT
BEGIN:VEVENT
DTSTART;TZID=America/Chicago:20251029T183000
DTEND;TZID=America/Chicago:20251029T200000
DTSTAMP:20260423T191033
CREATED:20250915T203252Z
LAST-MODIFIED:20250915T203252Z
UID:30732-1761762600-1761768000@carrollfirst.com
SUMMARY:Wednesday Night Activities
DESCRIPTION:Kids Connect( K-4)\n\n\n\n56’ers (5th & 6th grade)\nYouth Church (7-12)\nAdult Group –  discussion and prayer
URL:http://carrollfirst.com/event/wednesday-night-activities-68/
LOCATION:Discover Church\, 18632 U. S. Hwy 71\, Carroll\, IA\, 51401-8796\, United States
END:VEVENT
END:VCALENDAR