BEGIN:VCALENDAR
VERSION:2.0
PRODID:-//Carroll First Church - ECPv6.15.20//NONSGML v1.0//EN
CALSCALE:GREGORIAN
METHOD:PUBLISH
X-ORIGINAL-URL:http://carrollfirst.com
X-WR-CALDESC:Events for Carroll First Church
REFRESH-INTERVAL;VALUE=DURATION:PT1H
X-Robots-Tag:noindex
X-PUBLISHED-TTL:PT1H
BEGIN:VTIMEZONE
TZID:America/Chicago
BEGIN:DAYLIGHT
TZOFFSETFROM:-0600
TZOFFSETTO:-0500
TZNAME:CDT
DTSTART:20240310T080000
END:DAYLIGHT
BEGIN:STANDARD
TZOFFSETFROM:-0500
TZOFFSETTO:-0600
TZNAME:CST
DTSTART:20241103T070000
END:STANDARD
BEGIN:DAYLIGHT
TZOFFSETFROM:-0600
TZOFFSETTO:-0500
TZNAME:CDT
DTSTART:20250309T080000
END:DAYLIGHT
BEGIN:STANDARD
TZOFFSETFROM:-0500
TZOFFSETTO:-0600
TZNAME:CST
DTSTART:20251102T070000
END:STANDARD
BEGIN:DAYLIGHT
TZOFFSETFROM:-0600
TZOFFSETTO:-0500
TZNAME:CDT
DTSTART:20260308T080000
END:DAYLIGHT
BEGIN:STANDARD
TZOFFSETFROM:-0500
TZOFFSETTO:-0600
TZNAME:CST
DTSTART:20261101T070000
END:STANDARD
END:VTIMEZONE
BEGIN:VEVENT
DTSTART;TZID=America/Chicago:20251102T103000
DTEND;TZID=America/Chicago:20251102T120000
DTSTAMP:20260423T173042
CREATED:20251009T210430Z
LAST-MODIFIED:20251009T210430Z
UID:30760-1762079400-1762084800@carrollfirst.com
SUMMARY:Discover Church Launch
DESCRIPTION:
URL:http://carrollfirst.com/event/discover-church-launch/
LOCATION:Discover Church\, 18632 U. S. Hwy 71\, Carroll\, IA\, 51401-8796\, United States
END:VEVENT
BEGIN:VEVENT
DTSTART;TZID=America/Chicago:20251105T183000
DTEND;TZID=America/Chicago:20251105T200000
DTSTAMP:20260423T173042
CREATED:20250915T203638Z
LAST-MODIFIED:20251002T194753Z
UID:30738-1762367400-1762372800@carrollfirst.com
SUMMARY:Wednesday Night Activities
DESCRIPTION:Kids Connect( K-4)\n\n\n\n56’ers (5th & 6th grade)\nYouth Church (7-12)\nAdult Group – worship
URL:http://carrollfirst.com/event/wednesday-night-activities-70/
LOCATION:Discover Church\, 18632 U. S. Hwy 71\, Carroll\, IA\, 51401-8796\, United States
END:VEVENT
BEGIN:VEVENT
DTSTART;TZID=America/Chicago:20251112T183000
DTEND;TZID=America/Chicago:20251112T200000
DTSTAMP:20260423T173042
CREATED:20251002T194302Z
LAST-MODIFIED:20251002T194407Z
UID:30746-1762972200-1762977600@carrollfirst.com
SUMMARY:Wednesday Night Activities
DESCRIPTION:Kids Connect( K-4)\n\n\n\n56’ers (5th & 6th grade)\nYouth Church (7-12)\nAdult Group –  discussion and prayer
URL:http://carrollfirst.com/event/wednesday-night-group-activities/
LOCATION:Discover Church\, 18632 U. S. Hwy 71\, Carroll\, IA\, 51401-8796\, United States
END:VEVENT
BEGIN:VEVENT
DTSTART;TZID=America/Chicago:20251116T103000
DTEND;TZID=America/Chicago:20251116T120000
DTSTAMP:20260423T173042
CREATED:20251009T210507Z
LAST-MODIFIED:20251009T210507Z
UID:30762-1763289000-1763294400@carrollfirst.com
SUMMARY:The Story of Hope
DESCRIPTION:
URL:http://carrollfirst.com/event/the-story-of-hope/
LOCATION:Discover Church\, 18632 U. S. Hwy 71\, Carroll\, IA\, 51401-8796\, United States
END:VEVENT
BEGIN:VEVENT
DTSTART;TZID=America/Chicago:20251119T080000
DTEND;TZID=America/Chicago:20251119T170000
DTSTAMP:20260423T173042
CREATED:20251002T194458Z
LAST-MODIFIED:20251002T194458Z
UID:30749-1763539200-1763571600@carrollfirst.com
SUMMARY:Wednesday Night Activities
DESCRIPTION:Kids Connect( K-4)\n\n\n\n56’ers (5th & 6th grade)\nYouth Church (7-12)\nAdult Group –  discussion and prayer
URL:http://carrollfirst.com/event/wednesday-night-activities-71/
LOCATION:Discover Church\, 18632 U. S. Hwy 71\, Carroll\, IA\, 51401-8796\, United States
END:VEVENT
BEGIN:VEVENT
DTSTART;VALUE=DATE:20251121
DTEND;VALUE=DATE:20251123
DTSTAMP:20260423T173042
CREATED:20251120T223033Z
LAST-MODIFIED:20251120T223033Z
UID:30840-1763683200-1763855999@carrollfirst.com
SUMMARY:Youth Fall Convention
DESCRIPTION:
URL:http://carrollfirst.com/event/youth-fall-convention-2/
END:VEVENT
BEGIN:VEVENT
DTSTART;TZID=America/Chicago:20251123T120000
DTEND;TZID=America/Chicago:20251123T140000
DTSTAMP:20260423T173042
CREATED:20251009T210641Z
LAST-MODIFIED:20251009T210641Z
UID:30764-1763899200-1763906400@carrollfirst.com
SUMMARY:Church Pot Luck &  Chili
DESCRIPTION:
URL:http://carrollfirst.com/event/church-pot-luck-chili/
LOCATION:Discover Church\, 18632 U. S. Hwy 71\, Carroll\, IA\, 51401-8796\, United States
END:VEVENT
BEGIN:VEVENT
DTSTART;VALUE=DATE:20251126
DTEND;VALUE=DATE:20251127
DTSTAMP:20260423T173042
CREATED:20251002T194615Z
LAST-MODIFIED:20251002T194615Z
UID:30751-1764115200-1764201599@carrollfirst.com
SUMMARY:No Wednesday Night Activities
DESCRIPTION:Thanksgiving Break
URL:http://carrollfirst.com/event/no-wednesday-night-activities-17/
END:VEVENT
BEGIN:VEVENT
DTSTART;VALUE=DATE:20251127
DTEND;VALUE=DATE:20251128
DTSTAMP:20260423T173042
CREATED:20251002T194858Z
LAST-MODIFIED:20251002T194858Z
UID:30756-1764201600-1764287999@carrollfirst.com
SUMMARY:Thanksgiving
DESCRIPTION:
URL:http://carrollfirst.com/event/thanksgiving-2/
END:VEVENT
END:VCALENDAR