BEGIN:VCALENDAR
VERSION:2.0
PRODID:-//Carroll First Church - ECPv6.15.20//NONSGML v1.0//EN
CALSCALE:GREGORIAN
METHOD:PUBLISH
X-ORIGINAL-URL:http://carrollfirst.com
X-WR-CALDESC:Events for Carroll First Church
REFRESH-INTERVAL;VALUE=DURATION:PT1H
X-Robots-Tag:noindex
X-PUBLISHED-TTL:PT1H
BEGIN:VTIMEZONE
TZID:America/Chicago
BEGIN:DAYLIGHT
TZOFFSETFROM:-0600
TZOFFSETTO:-0500
TZNAME:CDT
DTSTART:20250309T080000
END:DAYLIGHT
BEGIN:STANDARD
TZOFFSETFROM:-0500
TZOFFSETTO:-0600
TZNAME:CST
DTSTART:20251102T070000
END:STANDARD
BEGIN:DAYLIGHT
TZOFFSETFROM:-0600
TZOFFSETTO:-0500
TZNAME:CDT
DTSTART:20260308T080000
END:DAYLIGHT
BEGIN:STANDARD
TZOFFSETFROM:-0500
TZOFFSETTO:-0600
TZNAME:CST
DTSTART:20261101T070000
END:STANDARD
BEGIN:DAYLIGHT
TZOFFSETFROM:-0600
TZOFFSETTO:-0500
TZNAME:CDT
DTSTART:20270314T080000
END:DAYLIGHT
BEGIN:STANDARD
TZOFFSETFROM:-0500
TZOFFSETTO:-0600
TZNAME:CST
DTSTART:20271107T070000
END:STANDARD
END:VTIMEZONE
BEGIN:VEVENT
DTSTART;VALUE=DATE:20260107
DTEND;VALUE=DATE:20260108
DTSTAMP:20260423T140830
CREATED:20260102T211522Z
LAST-MODIFIED:20260102T211522Z
UID:30851-1767744000-1767830399@carrollfirst.com
SUMMARY:No Wednesday Night Activities
DESCRIPTION:
URL:http://carrollfirst.com/event/no-wednesday-night-activities-18/
END:VEVENT
BEGIN:VEVENT
DTSTART;TZID=America/Chicago:20260114T183000
DTEND;TZID=America/Chicago:20260114T200000
DTSTAMP:20260423T140830
CREATED:20260102T211559Z
LAST-MODIFIED:20260102T211655Z
UID:30853-1768415400-1768420800@carrollfirst.com
SUMMARY:Wednesday Night Activities
DESCRIPTION:Kids Connect( K-4)\n\n\n\n56’ers (5th & 6th grade)\nYouth Church (7-12)\nAdult Group –  Worship
URL:http://carrollfirst.com/event/wednesday-night-activities-73/
LOCATION:Discover Church\, 18632 U. S. Hwy 71\, Carroll\, IA\, 51401-8796\, United States
END:VEVENT
BEGIN:VEVENT
DTSTART;TZID=America/Chicago:20260121T183000
DTEND;TZID=America/Chicago:20260121T200000
DTSTAMP:20260423T140830
CREATED:20260102T211748Z
LAST-MODIFIED:20260102T211748Z
UID:30856-1769020200-1769025600@carrollfirst.com
SUMMARY:Wednesday Night Activities
DESCRIPTION:Kids Connect( K-4)\n\n\n\n56’ers (5th & 6th grade)\nYouth Church (7-12)\nAdult Group –  discussion and prayer
URL:http://carrollfirst.com/event/wednesday-night-activities-74/
LOCATION:Discover Church\, 18632 U. S. Hwy 71\, Carroll\, IA\, 51401-8796\, United States
END:VEVENT
BEGIN:VEVENT
DTSTART;VALUE=DATE:20260123
DTEND;VALUE=DATE:20260125
DTSTAMP:20260423T140830
CREATED:20260102T212132Z
LAST-MODIFIED:20260102T212132Z
UID:30862-1769126400-1769299199@carrollfirst.com
SUMMARY:Men's Advance Weekend
DESCRIPTION:Speaker – Pastor Dan Herod
URL:http://carrollfirst.com/event/mens-advance-weekend/
LOCATION:Swan Lake Eastside Shelter House\, Carroll\, IA\, 51401\, United States
END:VEVENT
BEGIN:VEVENT
DTSTART;TZID=America/Chicago:20260128T113000
DTEND;TZID=America/Chicago:20260128T123000
DTSTAMP:20260423T140830
CREATED:20260102T211135Z
LAST-MODIFIED:20260102T211135Z
UID:30849-1769599800-1769603400@carrollfirst.com
SUMMARY:Senior Lunch
DESCRIPTION:Join Pastor Dave\, Ashley\, and Craig for lunch!
URL:http://carrollfirst.com/event/senior-lunch-55/
LOCATION:Pizza Ranch\, 425 US 30 #130\, Carroll\, IA\, 51401\, United States
END:VEVENT
BEGIN:VEVENT
DTSTART;TZID=America/Chicago:20260128T183000
DTEND;TZID=America/Chicago:20260128T200000
DTSTAMP:20260423T140830
CREATED:20260102T211833Z
LAST-MODIFIED:20260102T211833Z
UID:30858-1769625000-1769630400@carrollfirst.com
SUMMARY:Wednesday Night Activities
DESCRIPTION:Kids Connect( K-4)\n\n\n\n56’ers (5th & 6th grade)\nYouth Church (7-12)\nAdult Group –  discussion and prayer
URL:http://carrollfirst.com/event/wednesday-night-activities-75/
LOCATION:Discover Church\, 18632 U. S. Hwy 71\, Carroll\, IA\, 51401-8796\, United States
END:VEVENT
END:VCALENDAR